BEGIN:VCALENDAR
VERSION:2.0
PRODID:-//Listeso Music Group - A Boutique String Quartet Agency - ECPv6.15.20//NONSGML v1.0//EN
CALSCALE:GREGORIAN
METHOD:PUBLISH
X-WR-CALNAME:Listeso Music Group - A Boutique String Quartet Agency
X-ORIGINAL-URL:https://www.listeso.com
X-WR-CALDESC:Events for Listeso Music Group - A Boutique String Quartet Agency
REFRESH-INTERVAL;VALUE=DURATION:PT1H
X-Robots-Tag:noindex
X-PUBLISHED-TTL:PT1H
BEGIN:VTIMEZONE
TZID:America/Chicago
BEGIN:DAYLIGHT
TZOFFSETFROM:-0600
TZOFFSETTO:-0500
TZNAME:CDT
DTSTART:20240310T080000
END:DAYLIGHT
BEGIN:STANDARD
TZOFFSETFROM:-0500
TZOFFSETTO:-0600
TZNAME:CST
DTSTART:20241103T070000
END:STANDARD
BEGIN:DAYLIGHT
TZOFFSETFROM:-0600
TZOFFSETTO:-0500
TZNAME:CDT
DTSTART:20250309T080000
END:DAYLIGHT
BEGIN:STANDARD
TZOFFSETFROM:-0500
TZOFFSETTO:-0600
TZNAME:CST
DTSTART:20251102T070000
END:STANDARD
BEGIN:DAYLIGHT
TZOFFSETFROM:-0600
TZOFFSETTO:-0500
TZNAME:CDT
DTSTART:20260308T080000
END:DAYLIGHT
BEGIN:STANDARD
TZOFFSETFROM:-0500
TZOFFSETTO:-0600
TZNAME:CST
DTSTART:20261101T070000
END:STANDARD
END:VTIMEZONE
BEGIN:VEVENT
DTSTART;TZID=America/Chicago:20251005T183000
DTEND;TZID=America/Chicago:20251005T193500
DTSTAMP:20260421T191121
CREATED:20251005T151943Z
LAST-MODIFIED:20251005T151943Z
UID:21656-1759689000-1759692900@www.listeso.com
SUMMARY:Candlelight: Tribute to Queen
DESCRIPTION:Overview\nCandlelight concerts bring the magic of a live\, multi-sensory musical experience to awe-inspiring locations like never seen before in Chicago. Get your tickets now to discover the music of Queen at Stan Mansion under the gentle glow of candlelight. \nGeneral Info\n\n📍 Venue: Stan Mansion\n⏳ Duration: 65 minutes. Doors open 45 minutes before the show and close 5 minutes prior to the start. Late arrivals will not be permitted\n👤 Age requirement: 8 years old or older. Anyone under the age of 16 must be accompanied by an adult\n♿ Accessibility: This venue is not ADA compliant\n🪑 Seating: Seating is assigned on a first come first served basis in each zone\n\nTentative Program\n\nWe Will Rock You\nBicycle Race\nUnder Pressure\nAnother One Bites the Dust\nYou’re My Best Friend\nLove of My Life\nFat Bottomed Girls\nKiller Queen\nCrazy Little Thing Called Love\nBohemian Rhapsody\nWe Are the Champions\nSomebody to Love\nDon’t Stop Me Now\n\nPerformers\n🎻 October 5\, October 10\, December 19\, January 9 2026 – Listeso String Quartet \n🎻 November 14\, November 22\, December 14\, January 16\, March 13\, April 17 (2026) – Metropolis String Quartet \nBook a Private Event\nLooking to create an unforgettable experience for your wedding\, or special occasion? We offer private event bookings with customized programs tailored to your needs. \nGet a quote
URL:https://www.listeso.com/concert/2025-10-05-stan-mansion-candlelight-tribute-to-queen/
LOCATION:Stan Mansion\, Chicago\, IL\, United States
CATEGORIES:Chicago, IL
ATTACH;FMTTYPE=image/jpeg:https://www.listeso.com/wp-content/uploads/2025/10/02d31cfe-1940-11f0-a825-56c21721c770-2MNiXj.jpg
END:VEVENT
END:VCALENDAR