BEGIN:VCALENDAR
VERSION:2.0
PRODID:-//Listeso Music Group - A Boutique String Quartet Agency - ECPv6.15.20//NONSGML v1.0//EN
CALSCALE:GREGORIAN
METHOD:PUBLISH
X-WR-CALNAME:Listeso Music Group - A Boutique String Quartet Agency
X-ORIGINAL-URL:https://www.listeso.com
X-WR-CALDESC:Events for Listeso Music Group - A Boutique String Quartet Agency
REFRESH-INTERVAL;VALUE=DURATION:PT1H
X-Robots-Tag:noindex
X-PUBLISHED-TTL:PT1H
BEGIN:VTIMEZONE
TZID:America/Anchorage
BEGIN:DAYLIGHT
TZOFFSETFROM:-0900
TZOFFSETTO:-0800
TZNAME:AKDT
DTSTART:20240310T110000
END:DAYLIGHT
BEGIN:STANDARD
TZOFFSETFROM:-0800
TZOFFSETTO:-0900
TZNAME:AKST
DTSTART:20241103T100000
END:STANDARD
BEGIN:DAYLIGHT
TZOFFSETFROM:-0900
TZOFFSETTO:-0800
TZNAME:AKDT
DTSTART:20250309T110000
END:DAYLIGHT
BEGIN:STANDARD
TZOFFSETFROM:-0800
TZOFFSETTO:-0900
TZNAME:AKST
DTSTART:20251102T100000
END:STANDARD
BEGIN:DAYLIGHT
TZOFFSETFROM:-0900
TZOFFSETTO:-0800
TZNAME:AKDT
DTSTART:20260308T110000
END:DAYLIGHT
BEGIN:STANDARD
TZOFFSETFROM:-0800
TZOFFSETTO:-0900
TZNAME:AKST
DTSTART:20261101T100000
END:STANDARD
END:VTIMEZONE
BEGIN:VEVENT
DTSTART;TZID=America/Anchorage:20251009T210000
DTEND;TZID=America/Anchorage:20251009T220000
DTSTAMP:20260421T084150
CREATED:20251001T170521Z
LAST-MODIFIED:20251001T170521Z
UID:21526-1760043600-1760047200@www.listeso.com
SUMMARY:Candlelight: Rings and Dragons
DESCRIPTION:Overview\nCandlelight concerts bring the magic of a live\, multi-sensory musical experience to awe-inspiring locations like never seen before in Anchorage. Discover the music of Rings and Dragons at 49th State Brewing – Anchorage under the gentle glow of candlelight. \nGeneral Info\n\n⏳ Duration: 60 minutes. Doors open 60 minutes before the show and close 5 minutes prior to the start. Late arrivals will not be permitted\n👤 Age requirement: 8 years old or older. Anyone under the age of 16 must be accompanied by an adult\n♿ Accessibility: The venue is fully accessible\n🪑 Seating: Seating is assigned on a first come first served basis in each zone\n\nProgram\nThemes from The Lord of the Rings by Howard Shore: \n\nThe Shire\nGollum\nThe Caverns of Isengard\nFlaming Red Hair\nThe Passing of the Elves\nSaruman the White\nRivendell\nThe Lighting of the Beacons\nThe Sacrifice of Faramir\nThe Grace of Undómiel\n\nThemes from Game of Thrones by Ramin Djawadi: \n\nMain Theme\nWinter Is Coming\nFire and Blood\nRains of Castamere\nLight of the Seven\nBastard\n\nPerformers\n🎻 Listeso String Quartet \nBook a Private Event\nLooking to create an unforgettable experience for your team\, clients\, or special occasion? We offer private event bookings with customized programs tailored to your needs. \nGet a Quote for Your Private Event
URL:https://www.listeso.com/concert/2025-10-09-49th-state-brewing-anchorage-candlelight-rings-and-dragons/
LOCATION:49th State Brewing – Anchorage\, Anchorage\, AK\, United States
CATEGORIES:Anchorage, AK
ATTACH;FMTTYPE=image/jpeg:https://www.listeso.com/wp-content/uploads/2025/10/56fd8288-408c-11f0-90d3-661e8c2b7a0b-VtxvU3.jpg
END:VEVENT
END:VCALENDAR