BEGIN:VCALENDAR
VERSION:2.0
PRODID:-//Listeso Music Group - A Boutique String Quartet Agency - ECPv6.15.20//NONSGML v1.0//EN
CALSCALE:GREGORIAN
METHOD:PUBLISH
X-WR-CALNAME:Listeso Music Group - A Boutique String Quartet Agency
X-ORIGINAL-URL:https://www.listeso.com
X-WR-CALDESC:Events for Listeso Music Group - A Boutique String Quartet Agency
REFRESH-INTERVAL;VALUE=DURATION:PT1H
X-Robots-Tag:noindex
X-PUBLISHED-TTL:PT1H
BEGIN:VTIMEZONE
TZID:America/New_York
BEGIN:DAYLIGHT
TZOFFSETFROM:-0500
TZOFFSETTO:-0400
TZNAME:EDT
DTSTART:20240310T070000
END:DAYLIGHT
BEGIN:STANDARD
TZOFFSETFROM:-0400
TZOFFSETTO:-0500
TZNAME:EST
DTSTART:20241103T060000
END:STANDARD
BEGIN:DAYLIGHT
TZOFFSETFROM:-0500
TZOFFSETTO:-0400
TZNAME:EDT
DTSTART:20250309T070000
END:DAYLIGHT
BEGIN:STANDARD
TZOFFSETFROM:-0400
TZOFFSETTO:-0500
TZNAME:EST
DTSTART:20251102T060000
END:STANDARD
BEGIN:DAYLIGHT
TZOFFSETFROM:-0500
TZOFFSETTO:-0400
TZNAME:EDT
DTSTART:20260308T070000
END:DAYLIGHT
BEGIN:STANDARD
TZOFFSETFROM:-0400
TZOFFSETTO:-0500
TZNAME:EST
DTSTART:20261101T060000
END:STANDARD
END:VTIMEZONE
BEGIN:VEVENT
DTSTART;TZID=America/New_York:20251011T204500
DTEND;TZID=America/New_York:20251011T214500
DTSTAMP:20260421T201437
CREATED:20251001T012114Z
LAST-MODIFIED:20251001T012114Z
UID:21495-1760215500-1760219100@www.listeso.com
SUMMARY:Candlelight: Neo-Soul and Hip-Hop Favorites
DESCRIPTION:Overview\nCandlelight concerts bring the magic of a live\, multi-sensory musical experience to awe-inspiring locations like never seen before in Charlotte. Get your tickets now to discover the music of Neo-Soul and Hip-Hop Favorites at Great Aunt Stella Center under the gentle glow of candlelight. \nGeneral Info\n\n⏳ Duration: 60 minutes. Doors open 45 minutes before the show and close 5 minutes prior to the start. Late arrivals will not be permitted\n👤 Age requirement: 8 years old or older. Anyone under the age of 16 must be accompanied by an adult\n♿ Accessibility: ADA compliant\n🪑 Seating: Seating is assigned on a first come first served basis in each zone\n\nTentative Program\n\nSZA – Good Days\nLauryn Hill – Ex-Factor\nSolange – Don’t Touch My Hair\nMiguel – Adorn\nFrank Ocean – Thinkin Bout You\nPrince – Purple Rain\nSade – Smooth Operator\nD’Angelo – Untitled (How Does It Feel)\nChildish Gambino – Redbone\nH.E.R. – The Best Part\nAlicia Keys – You Don’t Know My Name\nBoyz II Men – End of the Road\n\nPerformers\n🎻 String Quartet – Listeso \nBook a Private Event\nLooking to create an unforgettable experience for your team\, clients\, or special occasion? We offer private event bookings with customized programs tailored to your needs. \nGet a Quote for Your Private Event
URL:https://www.listeso.com/concert/2025-10-11-great-aunt-stella-center-neo-soul-and-hip-hop-favorites/
LOCATION:Great Aunt Stella Center\, Charlotte\, NC\, United States
CATEGORIES:Charlotte, NC
ATTACH;FMTTYPE=image/jpeg:https://www.listeso.com/wp-content/uploads/2025/10/850e7bec-146c-11f0-8c20-560fcd616747-zSYn3n.jpg
END:VEVENT
END:VCALENDAR