BEGIN:VCALENDAR
VERSION:2.0
PRODID:-//Listeso Music Group - A Boutique String Quartet Agency - ECPv6.15.20//NONSGML v1.0//EN
CALSCALE:GREGORIAN
METHOD:PUBLISH
X-WR-CALNAME:Listeso Music Group - A Boutique String Quartet Agency
X-ORIGINAL-URL:https://www.listeso.com
X-WR-CALDESC:Events for Listeso Music Group - A Boutique String Quartet Agency
REFRESH-INTERVAL;VALUE=DURATION:PT1H
X-Robots-Tag:noindex
X-PUBLISHED-TTL:PT1H
BEGIN:VTIMEZONE
TZID:America/New_York
BEGIN:DAYLIGHT
TZOFFSETFROM:-0500
TZOFFSETTO:-0400
TZNAME:EDT
DTSTART:20240310T070000
END:DAYLIGHT
BEGIN:STANDARD
TZOFFSETFROM:-0400
TZOFFSETTO:-0500
TZNAME:EST
DTSTART:20241103T060000
END:STANDARD
BEGIN:DAYLIGHT
TZOFFSETFROM:-0500
TZOFFSETTO:-0400
TZNAME:EDT
DTSTART:20250309T070000
END:DAYLIGHT
BEGIN:STANDARD
TZOFFSETFROM:-0400
TZOFFSETTO:-0500
TZNAME:EST
DTSTART:20251102T060000
END:STANDARD
BEGIN:DAYLIGHT
TZOFFSETFROM:-0500
TZOFFSETTO:-0400
TZNAME:EDT
DTSTART:20260308T070000
END:DAYLIGHT
BEGIN:STANDARD
TZOFFSETFROM:-0400
TZOFFSETTO:-0500
TZNAME:EST
DTSTART:20261101T060000
END:STANDARD
END:VTIMEZONE
BEGIN:VEVENT
DTSTART;TZID=America/New_York:20251024T180000
DTEND;TZID=America/New_York:20251024T190000
DTSTAMP:20260421T115939
CREATED:20251001T010817Z
LAST-MODIFIED:20251001T010817Z
UID:21393-1761328800-1761332400@www.listeso.com
SUMMARY:Candlelight: A Haunted Evening of Halloween Classics
DESCRIPTION:Overview\nCandlelight concerts bring the magic of a live\, multi-sensory musical experience to awe-inspiring locations like never seen before in Atlantic City. Get your tickets now to discover music inspired by Halloween at Resorts Casino Hotel in the Horizon Ballroom under the gentle glow of candlelight. \nGeneral Info\n\n📍 Venue: Resorts Casino Hotel – Horizon Ballroom\n⏳ Duration: 60 minutes. Doors open 60 minutes before the show and close 5 minutes prior to the start. Late arrivals will not be permitted\n👤 Age requirement: 8 years old or older. Anyone under the age of 16 must be accompanied by an adult\n♿ Accessibility: This venue is ADA compliant\n🪑 Seating: Seating is assigned on a first come first served basis in each zone\n\nTentative Program\n\nThriller – Michael Jackson\nFuneral March of a Marionette – Charles Gounod\nString Quartet No. 8 in C Minor (Dresden Quartet)\, Op. 110: II. Allegro Molto – Dmitri Shostakovich\nTubular Bells (Theme from The Exorcist) – Mike Oldfield\nStranger Things (Theme) – S U R V I V E\nBeetlejuice (Theme) – Danny Elfman\nThe Addams Family (Theme) – Vic Mizzy\nHalloween (Theme) – John Carpenter\nPrelude from Psycho – Bernard Herrmann\nGhostbusters (Theme) – Ray Parker Jr.\nDanse Macabre – Camille Saint-Saëns\nNight on Bald Mountain – Modest Mussorgsky\nTime Warp from The Rocky Horror Picture Show – Richard O’Brien and Richard Hartley\nMedley from The Nightmare Before Christmas – Danny Elfman\n\nPerformers\n🎻 Listeso String Quartet \nBook a Private Event\nLooking to create an unforgettable experience for your team\, clients\, or special occasion? We offer private event bookings with customized programs tailored to your needs. \nGet a Quote for Your Private Event
URL:https://www.listeso.com/concert/2025-10-24-resorts-casino-hotel-horizon-ballroom-candlelight-a-haunted-evening-of-halloween-classics/
LOCATION:Resorts Casino Hotel – Horizon Ballroom\, Atlantic City\, NJ\, United States
CATEGORIES:Atlantic City, NJ
ATTACH;FMTTYPE=image/jpeg:https://www.listeso.com/wp-content/uploads/2025/10/9c1f3eb6-3ba4-11f0-9336-8eeeae356744-2qUQ03.jpg
END:VEVENT
END:VCALENDAR