BEGIN:VCALENDAR
VERSION:2.0
PRODID:-//Listeso Music Group - A Boutique String Quartet Agency - ECPv6.15.20//NONSGML v1.0//EN
CALSCALE:GREGORIAN
METHOD:PUBLISH
X-WR-CALNAME:Listeso Music Group - A Boutique String Quartet Agency
X-ORIGINAL-URL:https://www.listeso.com
X-WR-CALDESC:Events for Listeso Music Group - A Boutique String Quartet Agency
REFRESH-INTERVAL;VALUE=DURATION:PT1H
X-Robots-Tag:noindex
X-PUBLISHED-TTL:PT1H
BEGIN:VTIMEZONE
TZID:America/New_York
BEGIN:DAYLIGHT
TZOFFSETFROM:-0500
TZOFFSETTO:-0400
TZNAME:EDT
DTSTART:20240310T070000
END:DAYLIGHT
BEGIN:STANDARD
TZOFFSETFROM:-0400
TZOFFSETTO:-0500
TZNAME:EST
DTSTART:20241103T060000
END:STANDARD
BEGIN:DAYLIGHT
TZOFFSETFROM:-0500
TZOFFSETTO:-0400
TZNAME:EDT
DTSTART:20250309T070000
END:DAYLIGHT
BEGIN:STANDARD
TZOFFSETFROM:-0400
TZOFFSETTO:-0500
TZNAME:EST
DTSTART:20251102T060000
END:STANDARD
BEGIN:DAYLIGHT
TZOFFSETFROM:-0500
TZOFFSETTO:-0400
TZNAME:EDT
DTSTART:20260308T070000
END:DAYLIGHT
BEGIN:STANDARD
TZOFFSETFROM:-0400
TZOFFSETTO:-0500
TZNAME:EST
DTSTART:20261101T060000
END:STANDARD
END:VTIMEZONE
BEGIN:VEVENT
DTSTART;TZID=America/New_York:20251107T204500
DTEND;TZID=America/New_York:20251107T214500
DTSTAMP:20260421T053257
CREATED:20251001T010424Z
LAST-MODIFIED:20251001T010424Z
UID:21367-1762548300-1762551900@www.listeso.com
SUMMARY:Candlelight: Neo-Soul Favorites ft. Songs by Prince\, Childish Gambino\, and More
DESCRIPTION:Overview\nCandlelight concerts bring the magic of a live\, multi-sensory musical experience to awe-inspiring locations like never seen before in Atlanta. Get your tickets now to discover the music of Prince\, Childish Gambino and more at The Chapel on Sycamore under the gentle glow of candlelight. \nGeneral Info\n\n📍 Venue: The Chapel on Sycamore\n⏳ Duration: 65 minutes. Doors open 45 minutes before the show and close 5 minutes prior to the start. Late arrivals will not be permitted\n👤 Age requirement: 8 years old or older. Anyone under the age of 16 must be accompanied by an adult\n♿ Accessibility: This venue is ADA compliant\n🪑 Seating: Seating is assigned on a first come first served basis in each zone\n\nTentative Program\n\nPrince – Purple Rain\nLauryn Hill – Ex-Factor\nAlicia Keys – You Don’t Know My Name\nSade – Smooth Operator\nD’Angelo – Untitled (How Does It Feel)\nChildish Gambino – Redbone\nFrank Ocean – Thinkin Bout You\nBoyz II Men – The End of the Road\nMiguel – Adorn\nSZA – Good Days\nH.E.R. – The Best Part\nErykah Badu – Tyrone\nSolange – Don’t Touch My Hair\n\nPerformers\n🎻 Listeso String Quartet \nBook a Private Event\nLooking to create an unforgettable experience for your team\, clients\, or special occasion? We offer private event bookings with customized programs tailored to your needs. \nGet a Quote for Your Private Event
URL:https://www.listeso.com/concert/2025-11-07-the-chapel-on-sycamore-candlelight-neo-soul-favorites-ft-songs-by-prince-childish-gambino-and-more/
LOCATION:The Chapel on Sycamore\, Atlanta\, GA\, United States
CATEGORIES:Atlanta, GA
ATTACH;FMTTYPE=image/jpeg:https://www.listeso.com/wp-content/uploads/2025/10/850e7bec-146c-11f0-8c20-560fcd616747-zSYn3n.jpg
END:VEVENT
END:VCALENDAR