BEGIN:VCALENDAR
VERSION:2.0
PRODID:-//Listeso Music Group - A Boutique String Quartet Agency - ECPv6.15.20//NONSGML v1.0//EN
CALSCALE:GREGORIAN
METHOD:PUBLISH
X-WR-CALNAME:Listeso Music Group - A Boutique String Quartet Agency
X-ORIGINAL-URL:https://www.listeso.com
X-WR-CALDESC:Events for Listeso Music Group - A Boutique String Quartet Agency
REFRESH-INTERVAL;VALUE=DURATION:PT1H
X-Robots-Tag:noindex
X-PUBLISHED-TTL:PT1H
BEGIN:VTIMEZONE
TZID:America/New_York
BEGIN:DAYLIGHT
TZOFFSETFROM:-0500
TZOFFSETTO:-0400
TZNAME:EDT
DTSTART:20240310T070000
END:DAYLIGHT
BEGIN:STANDARD
TZOFFSETFROM:-0400
TZOFFSETTO:-0500
TZNAME:EST
DTSTART:20241103T060000
END:STANDARD
BEGIN:DAYLIGHT
TZOFFSETFROM:-0500
TZOFFSETTO:-0400
TZNAME:EDT
DTSTART:20250309T070000
END:DAYLIGHT
BEGIN:STANDARD
TZOFFSETFROM:-0400
TZOFFSETTO:-0500
TZNAME:EST
DTSTART:20251102T060000
END:STANDARD
BEGIN:DAYLIGHT
TZOFFSETFROM:-0500
TZOFFSETTO:-0400
TZNAME:EDT
DTSTART:20260308T070000
END:DAYLIGHT
BEGIN:STANDARD
TZOFFSETFROM:-0400
TZOFFSETTO:-0500
TZNAME:EST
DTSTART:20261101T060000
END:STANDARD
END:VTIMEZONE
BEGIN:VEVENT
DTSTART;TZID=America/New_York:20251115T210000
DTEND;TZID=America/New_York:20251115T220000
DTSTAMP:20260421T123847
CREATED:20251001T011430Z
LAST-MODIFIED:20251001T011430Z
UID:21447-1763240400-1763244000@www.listeso.com
SUMMARY:Candlelight: Jazz - The Best of Frank Sinatra & Nat King Cole
DESCRIPTION:Overview\nCandlelight concerts bring the magic of a live\, multi-sensory musical experience to awe-inspiring locations like never seen before in Boston. Get your tickets now to discover the music of Frank Sinatra and Nat King Cole at Greater Boston Stage under the gentle glow of candlelight. \nGeneral Info\n\n⏳ Duration: 60 minutes. Doors open 45 minutes before the show and close 5 minutes prior to the start. Late arrivals will not be permitted\n👤 Age requirement: 8 years old or older. Anyone under the age of 16 must be accompanied by an adult\n♿ Accessibility: ADA compliant\n🪑 Seating: Seating is assigned on a first come first served basis in each zone\n\nTentative Program\n\nStardust – Nat King Cole\nThat’s Life – Frank Sinatra\nAutumn Leaves – Nat King Cole\nUnforgettable – Nat King Cole\nWhen I Fall in Love – Nat King Cole\nSmile – Nat King Cole\nCome Fly with Me – Frank Sinatra\nNew York\, New York – Frank Sinatra\nMy Way – Frank Sinatra\nStrangers in the Night – Frank Sinatra\nL-O-V-E – Nat King Cole\nFly Me to the Moon – Frank Sinatra\n\nPerformers\n🎤 Band – Listeso – Boston \nBook a Private Event\nLooking to create an unforgettable experience for your team\, clients\, or special occasion? We offer private event bookings with customized programs tailored to your needs. \nGet a Quote for Your Private Event
URL:https://www.listeso.com/concert/2025-11-15-greater-boston-stage-candlelight-jazz-frank-sinatra-nat-king-cole/
LOCATION:Greater Boston Stage\, Boston\, MA\, United States
CATEGORIES:Boston, MA
ATTACH;FMTTYPE=image/jpeg:https://www.listeso.com/wp-content/uploads/2025/10/589af1c2-2019-11f0-8c71-b2931dc7a749-KqsZsB.jpg
END:VEVENT
END:VCALENDAR