BEGIN:VCALENDAR
VERSION:2.0
PRODID:-//Listeso Music Group - A Boutique String Quartet Agency - ECPv6.15.20//NONSGML v1.0//EN
CALSCALE:GREGORIAN
METHOD:PUBLISH
X-WR-CALNAME:Listeso Music Group - A Boutique String Quartet Agency
X-ORIGINAL-URL:https://www.listeso.com
X-WR-CALDESC:Events for Listeso Music Group - A Boutique String Quartet Agency
REFRESH-INTERVAL;VALUE=DURATION:PT1H
X-Robots-Tag:noindex
X-PUBLISHED-TTL:PT1H
BEGIN:VTIMEZONE
TZID:America/New_York
BEGIN:DAYLIGHT
TZOFFSETFROM:-0500
TZOFFSETTO:-0400
TZNAME:EDT
DTSTART:20240310T070000
END:DAYLIGHT
BEGIN:STANDARD
TZOFFSETFROM:-0400
TZOFFSETTO:-0500
TZNAME:EST
DTSTART:20241103T060000
END:STANDARD
BEGIN:DAYLIGHT
TZOFFSETFROM:-0500
TZOFFSETTO:-0400
TZNAME:EDT
DTSTART:20250309T070000
END:DAYLIGHT
BEGIN:STANDARD
TZOFFSETFROM:-0400
TZOFFSETTO:-0500
TZNAME:EST
DTSTART:20251102T060000
END:STANDARD
BEGIN:DAYLIGHT
TZOFFSETFROM:-0500
TZOFFSETTO:-0400
TZNAME:EDT
DTSTART:20260308T070000
END:DAYLIGHT
BEGIN:STANDARD
TZOFFSETFROM:-0400
TZOFFSETTO:-0500
TZNAME:EST
DTSTART:20261101T060000
END:STANDARD
END:VTIMEZONE
BEGIN:VEVENT
DTSTART;TZID=America/New_York:20251120T210000
DTEND;TZID=America/New_York:20251120T220000
DTSTAMP:20260421T122018
CREATED:20251006T140221Z
LAST-MODIFIED:20251006T140221Z
UID:22120-1763672400-1763676000@www.listeso.com
SUMMARY:Candlelight: Tribute to Bad Bunny
DESCRIPTION:Overview\nCandlelight concerts bring the magic of a live\, multi-sensory musical experience to awe-inspiring locations like never seen before in Miami. Get your tickets now to discover the music of Bad Bunny at Hotel Colonnade Coral Gables under the gentle glow of candlelight. \nGeneral Info\n\n⏳ Duration: 60 minutes. Doors open 60 minutes before the show and close 5 minutes prior to the start. Late arrivals will not be permitted\n👤 Age requirement: 8 years old or older. Anyone under the age of 16 must be accompanied by an adult\n♿ Accessibility: this venue is ADA compliant\n🪑 Seating: Seating is assigned on a first come first served basis in each zone\n\nTentative Program\n\nMoscow Mule\nDákiti (featuring Jhayco)\nLa Noche de Anoche (featuring Rosalía)\nSi Veo a Tu Mamá\nMIA (featuring Drake)\nSi Estuviésemos Juntos\nOtra Noche en Miami\nCallaíta (featuring Tainy)\nOjitos Lindos (featuring Bomba Estéreo)\nMe Porto Bonito (featuring Chencho Corleone)\nLa Canción\nYonaguni\nun 100xto (Grupo Frontera featuring Bad Bunny)\nTití Me Preguntó\n\nPerformers\n🎻 Collins Quartet \nBook a Private Event\nLooking to create an unforgettable experience for your wedding\, or special occasion? We offer private event bookings with customized programs tailored to your needs. \nGet a quote
URL:https://www.listeso.com/concert/2025-11-20-hotel-colonnade-coral-gables-tribute-to-bad-bunny/
LOCATION:Hotel Colonnade Coral Gables\, Miami\, FL\, United States
CATEGORIES:Miami, FL
ATTACH;FMTTYPE=image/jpeg:https://www.listeso.com/wp-content/uploads/2025/10/ad1a3646-0a24-11f0-a9e6-a64e07ed48b0-trRZ5V.jpg
END:VEVENT
END:VCALENDAR