BEGIN:VCALENDAR
VERSION:2.0
PRODID:-//Listeso Music Group - A Boutique String Quartet Agency - ECPv6.15.20//NONSGML v1.0//EN
CALSCALE:GREGORIAN
METHOD:PUBLISH
X-WR-CALNAME:Listeso Music Group - A Boutique String Quartet Agency
X-ORIGINAL-URL:https://www.listeso.com
X-WR-CALDESC:Events for Listeso Music Group - A Boutique String Quartet Agency
REFRESH-INTERVAL;VALUE=DURATION:PT1H
X-Robots-Tag:noindex
X-PUBLISHED-TTL:PT1H
BEGIN:VTIMEZONE
TZID:America/Phoenix
BEGIN:STANDARD
TZOFFSETFROM:-0700
TZOFFSETTO:-0700
TZNAME:MST
DTSTART:20240101T000000
END:STANDARD
END:VTIMEZONE
BEGIN:VEVENT
DTSTART;TZID=America/Phoenix:20251204T210000
DTEND;TZID=America/Phoenix:20251204T220000
DTSTAMP:20260421T023542
CREATED:20251109T121658Z
LAST-MODIFIED:20251109T121658Z
UID:23959-1764882000-1764885600@www.listeso.com
SUMMARY:Candlelight: Coldplay & Imagine Dragons
DESCRIPTION:Overview\nCandlelight concerts bring the magic of a live\, multi-sensory musical experience to awe-inspiring locations like never seen before in Phoenix. Get your tickets now to discover the music of Coldplay & Imagine Dragons at Warehouse215 under the gentle glow of candlelight. \nGeneral Info\n\n📍 Venue: Warehouse215\n📅 Dates and times: December 4\, 2025 at 9:00 PM\n⏳ Duration: 60 minutes. Doors open 30 minutes before the show and close 5 minutes prior to the start. Late arrivals will not be permitted\n👤 Age requirement: 8 years old or older. Anyone under the age of 16 must be accompanied by an adult\n♿ Accessibility: This venue is ADA compliant\n🪑 Seating: Assigned on a first come first served basis in each zone\n\nTentative Program\n\nColdplay – Clocks\nImagine Dragons – Radioactive\nColdplay – Adventure of a Lifetime\nColdplay – Fix You\nImagine Dragons – Eyes Closed\nImagine Dragons – Nice to Meet You\nColdplay – The Scientist\nColdplay – feelslikeimfallinginlove\nImagine Dragons – Follow You\nImagine Dragons – Bad Liar\nImagine Dragons – Believer\nColdplay – Sky Full of Stars\nColdplay – Viva la Vida\nColdplay – My Universe\n\nPerformers\n🎻 Listeso String Quartet \nBook a Private Event\nLooking to create an unforgettable experience for your wedding\, or special occasion? We offer private event bookings with customized programs tailored to your needs. \nGet a quote
URL:https://www.listeso.com/concert/2025-12-04-warehouse215-coldplay-imagine-dragons/
LOCATION:Warehouse215\, Phoenix\, AZ\, United States
CATEGORIES:Phoenix, AZ
ATTACH;FMTTYPE=image/jpeg:https://www.listeso.com/wp-content/uploads/2025/09/4d0ae4c2-1158-11f0-90ef-86af2e2df509-Yt0a9U.jpg
END:VEVENT
END:VCALENDAR