BEGIN:VCALENDAR
VERSION:2.0
PRODID:-//Listeso Music Group - A Boutique String Quartet Agency - ECPv6.15.20//NONSGML v1.0//EN
CALSCALE:GREGORIAN
METHOD:PUBLISH
X-WR-CALNAME:Listeso Music Group - A Boutique String Quartet Agency
X-ORIGINAL-URL:https://www.listeso.com
X-WR-CALDESC:Events for Listeso Music Group - A Boutique String Quartet Agency
REFRESH-INTERVAL;VALUE=DURATION:PT1H
X-Robots-Tag:noindex
X-PUBLISHED-TTL:PT1H
BEGIN:VTIMEZONE
TZID:America/Vancouver
BEGIN:DAYLIGHT
TZOFFSETFROM:-0800
TZOFFSETTO:-0700
TZNAME:PDT
DTSTART:20240310T100000
END:DAYLIGHT
BEGIN:STANDARD
TZOFFSETFROM:-0700
TZOFFSETTO:-0800
TZNAME:PST
DTSTART:20241103T090000
END:STANDARD
BEGIN:DAYLIGHT
TZOFFSETFROM:-0800
TZOFFSETTO:-0700
TZNAME:PDT
DTSTART:20250309T100000
END:DAYLIGHT
BEGIN:STANDARD
TZOFFSETFROM:-0700
TZOFFSETTO:-0800
TZNAME:PST
DTSTART:20251102T090000
END:STANDARD
BEGIN:DAYLIGHT
TZOFFSETFROM:-0800
TZOFFSETTO:-0700
TZNAME:PDT
DTSTART:20260308T100000
END:DAYLIGHT
BEGIN:STANDARD
TZOFFSETFROM:-0700
TZOFFSETTO:-0800
TZNAME:PST
DTSTART:20261101T090000
END:STANDARD
END:VTIMEZONE
BEGIN:VEVENT
DTSTART;TZID=America/Vancouver:20251206T203000
DTEND;TZID=America/Vancouver:20251206T213000
DTSTAMP:20260421T011235
CREATED:20251119T124006Z
LAST-MODIFIED:20251119T124006Z
UID:24480-1765053000-1765056600@www.listeso.com
SUMMARY:Candlelight: Best of Joe Hisaishi
DESCRIPTION:Overview\nCandlelight concerts bring the magic of a live\, multi-sensory musical experience to awe-inspiring locations like never seen before in Vancouver. Discover the best of Anime music at Kerrisdale Presbyterian Church under the gentle glow of candlelight. \nGeneral Info\n\n📍 Venue: Kerrisdale Presbyterian Church\n⏳ Duration: 60 minutes. Doors open 30 minutes before the show and close 5 minutes prior to the start. Late arrivals will not be permitted\n👤 Age requirement: 8 years old or older. Anyone under the age of 16 must be accompanied by an adult\n♿ Accessibility: This venue is ADA compliant\n🪑 Seating: Seating is assigned on a first come first served basis in each zone\n\nProgram\n\nNausicaa of the Valley of the Wind – Opening Theme\nLaputa: Castle in the Sky – Kimi wo Nosete – Carrying You\nMy Neighbour Totoro – Kaze no Toori Michi – Path of the Wind\nMy Neighbour Totoro – Tonari no Totoro – Main Theme\nKiki’s Delivery Service – Umi no Mieru Machi – A Town with an Ocean View\nKiki’s Delivery Service – Tabidachi – Journey\nPrincess Mononoke – Main Theme\nSpirited Away – Inochi no Namae – Name of Life\nSpirited Away – Chihiro’s Waltz\nPonyo – Gake no Ue no Ponyo – Ponyo on the Cliff\nThe Wind Rises – A Journey (A Dream of Flight)\nKikujiro – Summer\nThe Tale of Princess Kaguya – When I Remember This Life\nHowl’s Moving Castle – Merry Go Round of Life\n\nPerformers\n🎻 Listeso String Quartet \nBook a Private Event\nLooking to create an unforgettable experience for your wedding\, or special occasion? We offer private event bookings with customized programs tailored to your needs. \nGet a quote
URL:https://www.listeso.com/concert/2025-12-06-kerrisdale-presbyterian-church-best-of-joe-hisaishi/
LOCATION:Kerrisdale Presbyterian Church\, Vancouver\, British Columbia\, Canada
CATEGORIES:Vancouver, BC
ATTACH;FMTTYPE=image/jpeg:https://www.listeso.com/wp-content/uploads/2025/10/bff84246-1517-11f0-83d9-0a02a9351e82-m3Nxtm.jpg
END:VEVENT
END:VCALENDAR