BEGIN:VCALENDAR
VERSION:2.0
PRODID:-//Listeso Music Group - A Boutique String Quartet Agency - ECPv6.15.20//NONSGML v1.0//EN
CALSCALE:GREGORIAN
METHOD:PUBLISH
X-WR-CALNAME:Listeso Music Group - A Boutique String Quartet Agency
X-ORIGINAL-URL:https://www.listeso.com
X-WR-CALDESC:Events for Listeso Music Group - A Boutique String Quartet Agency
REFRESH-INTERVAL;VALUE=DURATION:PT1H
X-Robots-Tag:noindex
X-PUBLISHED-TTL:PT1H
BEGIN:VTIMEZONE
TZID:America/New_York
BEGIN:DAYLIGHT
TZOFFSETFROM:-0500
TZOFFSETTO:-0400
TZNAME:EDT
DTSTART:20240310T070000
END:DAYLIGHT
BEGIN:STANDARD
TZOFFSETFROM:-0400
TZOFFSETTO:-0500
TZNAME:EST
DTSTART:20241103T060000
END:STANDARD
BEGIN:DAYLIGHT
TZOFFSETFROM:-0500
TZOFFSETTO:-0400
TZNAME:EDT
DTSTART:20250309T070000
END:DAYLIGHT
BEGIN:STANDARD
TZOFFSETFROM:-0400
TZOFFSETTO:-0500
TZNAME:EST
DTSTART:20251102T060000
END:STANDARD
BEGIN:DAYLIGHT
TZOFFSETFROM:-0500
TZOFFSETTO:-0400
TZNAME:EDT
DTSTART:20260308T070000
END:DAYLIGHT
BEGIN:STANDARD
TZOFFSETFROM:-0400
TZOFFSETTO:-0500
TZNAME:EST
DTSTART:20261101T060000
END:STANDARD
END:VTIMEZONE
BEGIN:VEVENT
DTSTART;TZID=America/New_York:20251212T190000
DTEND;TZID=America/New_York:20251212T200000
DTSTAMP:20260421T045041
CREATED:20251108T120511Z
LAST-MODIFIED:20251108T120511Z
UID:23721-1765566000-1765569600@www.listeso.com
SUMMARY:Candlelight: Tribute to Whitney Houston
DESCRIPTION:Overview\nCandlelight concerts bring the magic of a live\, multi-sensory musical experience to awe-inspiring locations like never seen before in Atlanta. Get your tickets now to discover the music of Whitney Houston at The Chapel on Sycamore under the gentle glow of candlelight. \nGeneral Info\n\n📍 Venue: The Chapel on Sycamore\n⏳ Duration: 60 minutes. Doors open 45 minutes before the show and close 5 minutes prior to the start. Late arrivals will not be permitted\n👤 Age requirement: 8 years old or older. Anyone under the age of 16 must be accompanied by an adult\n♿ Accessibility: This venue is ADA compliant\n🪑 Seating: Seating is assigned on a first come first served basis in each zone\n\nTentative Program\n\n“I Will Always Love You”\n“I Wanna Dance With Somebody”\n“Greatest Love of All”\n“When You Believe (w/ Mariah Carey\, from Prince of Egypt)”\n“I Have Nothing”\n“How Will I Know”\n“It’s Not Right but It’s Okay”\n“One Moment in Time”\n“Saving All My Love for You”\n“Where Do Broken Hearts Go”\n“Higher Love (w/Kygo)”\n“So Emotional”\n“You Light Up My Life”\n\nPerformers\n🎻 Listeso String Quartet \nBook a Private Event\nLooking to create an unforgettable experience for your wedding\, or special occasion? We offer private event bookings with customized programs tailored to your needs. \nGet a quote
URL:https://www.listeso.com/concert/2025-12-12-the-chapel-on-sycamore-tribute-to-whitney-houston/
LOCATION:The Chapel on Sycamore\, Atlanta\, GA\, United States
CATEGORIES:Atlanta, GA
ATTACH;FMTTYPE=image/jpeg:https://www.listeso.com/wp-content/uploads/2025/10/812bbf22-6308-11f0-acd4-3ea54e1aac32-PjD28v.jpg
END:VEVENT
END:VCALENDAR