BEGIN:VCALENDAR
VERSION:2.0
PRODID:-//Listeso Music Group - A Boutique String Quartet Agency - ECPv6.15.20//NONSGML v1.0//EN
CALSCALE:GREGORIAN
METHOD:PUBLISH
X-WR-CALNAME:Listeso Music Group - A Boutique String Quartet Agency
X-ORIGINAL-URL:https://www.listeso.com
X-WR-CALDESC:Events for Listeso Music Group - A Boutique String Quartet Agency
REFRESH-INTERVAL;VALUE=DURATION:PT1H
X-Robots-Tag:noindex
X-PUBLISHED-TTL:PT1H
BEGIN:VTIMEZONE
TZID:America/Toronto
BEGIN:DAYLIGHT
TZOFFSETFROM:-0500
TZOFFSETTO:-0400
TZNAME:EDT
DTSTART:20240310T070000
END:DAYLIGHT
BEGIN:STANDARD
TZOFFSETFROM:-0400
TZOFFSETTO:-0500
TZNAME:EST
DTSTART:20241103T060000
END:STANDARD
BEGIN:DAYLIGHT
TZOFFSETFROM:-0500
TZOFFSETTO:-0400
TZNAME:EDT
DTSTART:20250309T070000
END:DAYLIGHT
BEGIN:STANDARD
TZOFFSETFROM:-0400
TZOFFSETTO:-0500
TZNAME:EST
DTSTART:20251102T060000
END:STANDARD
BEGIN:DAYLIGHT
TZOFFSETFROM:-0500
TZOFFSETTO:-0400
TZNAME:EDT
DTSTART:20260308T070000
END:DAYLIGHT
BEGIN:STANDARD
TZOFFSETFROM:-0400
TZOFFSETTO:-0500
TZNAME:EST
DTSTART:20261101T060000
END:STANDARD
END:VTIMEZONE
BEGIN:VEVENT
DTSTART;TZID=America/Toronto:20251213T203000
DTEND;TZID=America/Toronto:20251213T213000
DTSTAMP:20260421T140435
CREATED:20251108T123238Z
LAST-MODIFIED:20251108T123238Z
UID:23841-1765657800-1765661400@www.listeso.com
SUMMARY:Candlelight: Hommage à Coldplay
DESCRIPTION:Overview\nCandlelight t’offre des expériences musicales magiques dans de magnifiques lieux éclairés à la bougie. Profitez d’un concert hommage à Coldplay interprété par un quatuor à cordes dans l’ambiance chaleureuse de l’Église St-George à Granby. \nGeneral Info\n\n⏳ Duration: 60 minutes environ. Les portes ouvrent 30 minutes avant le début du concert\n👤 Age requirement: à partir de 8 ans. Les spectateurs de moins de 16 ans doivent être accompagné par un adulte\n♿ Accessibility: Cet endroit est accessible en chaise roulante\n🪑 Seating: Les places sont assignées par ordre d’arrivée\, selon la catégorie réservée. Les retards ne seront pas permis\n\nProgram\n\nClocks\nShiver\nSpeed of Sound\nTrouble\nFix You\nParadise\nSomething Just Like This\nYellow\nMy Universe\nThe Scientist\nA Sky Full of Stars\n\nPerformers\n🎻 Quatuor à cordes Listeso \nBook a Private Event\nLooking to create an unforgettable experience for your wedding\, or special occasion? We offer private event bookings with customized programs tailored to your needs. \nGet a quote
URL:https://www.listeso.com/concert/2025-12-13-eglise-st-george-hommage-a-coldplay/
LOCATION:Église St-George\, Granby\, Canada
CATEGORIES:Granby, QC
ATTACH;FMTTYPE=image/jpeg:https://www.listeso.com/wp-content/uploads/2025/09/c6cd5d40-139b-11f0-ab0c-66983130b191-DRvCCJ.jpg
END:VEVENT
END:VCALENDAR