BEGIN:VCALENDAR
VERSION:2.0
PRODID:-//Listeso Music Group - A Boutique String Quartet Agency - ECPv6.15.20//NONSGML v1.0//EN
CALSCALE:GREGORIAN
METHOD:PUBLISH
X-WR-CALNAME:Listeso Music Group - A Boutique String Quartet Agency
X-ORIGINAL-URL:https://www.listeso.com
X-WR-CALDESC:Events for Listeso Music Group - A Boutique String Quartet Agency
REFRESH-INTERVAL;VALUE=DURATION:PT1H
X-Robots-Tag:noindex
X-PUBLISHED-TTL:PT1H
BEGIN:VTIMEZONE
TZID:America/Toronto
BEGIN:DAYLIGHT
TZOFFSETFROM:-0500
TZOFFSETTO:-0400
TZNAME:EDT
DTSTART:20240310T070000
END:DAYLIGHT
BEGIN:STANDARD
TZOFFSETFROM:-0400
TZOFFSETTO:-0500
TZNAME:EST
DTSTART:20241103T060000
END:STANDARD
BEGIN:DAYLIGHT
TZOFFSETFROM:-0500
TZOFFSETTO:-0400
TZNAME:EDT
DTSTART:20250309T070000
END:DAYLIGHT
BEGIN:STANDARD
TZOFFSETFROM:-0400
TZOFFSETTO:-0500
TZNAME:EST
DTSTART:20251102T060000
END:STANDARD
BEGIN:DAYLIGHT
TZOFFSETFROM:-0500
TZOFFSETTO:-0400
TZNAME:EDT
DTSTART:20260308T070000
END:DAYLIGHT
BEGIN:STANDARD
TZOFFSETFROM:-0400
TZOFFSETTO:-0500
TZNAME:EST
DTSTART:20261101T060000
END:STANDARD
END:VTIMEZONE
BEGIN:VEVENT
DTSTART;TZID=America/Toronto:20251213T183000
DTEND;TZID=America/Toronto:20251213T193000
DTSTAMP:20260421T140439
CREATED:20251108T123253Z
LAST-MODIFIED:20251108T123253Z
UID:23842-1765650600-1765654200@www.listeso.com
SUMMARY:Candlelight: Les classiques de Noël
DESCRIPTION:Overview\nCandlelight t’offre des expériences musicales magiques dans de magnifiques lieux éclairés à la bougie. Achète tes billets dès maintenant pour ce concert Candlelight: Les classiques de Noël à Granby. \nGeneral Info\n\n⏳ Duration: 60 minutes approximately. Doors open 45 minutes before the concert starts. Late arrivals will not be permitted\n👤 Age requirement: 8 years and up. Spectators under 16 must be accompanied by an adult\n♿ Accessibility: This venue is wheelchair accessible\n🪑 Seating: Seats are assigned on a first-come\, first-served basis within the reserved category\n\nProgram\n\nDance of the Sugar Plum Fairy from The Nutcracker – Tchaikovsky\nGreensleeves\nCarol of the Bells\nO Holy Night\nO Tannenbaum\nWe Wish You a Merry Christmas\nLet It Snow! Let It Snow! Let It Snow!\nFeliz Navidad – José Feliciano\nJingle Bells\nRockin’ Around the Christmas Tree – Brenda Lee\nLove Is All Around – Wet Wet Wet\nLet It Go from Frozen\nOnce Upon a December from Anastasia – Stephen Flaherty\nMaestro from The Holiday – Hans Zimmer\nIt’s Beginning to Look a Lot Like Christmas – Michael Bublé\nLast Christmas – Wham!\nAll I Want for Christmas Is You – Mariah Carey\n\nPerformers\n🎻 String Quartet – Listeso – Granby \nBook a Private Event\nLooking to create an unforgettable experience for your wedding\, or special occasion? We offer private event bookings with customized programs tailored to your needs. \nGet a quote
URL:https://www.listeso.com/concert/2025-12-13-eglise-st-george-les-classiques-de-noel/
LOCATION:Église St-George\, Granby\, Canada
CATEGORIES:Granby, QC
ATTACH;FMTTYPE=image/jpeg:https://www.listeso.com/wp-content/uploads/2025/10/db5e6616-3f9a-11f0-9af7-a6a57dea6d84-eMG6MO.jpg
END:VEVENT
END:VCALENDAR