BEGIN:VCALENDAR
VERSION:2.0
PRODID:-//Listeso Music Group - A Boutique String Quartet Agency - ECPv6.15.20//NONSGML v1.0//EN
CALSCALE:GREGORIAN
METHOD:PUBLISH
X-WR-CALNAME:Listeso Music Group - A Boutique String Quartet Agency
X-ORIGINAL-URL:https://www.listeso.com
X-WR-CALDESC:Events for Listeso Music Group - A Boutique String Quartet Agency
REFRESH-INTERVAL;VALUE=DURATION:PT1H
X-Robots-Tag:noindex
X-PUBLISHED-TTL:PT1H
BEGIN:VTIMEZONE
TZID:America/Chicago
BEGIN:DAYLIGHT
TZOFFSETFROM:-0600
TZOFFSETTO:-0500
TZNAME:CDT
DTSTART:20240310T080000
END:DAYLIGHT
BEGIN:STANDARD
TZOFFSETFROM:-0500
TZOFFSETTO:-0600
TZNAME:CST
DTSTART:20241103T070000
END:STANDARD
BEGIN:DAYLIGHT
TZOFFSETFROM:-0600
TZOFFSETTO:-0500
TZNAME:CDT
DTSTART:20250309T080000
END:DAYLIGHT
BEGIN:STANDARD
TZOFFSETFROM:-0500
TZOFFSETTO:-0600
TZNAME:CST
DTSTART:20251102T070000
END:STANDARD
BEGIN:DAYLIGHT
TZOFFSETFROM:-0600
TZOFFSETTO:-0500
TZNAME:CDT
DTSTART:20260308T080000
END:DAYLIGHT
BEGIN:STANDARD
TZOFFSETFROM:-0500
TZOFFSETTO:-0600
TZNAME:CST
DTSTART:20261101T070000
END:STANDARD
END:VTIMEZONE
BEGIN:VEVENT
DTSTART;TZID=America/Chicago:20251214T183000
DTEND;TZID=America/Chicago:20251214T193000
DTSTAMP:20260421T044908
CREATED:20251119T123344Z
LAST-MODIFIED:20251119T123344Z
UID:24453-1765737000-1765740600@www.listeso.com
SUMMARY:Candlelight: Christmas Special Featuring "The Nutcracker" & More
DESCRIPTION:Overview\nCandlelight concerts bring the magic of a live\, multi-sensory musical experience to awe-inspiring locations like never seen before in St. Louis. Get your tickets now to discover the music of Christmas Special Featuring “The Nutcracker” & More at The Grandel Theater under the gentle glow of candlelight. \nGeneral Info\n\n📍 Venue: The Grandel Theater\n⏳ Duration: 60 minutes. Doors open 45 minutes before the show and close 5 minutes prior to the start. Late arrivals will not be permitted\n👤 Age requirement: 8 years old or older. Anyone under the age of 16 must be accompanied by an adult\n♿ Accessibility: ADA compliant\n🪑 Seating: Seating is assigned on a first come first served basis in each zone\n\nTentative Program\n\nHark the Herald Angels Sing\nThe First Noël\nDeck the Halls\nO Holy Night – Adolphe Adam\nMa’oz Tzur – Traditional Hanukkah Song\nThe Snow is Dancing – Claude Debussy\nThe Seasons\, Op. 37a – Pyotr Ilyich Tchaikovsky\n\nI. January. By the Hearth\nXII. December. Christmas\n\n\nThe Skaters Waltz\, Op. 183 (Les Patineurs) – Émile Waldteufel\nGreensleeves (What Child is This) – Traditional\nHoliday Medley\n\nJoy to the World\nAngels We Have Heard on High\nAway in a Manger\n\n\nThe Nutcracker\, Op. 71 – Pyotr Ilyich Tchaikovsky\n\nMiniature Overture\nAct I\, Scene II: No. 2\, March\nAct II: No. 12d\, Divertissement. Trepak\, Russian Dance\nAct II: No. 13\, Waltz of the Flowers\nAct II: No. 14c\, Pas de Deux. Variation II\, Dance of the Sugar Plum Fairy\n\n\n\nPerformers\n🎻 String Quartet – Listeso – St. Louis \nBook a Private Event\nLooking to create an unforgettable experience for your wedding\, or special occasion? We offer private event bookings with customized programs tailored to your needs. \nGet a quote
URL:https://www.listeso.com/concert/2025-12-14-the-grandel-theater-christmas-special-featuring-the-nutcracker-and-more/
LOCATION:The Grandel Theater\, St. Louis\, MO\, United States
CATEGORIES:St. Louis, MO
ATTACH;FMTTYPE=image/jpeg:https://www.listeso.com/wp-content/uploads/2025/10/cc249c18-3fba-11f0-bfde-cebdfc678a0e-lr2vPQ.jpg
END:VEVENT
END:VCALENDAR