BEGIN:VCALENDAR
VERSION:2.0
PRODID:-//Listeso Music Group - A Boutique String Quartet Agency - ECPv6.15.20//NONSGML v1.0//EN
CALSCALE:GREGORIAN
METHOD:PUBLISH
X-WR-CALNAME:Listeso Music Group - A Boutique String Quartet Agency
X-ORIGINAL-URL:https://www.listeso.com
X-WR-CALDESC:Events for Listeso Music Group - A Boutique String Quartet Agency
REFRESH-INTERVAL;VALUE=DURATION:PT1H
X-Robots-Tag:noindex
X-PUBLISHED-TTL:PT1H
BEGIN:VTIMEZONE
TZID:America/New_York
BEGIN:DAYLIGHT
TZOFFSETFROM:-0500
TZOFFSETTO:-0400
TZNAME:EDT
DTSTART:20240310T070000
END:DAYLIGHT
BEGIN:STANDARD
TZOFFSETFROM:-0400
TZOFFSETTO:-0500
TZNAME:EST
DTSTART:20241103T060000
END:STANDARD
BEGIN:DAYLIGHT
TZOFFSETFROM:-0500
TZOFFSETTO:-0400
TZNAME:EDT
DTSTART:20250309T070000
END:DAYLIGHT
BEGIN:STANDARD
TZOFFSETFROM:-0400
TZOFFSETTO:-0500
TZNAME:EST
DTSTART:20251102T060000
END:STANDARD
BEGIN:DAYLIGHT
TZOFFSETFROM:-0500
TZOFFSETTO:-0400
TZNAME:EDT
DTSTART:20260308T070000
END:DAYLIGHT
BEGIN:STANDARD
TZOFFSETFROM:-0400
TZOFFSETTO:-0500
TZNAME:EST
DTSTART:20261101T060000
END:STANDARD
END:VTIMEZONE
BEGIN:VEVENT
DTSTART;TZID=America/New_York:20251220T180000
DTEND;TZID=America/New_York:20251220T190000
DTSTAMP:20260421T095033
CREATED:20251122T120248Z
LAST-MODIFIED:20251122T120248Z
UID:24567-1766253600-1766257200@www.listeso.com
SUMMARY:Candlelight: Classic Rock on Strings
DESCRIPTION:Overview\nCandlelight concerts bring the magic of a live\, multi-sensory musical experience to awe-inspiring locations like never seen before in Lancaster. Get your tickets now to discover the music of Classic Rock on Strings at Barshinger Center under the gentle glow of candlelight. \nGeneral Info\n\n📍 Venue: Barshinger Center\n⏳ Duration: 60 minutes. Doors open 45 minutes before the show and close 5 minutes prior to the start. Late arrivals will not be permitted\n👤 Age requirement: 8 years old or older. Anyone under the age of 16 must be accompanied by an adult\n♿ Accessibility: This venue is ADA accessible\n🪑 Seating: Seating is assigned on a first come first served basis in each zone\n\nTentative Program\n\nJefferson Airplane – White Rabbit\nThe Rolling Stones – Paint It Black\nDavid Bowie – Life on Mars?\nKansas – Carry on Wayward Son\nLynyrd Skynyrd – Sweet Home Alabama\nBon Jovi – Livin on a Prayer\nGuns n’ Roses – Sweet Child o’ Mine\nBlondie – Call Me\nCream – Sunshine of Your Love\nAerosmith – Dream On\nThe Who – See Me\, Feel Me / Pinball Wizard\nBoston – More Than a Feeling\nLynyrd Skynyrd – Free Bird\n\nPerformers\n🎻 Listeso String Quartet \nBook a Private Event\nLooking to create an unforgettable experience for your wedding\, or special occasion? We offer private event bookings with customized programs tailored to your needs. \nGet a quote
URL:https://www.listeso.com/concert/2025-12-20-barshinger-center-classic-rock-on-strings-2/
LOCATION:Barshinger Center\, Lancaster\, PA\, United States
CATEGORIES:Lancaster, PA
ATTACH;FMTTYPE=image/jpeg:https://www.listeso.com/wp-content/uploads/2025/10/e9d5cc3e-5dc2-11f0-b8c3-f6f755ba7603-YWLDE3.jpg
END:VEVENT
END:VCALENDAR