BEGIN:VCALENDAR
VERSION:2.0
PRODID:-//Listeso Music Group - A Boutique String Quartet Agency - ECPv6.15.20//NONSGML v1.0//EN
CALSCALE:GREGORIAN
METHOD:PUBLISH
X-WR-CALNAME:Listeso Music Group - A Boutique String Quartet Agency
X-ORIGINAL-URL:https://www.listeso.com
X-WR-CALDESC:Events for Listeso Music Group - A Boutique String Quartet Agency
REFRESH-INTERVAL;VALUE=DURATION:PT1H
X-Robots-Tag:noindex
X-PUBLISHED-TTL:PT1H
BEGIN:VTIMEZONE
TZID:America/New_York
BEGIN:DAYLIGHT
TZOFFSETFROM:-0500
TZOFFSETTO:-0400
TZNAME:EDT
DTSTART:20240310T070000
END:DAYLIGHT
BEGIN:STANDARD
TZOFFSETFROM:-0400
TZOFFSETTO:-0500
TZNAME:EST
DTSTART:20241103T060000
END:STANDARD
BEGIN:DAYLIGHT
TZOFFSETFROM:-0500
TZOFFSETTO:-0400
TZNAME:EDT
DTSTART:20250309T070000
END:DAYLIGHT
BEGIN:STANDARD
TZOFFSETFROM:-0400
TZOFFSETTO:-0500
TZNAME:EST
DTSTART:20251102T060000
END:STANDARD
BEGIN:DAYLIGHT
TZOFFSETFROM:-0500
TZOFFSETTO:-0400
TZNAME:EDT
DTSTART:20260308T070000
END:DAYLIGHT
BEGIN:STANDARD
TZOFFSETFROM:-0400
TZOFFSETTO:-0500
TZNAME:EST
DTSTART:20261101T060000
END:STANDARD
END:VTIMEZONE
BEGIN:VEVENT
DTSTART;TZID=America/New_York:20251221T183000
DTEND;TZID=America/New_York:20251221T193000
DTSTAMP:20260421T045738
CREATED:20251118T121132Z
LAST-MODIFIED:20251118T121132Z
UID:24290-1766341800-1766345400@www.listeso.com
SUMMARY:Candlelight: Christmas Classics at Eden Roc Miami Beach
DESCRIPTION:Overview\nCandlelight concerts bring the magic of a live\, multi-sensory musical experience to awe-inspiring locations like never seen before in Miami. Get your tickets now to discover the music of Christmas Classics at Eden Roc Miami Beach under the gentle glow of candlelight. \nGeneral Info\n\n📍 Venue: Eden Roc Miami Beach\n⏳ Duration: 60 minutes. Doors open 60 minutes before the show and close 5 minutes prior to the start. Late arrivals will not be permitted\n👤 Age requirement: 8 years old or older. Anyone under the age of 16 must be accompanied by an adult\n♿ Accessibility: This venue is ADA compliant\n🪑 Seating: Seating is assigned on a first come first served basis in each zone\n\nTentative Program\n\nDance of the Sugar Plum Fairy from The Nutcracker – Tchaikovsky\nGreensleeves\nCarol of the Bells\nO Holy Night\nO Tannenbaum\nWe Wish You a Merry Christmas\nLet It Snow! Let It Snow! Let It Snow!\nFeliz Navidad – José Feliciano\nJingle Bells\nRockin’ Around the Christmas Tree – Brenda Lee\nLove Is All Around – Wet Wet Wet\nLet It Go from Frozen\nOnce Upon a December from Anastasia – Stephen Flaherty\nMaestro from The Holiday – Hans Zimmer\nIt’s Beginning to Look a Lot Like Christmas – Michael Bublé\nLast Christmas – Wham!\nAll I Want for Christmas Is You – Mariah Carey\n\nPerformers\n🎻 Collins Quartet \nBook a Private Event\nLooking to create an unforgettable experience for your wedding\, or special occasion? We offer private event bookings with customized programs tailored to your needs. \nGet a quote
URL:https://www.listeso.com/concert/2025-12-21-eden-roc-miami-beach-christmas-classics/
LOCATION:Eden Roc Miami Beach\, Miami\, FL\, United States
CATEGORIES:Miami, FL
ATTACH;FMTTYPE=image/jpeg:https://www.listeso.com/wp-content/uploads/2025/11/433c6d42-3f9f-11f0-8f81-aad6a9c3e2dc-KVaXmc.jpg
END:VEVENT
END:VCALENDAR