BEGIN:VCALENDAR
VERSION:2.0
PRODID:-//Listeso Music Group - A Boutique String Quartet Agency - ECPv6.15.20//NONSGML v1.0//EN
CALSCALE:GREGORIAN
METHOD:PUBLISH
X-WR-CALNAME:Listeso Music Group - A Boutique String Quartet Agency
X-ORIGINAL-URL:https://www.listeso.com
X-WR-CALDESC:Events for Listeso Music Group - A Boutique String Quartet Agency
REFRESH-INTERVAL;VALUE=DURATION:PT1H
X-Robots-Tag:noindex
X-PUBLISHED-TTL:PT1H
BEGIN:VTIMEZONE
TZID:America/Moncton
BEGIN:DAYLIGHT
TZOFFSETFROM:-0400
TZOFFSETTO:-0300
TZNAME:ADT
DTSTART:20240310T060000
END:DAYLIGHT
BEGIN:STANDARD
TZOFFSETFROM:-0300
TZOFFSETTO:-0400
TZNAME:AST
DTSTART:20241103T050000
END:STANDARD
BEGIN:DAYLIGHT
TZOFFSETFROM:-0400
TZOFFSETTO:-0300
TZNAME:ADT
DTSTART:20250309T060000
END:DAYLIGHT
BEGIN:STANDARD
TZOFFSETFROM:-0300
TZOFFSETTO:-0400
TZNAME:AST
DTSTART:20251102T050000
END:STANDARD
BEGIN:DAYLIGHT
TZOFFSETFROM:-0400
TZOFFSETTO:-0300
TZNAME:ADT
DTSTART:20260308T060000
END:DAYLIGHT
BEGIN:STANDARD
TZOFFSETFROM:-0300
TZOFFSETTO:-0400
TZNAME:AST
DTSTART:20261101T050000
END:STANDARD
END:VTIMEZONE
BEGIN:VEVENT
DTSTART;TZID=America/Moncton:20251227T203000
DTEND;TZID=America/Moncton:20251227T213000
DTSTAMP:20260421T101326
CREATED:20251109T120803Z
LAST-MODIFIED:20251109T120803Z
UID:23923-1766867400-1766871000@www.listeso.com
SUMMARY:Candlelight: Christmas Classics
DESCRIPTION:Overview\nCandlelight concerts bring the magic of a live\, multi-sensory musical experience to awe-inspiring locations like never seen before in Moncton. Get your tickets now to discover the music of Christmas Classics at Cathédrale Notre-Dame-de-l’Assomption under the gentle glow of candlelight. \nGeneral Info\n\n⏳ Duration: 60 minutes. Doors open 45 minutes before the show and close 5 minutes prior to the start. Late arrivals will not be permitted\n👤 Age requirement: 8 years old or older. Anyone under the age of 16 must be accompanied by an adult\n♿ Accessibility: this venue is accessible for people with reduced mobility\n🪑 Seating: Seating is assigned on a first come first served basis in each zone\n\nTentative Program\n\nDance of the Sugar Plum Fairy from The Nutcracker – Tchaikovsky\nGreensleeves\nCarol of the Bells\nO Holy Night\nO Tannenbaum\nWe Wish You a Merry Christmas\nLet It Snow! Let It Snow! Let It Snow!\nFeliz Navidad – José Feliciano\nJingle Bells\nRockin’ Around the Christmas Tree – Brenda Lee\nLove Is All Around – Wet Wet Wet\nLet It Go from Frozen\nOnce Upon a December from Anastasia – Stephen Flaherty\nMaestro from The Holiday – Hans Zimmer\nIt’s Beginning to Look a Lot Like Christmas – Michael Bublé\nLast Christmas – Wham!\nAll I Want for Christmas Is You – Mariah Carey\n\nPerformers\n🎻 String Quartet – Listeso – Moncton \nBook a Private Event\nLooking to create an unforgettable experience for your wedding\, or special occasion? We offer private event bookings with customized programs tailored to your needs. \nGet a quote
URL:https://www.listeso.com/concert/2025-12-27-cathedrale-notre-dame-de-lassomption-christmas-classics/
LOCATION:Cathédrale Notre-Dame-de-l’Assomption\, Moncton\, Canada
CATEGORIES:Moncton, NB
ATTACH;FMTTYPE=image/jpeg:https://www.listeso.com/wp-content/uploads/2025/10/db5e6616-3f9a-11f0-9af7-a6a57dea6d84-eMG6MO.jpg
END:VEVENT
END:VCALENDAR