BEGIN:VCALENDAR
VERSION:2.0
PRODID:-//Listeso Music Group - A Boutique String Quartet Agency - ECPv6.15.20//NONSGML v1.0//EN
CALSCALE:GREGORIAN
METHOD:PUBLISH
X-WR-CALNAME:Listeso Music Group - A Boutique String Quartet Agency
X-ORIGINAL-URL:https://www.listeso.com
X-WR-CALDESC:Events for Listeso Music Group - A Boutique String Quartet Agency
REFRESH-INTERVAL;VALUE=DURATION:PT1H
X-Robots-Tag:noindex
X-PUBLISHED-TTL:PT1H
BEGIN:VTIMEZONE
TZID:America/New_York
BEGIN:DAYLIGHT
TZOFFSETFROM:-0500
TZOFFSETTO:-0400
TZNAME:EDT
DTSTART:20250309T070000
END:DAYLIGHT
BEGIN:STANDARD
TZOFFSETFROM:-0400
TZOFFSETTO:-0500
TZNAME:EST
DTSTART:20251102T060000
END:STANDARD
BEGIN:DAYLIGHT
TZOFFSETFROM:-0500
TZOFFSETTO:-0400
TZNAME:EDT
DTSTART:20260308T070000
END:DAYLIGHT
BEGIN:STANDARD
TZOFFSETFROM:-0400
TZOFFSETTO:-0500
TZNAME:EST
DTSTART:20261101T060000
END:STANDARD
BEGIN:DAYLIGHT
TZOFFSETFROM:-0500
TZOFFSETTO:-0400
TZNAME:EDT
DTSTART:20270314T070000
END:DAYLIGHT
BEGIN:STANDARD
TZOFFSETFROM:-0400
TZOFFSETTO:-0500
TZNAME:EST
DTSTART:20271107T060000
END:STANDARD
END:VTIMEZONE
BEGIN:VEVENT
DTSTART;TZID=America/New_York:20260102T204500
DTEND;TZID=America/New_York:20260102T214500
DTSTAMP:20260421T173850
CREATED:20251108T122040Z
LAST-MODIFIED:20251108T122040Z
UID:23788-1767386700-1767390300@www.listeso.com
SUMMARY:Candlelight: Mozart vs Beethoven
DESCRIPTION:Overview\nCandlelight concerts bring the magic of a live\, multi-sensory musical experience to awe-inspiring locations like never seen before in Charlotte. Get your tickets now to discover the music of Mozart vs Beethoven at The Barrel Room at Triple C Brewing under the gentle glow of candlelight. \nGeneral Info\n\n📍 Venue: The Barrel Room at Triple C Brewing\n⏳ Duration: 60 minutes. Doors open 45 minutes before the show and close 5 minutes prior to the start. Late arrivals will not be permitted\n👤 Age requirement: 8 years old or older. Anyone under the age of 16 must be accompanied by an adult\n♿ Accessibility: ADA compliant\n🪑 Seating: Seating is assigned on a first come first served basis in each zone\n\nTentative Program\nWolfgang Amadeus Mozart \n\nSonata No. 11 en A Mayor\, K. 331: III. Alla Turca (Marcha Turca)\nLas Bodas de Fígaro\, K. 492: Obertura\nSinfonía No. 25 en G Mayor\, K. 183: I. Allegro Con Brio\nEine kleine Nachtmusik K. 525: I. Allegro\nSinfonía No. 40 en G menor\, K. 550: I. Allegro Molto\n\nLudwig van Beethoven \n\nSonata No. 14 en C# menor\, Op. 27\, No. 2 Quasi una fantasia: I. Adagio Sostenuto (Claro de Luna)\nSonate Pathétique No. 8 en C Menor\, Op. 13: II. Adagio\nBagatelle No. 25 en A menor: Für Elise\nLas Ruinas de Atenas\, Op. 113: IV. Marcha Turca\nCuarteto de Cuerdas No. 4 en C menor\, Op. 18 No. 4: III. Allegretto\nSinfonía No. 7 en A Mayor\, Op. 92: II. Allegretto\nSinfonía No. 9 en D menor\, Op. 125: IV. Presto/Allegro Assai – Oda a la Alegría (Ode To Joy)\nSinfonía No. 5 en C menor\, Op. 67: I. Allegro Con Brio\n\nPerformers\n🎻 Charlotte Strings Quartet \nBook a Private Event\nLooking to create an unforgettable experience for your wedding\, or special occasion? We offer private event bookings with customized programs tailored to your needs. \nGet a quote
URL:https://www.listeso.com/concert/2026-01-02-the-barrel-room-at-triple-c-brewing-mozart-vs-beethoven/
LOCATION:The Barrel Room at Triple C Brewing\, Charlotte\, NC\, United States
CATEGORIES:Charlotte, NC
ATTACH;FMTTYPE=image/jpeg:https://www.listeso.com/wp-content/uploads/2025/10/45214c18-0a25-11f0-824f-2e4e2e323269-fYSstE.jpg
END:VEVENT
END:VCALENDAR