BEGIN:VCALENDAR
VERSION:2.0
PRODID:-//Listeso Music Group - A Boutique String Quartet Agency - ECPv6.15.20//NONSGML v1.0//EN
CALSCALE:GREGORIAN
METHOD:PUBLISH
X-WR-CALNAME:Listeso Music Group - A Boutique String Quartet Agency
X-ORIGINAL-URL:https://www.listeso.com
X-WR-CALDESC:Events for Listeso Music Group - A Boutique String Quartet Agency
REFRESH-INTERVAL;VALUE=DURATION:PT1H
X-Robots-Tag:noindex
X-PUBLISHED-TTL:PT1H
BEGIN:VTIMEZONE
TZID:America/Chicago
BEGIN:DAYLIGHT
TZOFFSETFROM:-0600
TZOFFSETTO:-0500
TZNAME:CDT
DTSTART:20250309T080000
END:DAYLIGHT
BEGIN:STANDARD
TZOFFSETFROM:-0500
TZOFFSETTO:-0600
TZNAME:CST
DTSTART:20251102T070000
END:STANDARD
BEGIN:DAYLIGHT
TZOFFSETFROM:-0600
TZOFFSETTO:-0500
TZNAME:CDT
DTSTART:20260308T080000
END:DAYLIGHT
BEGIN:STANDARD
TZOFFSETFROM:-0500
TZOFFSETTO:-0600
TZNAME:CST
DTSTART:20261101T070000
END:STANDARD
BEGIN:DAYLIGHT
TZOFFSETFROM:-0600
TZOFFSETTO:-0500
TZNAME:CDT
DTSTART:20270314T080000
END:DAYLIGHT
BEGIN:STANDARD
TZOFFSETFROM:-0500
TZOFFSETTO:-0600
TZNAME:CST
DTSTART:20271107T070000
END:STANDARD
END:VTIMEZONE
BEGIN:VEVENT
DTSTART;TZID=America/Chicago:20260103T204500
DTEND;TZID=America/Chicago:20260103T214500
DTSTAMP:20260421T115940
CREATED:20251105T120505Z
LAST-MODIFIED:20251105T120505Z
UID:23603-1767473100-1767476700@www.listeso.com
SUMMARY:Candlelight: The Best of Joe Hisaishi
DESCRIPTION:Overview\nCandlelight concerts bring the magic of a live\, multi-sensory musical experience to awe-inspiring locations like never seen before in Dallas. Get your tickets now to discover the music of Joe Hisaishi at The Joule under the gentle glow of candlelight. \nGeneral Info\n\n📍 Venue: The Joule\n⏳ Duration: 60 minutes. Doors open 45 minutes before the show and close 5 minutes prior to the start. Late arrivals will not be permitted\n👤 Age requirement: 8 years old or older. Anyone under the age of 16 must be accompanied by an adult\n♿ Accessibility: This venue is ADA compliant\n🪑 Seating: Seating is assigned on a first come first served basis in each zone\n\nTentative Program\n\nNausicaa of the Valley of the Wind – Kaze no Tani\nLaputa: Castle in the Sky – Kimi wo Nosete\nMy Neighbour Totoro – Kaze no Toori Michi\nMy Neighbour Totoro – Main Theme\nKiki’s Delivery Service – Umi no Mieru Machi\nPrincess Mononoke – Main Theme\nSpirited Away – Inochi no Namae\nSpirited Away – Chihiro’s Waltz\nThe Tale of Princess Kaguya – When I Remember This Life\nPonyo – Gake no Ue no Ponyo\nThe Wind Rises – A Journey (A Dream of Flight)\nHowl’s Moving Castle – Merry Go Round of Life\n\nPerformers\n🎻 Listeso String Quartet \nBook a Private Event\nLooking to create an unforgettable experience for your wedding\, or special occasion? We offer private event bookings with customized programs tailored to your needs. \nGet a quote
URL:https://www.listeso.com/concert/2026-01-03-the-joule-candlelight-the-best-of-joe-hisaishi/
LOCATION:The Joule\, Dallas\, TX\, United States
CATEGORIES:Dallas, TX
ATTACH;FMTTYPE=image/jpeg:https://www.listeso.com/wp-content/uploads/2025/10/53c8cd2a-1517-11f0-a7de-a6b24187f688-pzfinJ.jpg
END:VEVENT
END:VCALENDAR