BEGIN:VCALENDAR
VERSION:2.0
PRODID:-//Listeso Music Group - A Boutique String Quartet Agency - ECPv6.15.20//NONSGML v1.0//EN
CALSCALE:GREGORIAN
METHOD:PUBLISH
X-WR-CALNAME:Listeso Music Group - A Boutique String Quartet Agency
X-ORIGINAL-URL:https://www.listeso.com
X-WR-CALDESC:Events for Listeso Music Group - A Boutique String Quartet Agency
REFRESH-INTERVAL;VALUE=DURATION:PT1H
X-Robots-Tag:noindex
X-PUBLISHED-TTL:PT1H
BEGIN:VTIMEZONE
TZID:America/New_York
BEGIN:DAYLIGHT
TZOFFSETFROM:-0500
TZOFFSETTO:-0400
TZNAME:EDT
DTSTART:20250309T070000
END:DAYLIGHT
BEGIN:STANDARD
TZOFFSETFROM:-0400
TZOFFSETTO:-0500
TZNAME:EST
DTSTART:20251102T060000
END:STANDARD
BEGIN:DAYLIGHT
TZOFFSETFROM:-0500
TZOFFSETTO:-0400
TZNAME:EDT
DTSTART:20260308T070000
END:DAYLIGHT
BEGIN:STANDARD
TZOFFSETFROM:-0400
TZOFFSETTO:-0500
TZNAME:EST
DTSTART:20261101T060000
END:STANDARD
BEGIN:DAYLIGHT
TZOFFSETFROM:-0500
TZOFFSETTO:-0400
TZNAME:EDT
DTSTART:20270314T070000
END:DAYLIGHT
BEGIN:STANDARD
TZOFFSETFROM:-0400
TZOFFSETTO:-0500
TZNAME:EST
DTSTART:20271107T060000
END:STANDARD
END:VTIMEZONE
BEGIN:VEVENT
DTSTART;TZID=America/New_York:20260103T190000
DTEND;TZID=America/New_York:20260103T200000
DTSTAMP:20260421T140715
CREATED:20251202T120323Z
LAST-MODIFIED:20251202T120323Z
UID:24874-1767466800-1767470400@www.listeso.com
SUMMARY:Candlelight: Favorite Anime Themes
DESCRIPTION:Overview\nCandlelight concerts bring the magic of a live\, multi-sensory musical experience to awe-inspiring locations like never seen before in Boston. Get your tickets now to discover the music of anime themes at The Simons Theatre under the gentle glow of candlelight. \nGeneral Info\n\n📍 Venue: The Simons Theatre at The New England Aquarium\n⏳ Duration: 60 minutes. Doors open 45 minutes before the show. No entry once it starts.\n👤 Age requirement: 8 years old or older. Anyone under the age of 16 must be accompanied by an adult\n♿ Accessibility: This venue is ADA compliant\n🪑 Seating: Seating is assigned on a first come first served basis in each zone\n\nTentative Program\n\nTokyo Ghoul – Unravel\nYuri!!! On Ice – In Regards to Love – Eros\nNeon Genesis Evangelion – A Cruel Angel’s Thesis\nNaruto – Blue Bird\nInuyasha Medley\nDetective Conan – Case Closed (Theme)\nAttack on Titan – Shinzou Wo Sasageyo\nFullmetal Alchemist: Brotherhood – Again\nSailor Moon – Moonlight Densetsu\nDeath Note – The World\nElfen Lied – Lilium\nDragon Ball – Mystical Adventure\nJoJo’s Bizarre Adventure – Sono Chi no Sadame\nDemon Slayer – Gurenge\nYour Name – Sparkle\nOne Piece – We Are!\nStudio Ghibli Medley\n\nPerformers\n🎻 Rasa String Quartet \nBook a Private Event\nLooking to create an unforgettable experience for your wedding\, or special occasion? We offer private event bookings with customized programs tailored to your needs. \nGet a quote
URL:https://www.listeso.com/concert/2026-01-03-the-simons-theatre-at-the-new-england-aquarium-candlelight-favorite-anime-themes/
LOCATION:The Simons Theatre at The New England Aquarium\, 1 Central Wharf\, Boston\, MA\, 02110\, United States
CATEGORIES:Boston, MA
ATTACH;FMTTYPE=image/jpeg:https://www.listeso.com/wp-content/uploads/2025/10/db2de808-212a-11f0-b79c-7a11fc7247bd-cR4i4G.jpg
END:VEVENT
END:VCALENDAR