BEGIN:VCALENDAR
VERSION:2.0
PRODID:-//Listeso Music Group - A Boutique String Quartet Agency - ECPv6.15.20//NONSGML v1.0//EN
CALSCALE:GREGORIAN
METHOD:PUBLISH
X-WR-CALNAME:Listeso Music Group - A Boutique String Quartet Agency
X-ORIGINAL-URL:https://www.listeso.com
X-WR-CALDESC:Events for Listeso Music Group - A Boutique String Quartet Agency
REFRESH-INTERVAL;VALUE=DURATION:PT1H
X-Robots-Tag:noindex
X-PUBLISHED-TTL:PT1H
BEGIN:VTIMEZONE
TZID:America/New_York
BEGIN:DAYLIGHT
TZOFFSETFROM:-0500
TZOFFSETTO:-0400
TZNAME:EDT
DTSTART:20250309T070000
END:DAYLIGHT
BEGIN:STANDARD
TZOFFSETFROM:-0400
TZOFFSETTO:-0500
TZNAME:EST
DTSTART:20251102T060000
END:STANDARD
BEGIN:DAYLIGHT
TZOFFSETFROM:-0500
TZOFFSETTO:-0400
TZNAME:EDT
DTSTART:20260308T070000
END:DAYLIGHT
BEGIN:STANDARD
TZOFFSETFROM:-0400
TZOFFSETTO:-0500
TZNAME:EST
DTSTART:20261101T060000
END:STANDARD
BEGIN:DAYLIGHT
TZOFFSETFROM:-0500
TZOFFSETTO:-0400
TZNAME:EDT
DTSTART:20270314T070000
END:DAYLIGHT
BEGIN:STANDARD
TZOFFSETFROM:-0400
TZOFFSETTO:-0500
TZNAME:EST
DTSTART:20271107T060000
END:STANDARD
END:VTIMEZONE
BEGIN:VEVENT
DTSTART;TZID=America/New_York:20260104T204500
DTEND;TZID=America/New_York:20260104T214500
DTSTAMP:20260421T112941
CREATED:20251109T121343Z
LAST-MODIFIED:20251109T121343Z
UID:23948-1767559500-1767563100@www.listeso.com
SUMMARY:Candlelight: Tribute to Bad Bunny
DESCRIPTION:Overview\nCandlelight concerts bring the magic of a live\, multi-sensory musical experience to awe-inspiring locations like never seen before in New York. Get your tickets now to discover the music of Bad Bunny at Sony Hall under the gentle glow of candlelight. \n🍽️🕯️ Upgrade your Candlelight experience and make it unforgettable with a three course dinner from Sony Hall’s prix-fixe menu! You may select any appetizer\, entree\, and dessert from the prix-fixe menu. Alternatively\, enhance your evening with a meal at Sony Hall before or during the show\, where you can order from the full restaurant menu. \nPlease note that beverages will be for sale onsite and are NOT included in the Three Course Prix-Fixe Dinner selection. \nGeneral Info\n\n📍 Venue: Sony Hall\n⏳ Duration: 60 minutes. Doors open 60 minutes before the show and close 5 minutes prior to the start. Late arrivals will not be permitted\n👤 Age requirement: 8 years old or older. Anyone under the age of 16 must be accompanied by an adult\n♿ Accessibility: This venue is ADA compliant\n🪑 Seating: Seating is assigned on a first come first served basis in each zone\n\nTentative Program\n\nMoscow Mule\nDákiti (featuring Jhayco)\nLa Noche de Anoche (featuring Rosalía)\nSi Veo a Tu Mamá\nMIA (featuring Drake)\nSi Estuviésemos Juntos\nOtra Noche en Miami\nCallaíta (featuring Tainy)\nOjitos Lindos (featuring Bomba Estéreo)\nMe Porto Bonito (featuring Chencho Corleone)\nLa Canción\nYonaguni\nun 100xto (Grupo Frontera featuring Bad Bunny)\nTití Me Preguntó\n\nPerformers\n🎻 Highline String Quartet \nBook a Private Event\nLooking to create an unforgettable experience for your wedding\, or special occasion? We offer private event bookings with customized programs tailored to your needs. \nGet a quote
URL:https://www.listeso.com/concert/2026-01-04-sony-hall-tribute-to-bad-bunny/
LOCATION:Sony Hall\, 235 W 46th St\, New York\, NY\, 10036\, United States
CATEGORIES:New York, NY
ATTACH;FMTTYPE=image/jpeg:https://www.listeso.com/wp-content/uploads/2025/10/76b3e3c6-679f-11f0-a91b-82cebf7f9446-gzfjqM.jpg
END:VEVENT
END:VCALENDAR