BEGIN:VCALENDAR
VERSION:2.0
PRODID:-//Listeso Music Group - A Boutique String Quartet Agency - ECPv6.15.20//NONSGML v1.0//EN
CALSCALE:GREGORIAN
METHOD:PUBLISH
X-WR-CALNAME:Listeso Music Group - A Boutique String Quartet Agency
X-ORIGINAL-URL:https://www.listeso.com
X-WR-CALDESC:Events for Listeso Music Group - A Boutique String Quartet Agency
REFRESH-INTERVAL;VALUE=DURATION:PT1H
X-Robots-Tag:noindex
X-PUBLISHED-TTL:PT1H
BEGIN:VTIMEZONE
TZID:America/Toronto
BEGIN:DAYLIGHT
TZOFFSETFROM:-0500
TZOFFSETTO:-0400
TZNAME:EDT
DTSTART:20250309T070000
END:DAYLIGHT
BEGIN:STANDARD
TZOFFSETFROM:-0400
TZOFFSETTO:-0500
TZNAME:EST
DTSTART:20251102T060000
END:STANDARD
BEGIN:DAYLIGHT
TZOFFSETFROM:-0500
TZOFFSETTO:-0400
TZNAME:EDT
DTSTART:20260308T070000
END:DAYLIGHT
BEGIN:STANDARD
TZOFFSETFROM:-0400
TZOFFSETTO:-0500
TZNAME:EST
DTSTART:20261101T060000
END:STANDARD
BEGIN:DAYLIGHT
TZOFFSETFROM:-0500
TZOFFSETTO:-0400
TZNAME:EDT
DTSTART:20270314T070000
END:DAYLIGHT
BEGIN:STANDARD
TZOFFSETFROM:-0400
TZOFFSETTO:-0500
TZNAME:EST
DTSTART:20271107T060000
END:STANDARD
END:VTIMEZONE
BEGIN:VEVENT
DTSTART;TZID=America/Toronto:20260109T183000
DTEND;TZID=America/Toronto:20260109T193000
DTSTAMP:20260426T041025
CREATED:20251111T121443Z
LAST-MODIFIED:20251111T121443Z
UID:24070-1767983400-1767987000@www.listeso.com
SUMMARY:Candlelight : Les Quatre Saisons de Vivaldi
DESCRIPTION:Overview\nCandlelight t’offre des expériences musicales magiques dans de magnifiques lieux éclairés à la bougie à Sherbrooke. Achète tes billets dès maintenant et redécouvre Les Quatre Saisons de Vivaldi interprétées par un quatuor à cordes à l’Église Saint-Jean Baptiste ! \nGeneral Info\n\n📍 Lieu : Église Saint-Jean Baptiste (Sherbrooke)\n⏳ Duration: 60 minutes environ. Les portes ouvrent 30 minutes avant le début du concert. Les retards ne seront pas permis\n👤 Âge requis : à partir de 8 ans. Les spectateurs de moins de 16 ans doivent être accompagné par un adulte\n♿ Accessibilité : cet endroit est accessible en chaise roulante\n🪑 Seating: Les places sont assignées par ordre d’arrivée\, selon la catégorie réservée\n\nProgramme\n\nVivaldi – Les Quatre Saisons\, Violin Concerto in G Minor\, Op. 8 No. 1 RV 269: “Printemps”\nVivaldi – Les Quatre Saisons\, Violin Concerto in G Minor\, Op. 8 No. 2 RV 315: “Été”\nJules Massenet – “Méditation” de Thaïs\nMax Richter – Recomposed by Max Richter: Vivaldi\, The Four Seasons: Spring 3\nAstor Piazzolla – The Cuatro Estaciones Porteñas: Verano Porteño\nAstor Piazzolla – “Libertango”\nVivaldi – Les Quatre Saisons\, Violin Concerto in G Minor\, Op. 8 No. 3 RV 293: “Automne”\nVivaldi – Les Quatre Saisons\, Violin Concerto in G Minor\, Op. 8 No. 4 RV 297: “Hiver”\n\nPerformers\n🎻 Quatuor à cordes \n\n2 violonistes\n1 altiste\n1 violoncelliste\n\nBook a Private Event\nLooking to create an unforgettable experience for your wedding\, or special occasion? We offer private event bookings with customized programs tailored to your needs. \nGet a quote
URL:https://www.listeso.com/concert/2026-01-09-eglise-saint-jean-baptiste-les-quatre-saisons-de-vivaldi/
LOCATION:Église Saint-Jean Baptiste\, Sherbrooke\, Canada
CATEGORIES:Sherbrooke, QC
ATTACH;FMTTYPE=image/jpeg:https://www.listeso.com/wp-content/uploads/2025/10/9f8fa516-1ab3-11f0-acbb-460e748c3556-z1oZCe.jpg
END:VEVENT
END:VCALENDAR