BEGIN:VCALENDAR
VERSION:2.0
PRODID:-//Listeso Music Group - A Boutique String Quartet Agency - ECPv6.15.20//NONSGML v1.0//EN
CALSCALE:GREGORIAN
METHOD:PUBLISH
X-WR-CALNAME:Listeso Music Group - A Boutique String Quartet Agency
X-ORIGINAL-URL:https://www.listeso.com
X-WR-CALDESC:Events for Listeso Music Group - A Boutique String Quartet Agency
REFRESH-INTERVAL;VALUE=DURATION:PT1H
X-Robots-Tag:noindex
X-PUBLISHED-TTL:PT1H
BEGIN:VTIMEZONE
TZID:America/New_York
BEGIN:DAYLIGHT
TZOFFSETFROM:-0500
TZOFFSETTO:-0400
TZNAME:EDT
DTSTART:20250309T070000
END:DAYLIGHT
BEGIN:STANDARD
TZOFFSETFROM:-0400
TZOFFSETTO:-0500
TZNAME:EST
DTSTART:20251102T060000
END:STANDARD
BEGIN:DAYLIGHT
TZOFFSETFROM:-0500
TZOFFSETTO:-0400
TZNAME:EDT
DTSTART:20260308T070000
END:DAYLIGHT
BEGIN:STANDARD
TZOFFSETFROM:-0400
TZOFFSETTO:-0500
TZNAME:EST
DTSTART:20261101T060000
END:STANDARD
BEGIN:DAYLIGHT
TZOFFSETFROM:-0500
TZOFFSETTO:-0400
TZNAME:EDT
DTSTART:20270314T070000
END:DAYLIGHT
BEGIN:STANDARD
TZOFFSETFROM:-0400
TZOFFSETTO:-0500
TZNAME:EST
DTSTART:20271107T060000
END:STANDARD
END:VTIMEZONE
BEGIN:VEVENT
DTSTART;TZID=America/New_York:20260109T203000
DTEND;TZID=America/New_York:20260109T213000
DTSTAMP:20260426T024328
CREATED:20251111T120322Z
LAST-MODIFIED:20251111T120322Z
UID:24033-1767990600-1767994200@www.listeso.com
SUMMARY:Candlelight: Neo-Soul and Hip-Hop Favorites
DESCRIPTION:Overview\nCandlelight concerts bring the magic of a live\, multi-sensory musical experience to awe-inspiring locations like never seen before in Charleston. Get your tickets now to discover the music of Neo-Soul and Hip-Hop Favorites at The Unitarian Church under the gentle glow of candlelight. \nGeneral Info\n\n📍 Venue: The Unitarian Church\n⏳ Duration: 60 minutes. Doors open 45 minutes before the show and close 5 minutes prior to the start. Late arrivals will not be permitted\n👤 Age requirement: 8 years old or older. Anyone under the age of 16 must be accompanied by an adult\n♿ Accessibility: this venue is ADA compliant\n🪑 Seating: Seating is assigned on a first come first served basis in each zone\n\nTentative Program\n\n“Biking” – Frank Ocean\n“Earned It” – The Weeknd\n“He Loves Me” – Jill Scott\n“Lucid Dreams” – Juice WRLD\n“Love Galore” – SZA\n“Ordinary People” – John Legend\n“This Woman’s Work” – Maxwell\n“Ready for Love” – India.Arie\n“Redbone” – Childish Gambino\n“Un-Thinkable (I’m Ready)” – Alicia Keys\n\nPerformers\n🎻 Listeso String Quartet \nBook a Private Event\nLooking to create an unforgettable experience for your wedding\, or special occasion? We offer private event bookings with customized programs tailored to your needs. \nGet a quote
URL:https://www.listeso.com/concert/2026-01-09-the-unitarian-church-neo-soul-and-hip-hop-favorites/
LOCATION:The Unitarian Church\, Charleston\, SC\, United States
CATEGORIES:Charleston, SC
ATTACH;FMTTYPE=image/jpeg:https://www.listeso.com/wp-content/uploads/2025/10/545c11c8-146a-11f0-849f-5e20d3b04074-w9BUXK.jpg
END:VEVENT
END:VCALENDAR