BEGIN:VCALENDAR
VERSION:2.0
PRODID:-//Listeso Music Group - A Boutique String Quartet Agency - ECPv6.15.20//NONSGML v1.0//EN
CALSCALE:GREGORIAN
METHOD:PUBLISH
X-WR-CALNAME:Listeso Music Group - A Boutique String Quartet Agency
X-ORIGINAL-URL:https://www.listeso.com
X-WR-CALDESC:Events for Listeso Music Group - A Boutique String Quartet Agency
REFRESH-INTERVAL;VALUE=DURATION:PT1H
X-Robots-Tag:noindex
X-PUBLISHED-TTL:PT1H
BEGIN:VTIMEZONE
TZID:America/Indiana/Indianapolis
BEGIN:DAYLIGHT
TZOFFSETFROM:-0500
TZOFFSETTO:-0400
TZNAME:EDT
DTSTART:20250309T070000
END:DAYLIGHT
BEGIN:STANDARD
TZOFFSETFROM:-0400
TZOFFSETTO:-0500
TZNAME:EST
DTSTART:20251102T060000
END:STANDARD
BEGIN:DAYLIGHT
TZOFFSETFROM:-0500
TZOFFSETTO:-0400
TZNAME:EDT
DTSTART:20260308T070000
END:DAYLIGHT
BEGIN:STANDARD
TZOFFSETFROM:-0400
TZOFFSETTO:-0500
TZNAME:EST
DTSTART:20261101T060000
END:STANDARD
BEGIN:DAYLIGHT
TZOFFSETFROM:-0500
TZOFFSETTO:-0400
TZNAME:EDT
DTSTART:20270314T070000
END:DAYLIGHT
BEGIN:STANDARD
TZOFFSETFROM:-0400
TZOFFSETTO:-0500
TZNAME:EST
DTSTART:20271107T060000
END:STANDARD
END:VTIMEZONE
BEGIN:VEVENT
DTSTART;TZID=America/Indiana/Indianapolis:20260110T183000
DTEND;TZID=America/Indiana/Indianapolis:20260110T193000
DTSTAMP:20260426T024004
CREATED:20251112T120803Z
LAST-MODIFIED:20251112T120803Z
UID:24096-1768069800-1768073400@www.listeso.com
SUMMARY:Candlelight: Featuring Vivaldi's Four Seasons & More
DESCRIPTION:Overview\nCandlelight concerts bring the magic of a live\, multi-sensory musical experience to awe-inspiring locations like never seen before in Indianapolis. Get your tickets now to discover Vivaldi and more at Scottish Rite Cathedral under the gentle glow of candlelight. \nGeneral Info\n\n📍 Venue: Scottish Rite Cathedral\n⏳ Duration: 60 minutes. Doors open 45 minutes before the show and close 5 minutes prior to the start. Late arrivals will not be permitted\n👤 Age requirement: 8 years old or older. Anyone under the age of 16 must be accompanied by an adult\n♿ Accessibility: this venue is ADA compliant\n🪑 Seating: Seating is assigned on a first come first served basis in each zone\n\nTentative Program\n\n“The Four Seasons\, Violin Concerto in G Minor\, Op. 8 No. 1 RV 269: Spring” – Vivaldi\n“The Four Seasons\, Violin Concerto in G Minor\, Op. 8 No. 2 RV 315: Summer” – Vivaldi\n“Thaïs: Méditation” – Jules Massenet\n“Recomposed by Max Richter: Vivaldi\, The Four Seasons: Spring 3” – Max Richter\n“The Cuatro Estaciones Porteñas: Verano Porteño” – Astor Piazzolla\n“Libertango” – Astor Piazzolla\n“The Four Seasons\, Violin Concerto in G Minor\, Op. 8 No. 3 RV 293: Autumn” – Vivaldi\n“The Four Seasons\, Violin Concerto in G Minor\, Op. 8 No. 4 RV 297: Winter” – Vivaldi\n\nPerformers\n🎻 Listeso String Quartet \nBook a Private Event\nLooking to create an unforgettable experience for your wedding\, or special occasion? We offer private event bookings with customized programs tailored to your needs. \nGet a quote
URL:https://www.listeso.com/concert/2026-01-10-scottish-rite-cathedral-vivaldis-four-seasons/
LOCATION:Scottish Rite Cathedral\, Indianapolis\, IN\, United States
CATEGORIES:Indianapolis, IN
ATTACH;FMTTYPE=image/jpeg:https://www.listeso.com/wp-content/uploads/2025/09/a6458ad6-1ab5-11f0-ae39-428e7df71db3-PiozRZ.jpg
END:VEVENT
END:VCALENDAR