BEGIN:VCALENDAR
VERSION:2.0
PRODID:-//Listeso Music Group - A Boutique String Quartet Agency - ECPv6.15.20//NONSGML v1.0//EN
CALSCALE:GREGORIAN
METHOD:PUBLISH
X-WR-CALNAME:Listeso Music Group - A Boutique String Quartet Agency
X-ORIGINAL-URL:https://www.listeso.com
X-WR-CALDESC:Events for Listeso Music Group - A Boutique String Quartet Agency
REFRESH-INTERVAL;VALUE=DURATION:PT1H
X-Robots-Tag:noindex
X-PUBLISHED-TTL:PT1H
BEGIN:VTIMEZONE
TZID:America/New_York
BEGIN:DAYLIGHT
TZOFFSETFROM:-0500
TZOFFSETTO:-0400
TZNAME:EDT
DTSTART:20250309T070000
END:DAYLIGHT
BEGIN:STANDARD
TZOFFSETFROM:-0400
TZOFFSETTO:-0500
TZNAME:EST
DTSTART:20251102T060000
END:STANDARD
BEGIN:DAYLIGHT
TZOFFSETFROM:-0500
TZOFFSETTO:-0400
TZNAME:EDT
DTSTART:20260308T070000
END:DAYLIGHT
BEGIN:STANDARD
TZOFFSETFROM:-0400
TZOFFSETTO:-0500
TZNAME:EST
DTSTART:20261101T060000
END:STANDARD
BEGIN:DAYLIGHT
TZOFFSETFROM:-0500
TZOFFSETTO:-0400
TZNAME:EDT
DTSTART:20270314T070000
END:DAYLIGHT
BEGIN:STANDARD
TZOFFSETFROM:-0400
TZOFFSETTO:-0500
TZNAME:EST
DTSTART:20271107T060000
END:STANDARD
END:VTIMEZONE
BEGIN:VEVENT
DTSTART;TZID=America/New_York:20260111T204500
DTEND;TZID=America/New_York:20260111T214500
DTSTAMP:20260422T011625
CREATED:20251113T120348Z
LAST-MODIFIED:20251113T120348Z
UID:24216-1768164300-1768167900@www.listeso.com
SUMMARY:Candlelight: Tribute to Bad Bunny
DESCRIPTION:Overview\nCandlelight concerts bring the magic of a live\, multi-sensory musical experience to awe-inspiring locations like never seen before in Jacksonville. Get your tickets now to discover the music of Bad Bunny at Jacksonville Public Library held in the Ann & David Hicks Auditorium under the gentle glow of candlelight. \nGeneral Info\n\n📍 Venue: Jacksonville Public Library held in the Ann & David Hicks Auditorium\n⏳ Duration: 60 minutes. Doors open 45 minutes before the show and close 5 minutes prior to the start. Late arrivals will not be permitted\n👤 Age requirement: 8 years old or older. Anyone under the age of 16 must be accompanied by an adult\n♿ Accessibility: ADA compliant\n🪑 Seating: Seating is assigned on a first come first served basis in each zone\n\nTentative Program\n\nNUEVAYol\nSi Estuviésemos Juntos\nLa Canción\nLa Noche de Anoche\nYonaguni\nMoscow Mule\nCallaíta\nOjitos Lindos\nMe Porto Bonito\nTití Me Preguntó\nun 100xto\nBAILE INoLVIDABLE\nDtMF – LA MuDANZA medley\n\nPerformers\n🎻 Listeso String Quartet \nBook a Private Event\nLooking to create an unforgettable experience for your wedding\, or special occasion? We offer private event bookings with customized programs tailored to your needs. \nGet a quote
URL:https://www.listeso.com/concert/2026-01-11-jacksonville-public-library-held-in-the-ann-david-hicks-auditorium-tribute-to-bad-bunny/
LOCATION:Jacksonville Public Library held in the Ann & David Hicks Auditorium\, Jacksonville\, FL\, United States
CATEGORIES:Jacksonville, FL
ATTACH;FMTTYPE=image/jpeg:https://www.listeso.com/wp-content/uploads/2025/10/52c8b748-6862-11f0-b24e-028657a42e43-ScI6q7.jpg
END:VEVENT
END:VCALENDAR