BEGIN:VCALENDAR
VERSION:2.0
PRODID:-//Listeso Music Group - A Boutique String Quartet Agency - ECPv6.15.20//NONSGML v1.0//EN
CALSCALE:GREGORIAN
METHOD:PUBLISH
X-WR-CALNAME:Listeso Music Group - A Boutique String Quartet Agency
X-ORIGINAL-URL:https://www.listeso.com
X-WR-CALDESC:Events for Listeso Music Group - A Boutique String Quartet Agency
REFRESH-INTERVAL;VALUE=DURATION:PT1H
X-Robots-Tag:noindex
X-PUBLISHED-TTL:PT1H
BEGIN:VTIMEZONE
TZID:America/Toronto
BEGIN:DAYLIGHT
TZOFFSETFROM:-0500
TZOFFSETTO:-0400
TZNAME:EDT
DTSTART:20250309T070000
END:DAYLIGHT
BEGIN:STANDARD
TZOFFSETFROM:-0400
TZOFFSETTO:-0500
TZNAME:EST
DTSTART:20251102T060000
END:STANDARD
BEGIN:DAYLIGHT
TZOFFSETFROM:-0500
TZOFFSETTO:-0400
TZNAME:EDT
DTSTART:20260308T070000
END:DAYLIGHT
BEGIN:STANDARD
TZOFFSETFROM:-0400
TZOFFSETTO:-0500
TZNAME:EST
DTSTART:20261101T060000
END:STANDARD
BEGIN:DAYLIGHT
TZOFFSETFROM:-0500
TZOFFSETTO:-0400
TZNAME:EDT
DTSTART:20270314T070000
END:DAYLIGHT
BEGIN:STANDARD
TZOFFSETFROM:-0400
TZOFFSETTO:-0500
TZNAME:EST
DTSTART:20271107T060000
END:STANDARD
END:VTIMEZONE
BEGIN:VEVENT
DTSTART;TZID=America/Toronto:20260116T203000
DTEND;TZID=America/Toronto:20260116T213000
DTSTAMP:20260421T154845
CREATED:20251119T121517Z
LAST-MODIFIED:20251119T121517Z
UID:24377-1768595400-1768599000@www.listeso.com
SUMMARY:Candlelight: Queen et Les Beatles
DESCRIPTION:Overview\nCandlelight t’offre des expériences musicales magiques dans de magnifiques lieux éclairés à la bougie. Profite de ce concert mettant en vedette les plus grands succès de Queen et Les Beatles\, interprétés par un quatuor à cordes dans la magnifique Église St-George de Granby. \nGeneral Info\n\n⏳ Duration: 60 minutes environ. Les portes ouvrent 45 minutes avant le début du concert.\n👤 Age requirement: À partir de 8 ans. Les spectateurs de moins de 16 ans doivent être accompagnés par un adulte.\n♿ Accessibility: Cet endroit est accessible en chaise roulante.\n🪑 Seating: Les places sont assignées par ordre d’arrivée\, selon la catégorie réservée. Les retards ne seront pas permis.\n\nProgram\n\nHere Comes the Sun – The Beatles\nBlackbird – The Beatles\nHelp! – The Beatles\nCome Together – The Beatles\nYesterday – The Beatles\nAll You Need Is Love – The Beatles\nLove of My Life – Queen\nAnother One Bites the Dust – Queen\nI Want to Break Free – Queen\nWe Are the Champions – Queen\nWe Will Rock You – Queen\nRadio Ga-Ga – Queen\nBohemian Rhapsody – Queen\n\nPerformers\n🎻 Quatuor à cordes – Listeso \nBook a Private Event\nLooking to create an unforgettable experience for your wedding\, or special occasion? We offer private event bookings with customized programs tailored to your needs. \nGet a quote
URL:https://www.listeso.com/concert/2026-01-16-eglise-st-george-candlelight-queen-et-les-beatles/
LOCATION:Église St-George\, Granby\, Canada
CATEGORIES:Granby, QC
ATTACH;FMTTYPE=image/jpeg:https://www.listeso.com/wp-content/uploads/2025/11/06670024-d327-11ef-82d4-f633ea2c90e7-prIOcF.jpg
END:VEVENT
END:VCALENDAR