BEGIN:VCALENDAR
VERSION:2.0
PRODID:-//Listeso Music Group - A Boutique String Quartet Agency - ECPv6.15.20//NONSGML v1.0//EN
CALSCALE:GREGORIAN
METHOD:PUBLISH
X-WR-CALNAME:Listeso Music Group - A Boutique String Quartet Agency
X-ORIGINAL-URL:https://www.listeso.com
X-WR-CALDESC:Events for Listeso Music Group - A Boutique String Quartet Agency
REFRESH-INTERVAL;VALUE=DURATION:PT1H
X-Robots-Tag:noindex
X-PUBLISHED-TTL:PT1H
BEGIN:VTIMEZONE
TZID:America/Los_Angeles
BEGIN:DAYLIGHT
TZOFFSETFROM:-0800
TZOFFSETTO:-0700
TZNAME:PDT
DTSTART:20250309T100000
END:DAYLIGHT
BEGIN:STANDARD
TZOFFSETFROM:-0700
TZOFFSETTO:-0800
TZNAME:PST
DTSTART:20251102T090000
END:STANDARD
BEGIN:DAYLIGHT
TZOFFSETFROM:-0800
TZOFFSETTO:-0700
TZNAME:PDT
DTSTART:20260308T100000
END:DAYLIGHT
BEGIN:STANDARD
TZOFFSETFROM:-0700
TZOFFSETTO:-0800
TZNAME:PST
DTSTART:20261101T090000
END:STANDARD
BEGIN:DAYLIGHT
TZOFFSETFROM:-0800
TZOFFSETTO:-0700
TZNAME:PDT
DTSTART:20270314T100000
END:DAYLIGHT
BEGIN:STANDARD
TZOFFSETFROM:-0700
TZOFFSETTO:-0800
TZNAME:PST
DTSTART:20271107T090000
END:STANDARD
END:VTIMEZONE
BEGIN:VEVENT
DTSTART;TZID=America/Los_Angeles:20260116T181500
DTEND;TZID=America/Los_Angeles:20260116T191500
DTSTAMP:20260421T194403
CREATED:20251119T121356Z
LAST-MODIFIED:20251119T121356Z
UID:24370-1768587300-1768590900@www.listeso.com
SUMMARY:Candlelight: Featuring Vivaldi's Four Seasons & More
DESCRIPTION:Overview\nCandlelight concerts bring the magic of a live\, multi-sensory musical experience to awe-inspiring locations like never seen before in Fresno. Get your tickets now to discover Vivaldi and more at The Grand 1401 under the gentle glow of candlelight. \nGeneral Info\n\n📍 Venue: The Grand on 10 at The Grand 1401\n⏳ Duration: 60 minutes. Doors open 60 minutes before the show and close 5 minutes prior to the start. Late arrivals will not be permitted\n👤 Age requirement: 8 years old or older. Anyone under the age of 16 must be accompanied by an adult\n♿ Accessibility: this venue is ADA compliant\n🪑 Seating: Seating is assigned on a first come first served basis in each zone\n\nTentative Program\n\n“The Four Seasons\, Violin Concerto in G Minor\, Op. 8 No. 1 RV 269: Spring” – Vivaldi\n“The Four Seasons\, Violin Concerto in G Minor\, Op. 8 No. 2 RV 315: Summer” – Vivaldi\n“Thaïs: Méditation” – Jules Massenet\n“The Cuatro Estaciones Porteñas: Verano Porteño” – Astor Piazzolla\n“The Four Seasons\, Violin Concerto in G Minor\, Op. 8 No. 3 RV 293: Autumn” – Vivaldi\n“The Four Seasons\, Violin Concerto in G Minor\, Op. 8 No. 4 RV 297: Winter” – Vivaldi\n\nPerformers\n🎻 Listeso String Quartet \nBook a Private Event\nLooking to create an unforgettable experience for your wedding\, or special occasion? We offer private event bookings with customized programs tailored to your needs. \nGet a quote
URL:https://www.listeso.com/concert/2026-01-16-the-grand-1401-featuring-vivaldis-four-seasons-and-more/
LOCATION:The Grand 1401\, Fresno\, CA\, United States
CATEGORIES:Fresno, CA
ATTACH;FMTTYPE=image/jpeg:https://www.listeso.com/wp-content/uploads/2025/10/7c807528-1ab3-11f0-9eff-324ba1e3eb01-s1gFvG.jpg
END:VEVENT
END:VCALENDAR