BEGIN:VCALENDAR
VERSION:2.0
PRODID:-//Listeso Music Group - A Boutique String Quartet Agency - ECPv6.15.20//NONSGML v1.0//EN
CALSCALE:GREGORIAN
METHOD:PUBLISH
X-WR-CALNAME:Listeso Music Group - A Boutique String Quartet Agency
X-ORIGINAL-URL:https://www.listeso.com
X-WR-CALDESC:Events for Listeso Music Group - A Boutique String Quartet Agency
REFRESH-INTERVAL;VALUE=DURATION:PT1H
X-Robots-Tag:noindex
X-PUBLISHED-TTL:PT1H
BEGIN:VTIMEZONE
TZID:America/New_York
BEGIN:DAYLIGHT
TZOFFSETFROM:-0500
TZOFFSETTO:-0400
TZNAME:EDT
DTSTART:20250309T070000
END:DAYLIGHT
BEGIN:STANDARD
TZOFFSETFROM:-0400
TZOFFSETTO:-0500
TZNAME:EST
DTSTART:20251102T060000
END:STANDARD
BEGIN:DAYLIGHT
TZOFFSETFROM:-0500
TZOFFSETTO:-0400
TZNAME:EDT
DTSTART:20260308T070000
END:DAYLIGHT
BEGIN:STANDARD
TZOFFSETFROM:-0400
TZOFFSETTO:-0500
TZNAME:EST
DTSTART:20261101T060000
END:STANDARD
BEGIN:DAYLIGHT
TZOFFSETFROM:-0500
TZOFFSETTO:-0400
TZNAME:EDT
DTSTART:20270314T070000
END:DAYLIGHT
BEGIN:STANDARD
TZOFFSETFROM:-0400
TZOFFSETTO:-0500
TZNAME:EST
DTSTART:20271107T060000
END:STANDARD
END:VTIMEZONE
BEGIN:VEVENT
DTSTART;TZID=America/New_York:20260117T210000
DTEND;TZID=America/New_York:20260117T220000
DTSTAMP:20260421T090240
CREATED:20251119T122612Z
LAST-MODIFIED:20251119T122612Z
UID:24424-1768683600-1768687200@www.listeso.com
SUMMARY:Candlelight: Anime Soundtracks
DESCRIPTION:Overview\nCandlelight concerts bring the magic of a live\, multi-sensory musical experience to awe-inspiring locations like never seen before in Miami. Get your tickets now to discover the music of Anime Soundtracks at Eden Roc Miami Beach under the gentle glow of candlelight. \nGeneral Info\n\n📍 Venue: Eden Roc Miami Beach\n⏳ Duration: 60 minutes. Doors open 60 minutes before the show and close 5 minutes prior to the start. Late arrivals will not be permitted\n👤 Age requirement: 8 years old or older. Anyone under the age of 16 must be accompanied by an adult\n♿ Accessibility: this venue is ADA compliant\n🪑 Seating: Seating is assigned on a first come first served basis in each zone\n\nTentative Program\n\nDemon Slayer – Gurenge\nBEASTARS – Monster\nJujutsu Kaisen – Kaikai Kitan\nDetective Conan – Case Closed Theme\nONE PIECE – New Genesis\nONE PIECE – The Peak\nYuri!!! On Ice – In regards to love – Eros\nBleach – Re:pray\nElfen Lied – Lilium\nTales from Earthsea – Therru’s Song\nKiki’s Delivery Service – Message of Rouge\nMary and the Witch’s Flower – RAIN\nThe Wind Rises – Vapor Trail\nThe Tale of Princess Kaguya – When I Remember this Life\nYour Name. – Sparkle\nNeon Genesis Evangelion – A Cruel Angel’s Thesis\n\nPerformers\n🎻 Collins String Quartet \nBook a Private Event\nLooking to create an unforgettable experience for your wedding\, or special occasion? We offer private event bookings with customized programs tailored to your needs. \nGet a quote
URL:https://www.listeso.com/concert/2026-01-17-eden-roc-miami-beach-candlelight-anime-soundtracks/
LOCATION:Eden Roc Miami Beach\, Miami\, FL\, United States
CATEGORIES:Miami, FL
ATTACH;FMTTYPE=image/jpeg:https://www.listeso.com/wp-content/uploads/2025/10/c3e77e30-2129-11f0-99d4-2abace2dece0-0UmPyK.jpg
END:VEVENT
END:VCALENDAR