BEGIN:VCALENDAR
VERSION:2.0
PRODID:-//Listeso Music Group - A Boutique String Quartet Agency - ECPv6.15.20//NONSGML v1.0//EN
CALSCALE:GREGORIAN
METHOD:PUBLISH
X-WR-CALNAME:Listeso Music Group - A Boutique String Quartet Agency
X-ORIGINAL-URL:https://www.listeso.com
X-WR-CALDESC:Events for Listeso Music Group - A Boutique String Quartet Agency
REFRESH-INTERVAL;VALUE=DURATION:PT1H
X-Robots-Tag:noindex
X-PUBLISHED-TTL:PT1H
BEGIN:VTIMEZONE
TZID:America/Regina
BEGIN:STANDARD
TZOFFSETFROM:-0600
TZOFFSETTO:-0600
TZNAME:CST
DTSTART:20250101T000000
END:STANDARD
END:VTIMEZONE
BEGIN:VEVENT
DTSTART;TZID=America/Regina:20260117T203000
DTEND;TZID=America/Regina:20260117T213000
DTSTAMP:20260426T040743
CREATED:20251121T120459Z
LAST-MODIFIED:20251121T120459Z
UID:24544-1768681800-1768685400@www.listeso.com
SUMMARY:Candlelight: Tribute to ABBA
DESCRIPTION:Overview\nCandlelight concerts bring the magic of a live\, multi-sensory musical experience to awe-inspiring locations like never seen before in Regina. Get your tickets now to discover the music of ABBA at Local Market under the gentle glow of candlelight. \nGeneral Info\n\n📍 Venue: Local Market\n⏳ Duration: 60 minutes. Doors open 45 minutes before the show and close 5 minutes prior to the start. Late arrivals will not be permitted\n👤 Age requirement: 8 years old or older. Anyone under the age of 16 must be accompanied by an adult\n♿ Accessibility: This venue is accessible for people with reduced mobility\n🪑 Seating: Seating is assigned on a first come first served basis in each zone\n\nTentative Program\n\nDancing Queen\nSOS\nMoney\, Money\, Money\nThe Winner Takes it All\nVoulez-Vous\nAngeleyes\nWaterloo\nFernando\nKnowing Me\, Knowing You\nChiquitita\nLay All Your Love On Me\nSuper Trouper\nMamma Mia\n\nPerformers\n🎻 String Quartet – Listeso – Regina \nBook a Private Event\nLooking to create an unforgettable experience for your wedding\, or special occasion? We offer private event bookings with customized programs tailored to your needs. \nGet a quote
URL:https://www.listeso.com/concert/2026-01-17-local-market-candlelight-tribute-to-abba/
LOCATION:Local Market\, Regina\, Canada
CATEGORIES:Regina, SK
ATTACH;FMTTYPE=image/jpeg:https://www.listeso.com/wp-content/uploads/2025/10/27f39c9e-0f94-11f0-8078-762b521a76e7-z37WUb.jpg
END:VEVENT
END:VCALENDAR