BEGIN:VCALENDAR
VERSION:2.0
PRODID:-//Listeso Music Group - A Boutique String Quartet Agency - ECPv6.15.20//NONSGML v1.0//EN
CALSCALE:GREGORIAN
METHOD:PUBLISH
X-WR-CALNAME:Listeso Music Group - A Boutique String Quartet Agency
X-ORIGINAL-URL:https://www.listeso.com
X-WR-CALDESC:Events for Listeso Music Group - A Boutique String Quartet Agency
REFRESH-INTERVAL;VALUE=DURATION:PT1H
X-Robots-Tag:noindex
X-PUBLISHED-TTL:PT1H
BEGIN:VTIMEZONE
TZID:America/New_York
BEGIN:DAYLIGHT
TZOFFSETFROM:-0500
TZOFFSETTO:-0400
TZNAME:EDT
DTSTART:20250309T070000
END:DAYLIGHT
BEGIN:STANDARD
TZOFFSETFROM:-0400
TZOFFSETTO:-0500
TZNAME:EST
DTSTART:20251102T060000
END:STANDARD
BEGIN:DAYLIGHT
TZOFFSETFROM:-0500
TZOFFSETTO:-0400
TZNAME:EDT
DTSTART:20260308T070000
END:DAYLIGHT
BEGIN:STANDARD
TZOFFSETFROM:-0400
TZOFFSETTO:-0500
TZNAME:EST
DTSTART:20261101T060000
END:STANDARD
BEGIN:DAYLIGHT
TZOFFSETFROM:-0500
TZOFFSETTO:-0400
TZNAME:EDT
DTSTART:20270314T070000
END:DAYLIGHT
BEGIN:STANDARD
TZOFFSETFROM:-0400
TZOFFSETTO:-0500
TZNAME:EST
DTSTART:20271107T060000
END:STANDARD
END:VTIMEZONE
BEGIN:VEVENT
DTSTART;TZID=America/New_York:20260118T210000
DTEND;TZID=America/New_York:20260118T220000
DTSTAMP:20260421T104422
CREATED:20251120T120423Z
LAST-MODIFIED:20251120T120423Z
UID:24511-1768770000-1768773600@www.listeso.com
SUMMARY:Candlelight: Tribute to Bruno Mars
DESCRIPTION:Overview\nCandlelight concerts bring the magic of a live\, multi-sensory musical experience to awe-inspiring locations like never seen before in Miami. Get your tickets now to discover the music of Bruno Mars at Scottish Rite Temple MIA under the gentle glow of candlelight. \nGeneral Info\n\n📍 Venue: Scottish Rite Temple MIA\n⏳ Duration: 60 minutes. Doors open 60 minutes before the show and close 5 minutes prior to the start. Late arrivals will not be permitted\n👤 Age requirement: 8 years old or older. Anyone under the age of 16 must be accompanied by an adult\n♿ Accessibility: venue is not accessible\n🪑 Seating: assigned on a first come first served basis in each zone\n\nTentative Program\n\nMarry You\nJust the Way You Are\nLeave the Door Open\nUptown Funk\nThe Lazy Song\nVersace on the Floor\nGrenade\nFinesse\nSmokin’ Out the Window\nLocked Out of Heaven\nTalking to the Moon\nThat’s What I Like\nWhen I Was Your Man\nTreasure\n\nPerformers\n🎻 Collins String Quartet \nBook a Private Event\nLooking to create an unforgettable experience for your wedding\, or special occasion? We offer private event bookings with customized programs tailored to your needs. \nGet a quote
URL:https://www.listeso.com/concert/2026-01-18-scottish-rite-temple-mia-tribute-to-bruno-mars/
LOCATION:Scottish Rite Temple MIA\, Miami\, FL\, United States
CATEGORIES:Miami, FL
ATTACH;FMTTYPE=image/jpeg:https://www.listeso.com/wp-content/uploads/2025/10/812bbf22-6308-11f0-acd4-3ea54e1aac32-PjD28v.jpg
END:VEVENT
END:VCALENDAR