BEGIN:VCALENDAR
VERSION:2.0
PRODID:-//Listeso Music Group - A Boutique String Quartet Agency - ECPv6.15.20//NONSGML v1.0//EN
CALSCALE:GREGORIAN
METHOD:PUBLISH
X-WR-CALNAME:Listeso Music Group - A Boutique String Quartet Agency
X-ORIGINAL-URL:https://www.listeso.com
X-WR-CALDESC:Events for Listeso Music Group - A Boutique String Quartet Agency
REFRESH-INTERVAL;VALUE=DURATION:PT1H
X-Robots-Tag:noindex
X-PUBLISHED-TTL:PT1H
BEGIN:VTIMEZONE
TZID:America/New_York
BEGIN:DAYLIGHT
TZOFFSETFROM:-0500
TZOFFSETTO:-0400
TZNAME:EDT
DTSTART:20250309T070000
END:DAYLIGHT
BEGIN:STANDARD
TZOFFSETFROM:-0400
TZOFFSETTO:-0500
TZNAME:EST
DTSTART:20251102T060000
END:STANDARD
BEGIN:DAYLIGHT
TZOFFSETFROM:-0500
TZOFFSETTO:-0400
TZNAME:EDT
DTSTART:20260308T070000
END:DAYLIGHT
BEGIN:STANDARD
TZOFFSETFROM:-0400
TZOFFSETTO:-0500
TZNAME:EST
DTSTART:20261101T060000
END:STANDARD
BEGIN:DAYLIGHT
TZOFFSETFROM:-0500
TZOFFSETTO:-0400
TZNAME:EDT
DTSTART:20270314T070000
END:DAYLIGHT
BEGIN:STANDARD
TZOFFSETFROM:-0400
TZOFFSETTO:-0500
TZNAME:EST
DTSTART:20271107T060000
END:STANDARD
END:VTIMEZONE
BEGIN:VEVENT
DTSTART;TZID=America/New_York:20260122T204500
DTEND;TZID=America/New_York:20260122T214500
DTSTAMP:20260421T012356
CREATED:20251124T120106Z
LAST-MODIFIED:20251124T120106Z
UID:24584-1769114700-1769118300@www.listeso.com
SUMMARY:Candlelight: Best of Hip-Hop
DESCRIPTION:Overview\nCandlelight concerts bring the magic of a live\, multi-sensory musical experience to awe-inspiring locations like never seen before in Augusta. Get your tickets now to discover the music of Hip-Hop at Sacred Heart Cultural Center under the gentle glow of candlelight. \nGeneral Info\n\n📍 Venue: Sacred Heart Cultural Center\n⏳ Duration: 60 minutes. Doors open 60 minutes before the show and close 5 minutes prior to the start. Late arrivals will not be permitted\n👤 Age requirement: 8 years old or older. Anyone under the age of 16 must be accompanied by an adult\n♿ Accessibility: this venue is ADA compliant\n🪑 Seating: Seating is assigned on a first come first served basis in each zone\n\nTentative Program\n\nGangsta’s Paradise – Coolio\nI Like It – Cardi B\nJay-Z Medley\nOutkast Medley\nLauryn Hill and Fugees Medley\nPassionfruit – Drake\nSwimming Pools – Kendrick Lamar\n2Pac Medley\nThe Notorious B.I.G. Medley\nDr. Dre Medley\nEminem Medley\nEncore: Drunk in Love – Beyonce\n\nPerformers\n🎻 Listeso String Quartet + Drums \nBook a Private Event\nLooking to create an unforgettable experience for your wedding\, or special occasion? We offer private event bookings with customized programs tailored to your needs. \nGet a quote
URL:https://www.listeso.com/concert/2026-01-22-sacred-heart-cultural-center-best-of-hip-hop/
LOCATION:Sacred Heart Cultural Center\, Augusta\, GA\, United States
CATEGORIES:Augusta, GA
ATTACH;FMTTYPE=image/jpeg:https://www.listeso.com/wp-content/uploads/2025/10/0333ea26-1516-11f0-a637-fad4b74c3ddb-2HI2sy.jpg
END:VEVENT
END:VCALENDAR