BEGIN:VCALENDAR
VERSION:2.0
PRODID:-//Listeso Music Group - A Boutique String Quartet Agency - ECPv6.15.20//NONSGML v1.0//EN
CALSCALE:GREGORIAN
METHOD:PUBLISH
X-WR-CALNAME:Listeso Music Group - A Boutique String Quartet Agency
X-ORIGINAL-URL:https://www.listeso.com
X-WR-CALDESC:Events for Listeso Music Group - A Boutique String Quartet Agency
REFRESH-INTERVAL;VALUE=DURATION:PT1H
X-Robots-Tag:noindex
X-PUBLISHED-TTL:PT1H
BEGIN:VTIMEZONE
TZID:America/New_York
BEGIN:DAYLIGHT
TZOFFSETFROM:-0500
TZOFFSETTO:-0400
TZNAME:EDT
DTSTART:20250309T070000
END:DAYLIGHT
BEGIN:STANDARD
TZOFFSETFROM:-0400
TZOFFSETTO:-0500
TZNAME:EST
DTSTART:20251102T060000
END:STANDARD
BEGIN:DAYLIGHT
TZOFFSETFROM:-0500
TZOFFSETTO:-0400
TZNAME:EDT
DTSTART:20260308T070000
END:DAYLIGHT
BEGIN:STANDARD
TZOFFSETFROM:-0400
TZOFFSETTO:-0500
TZNAME:EST
DTSTART:20261101T060000
END:STANDARD
BEGIN:DAYLIGHT
TZOFFSETFROM:-0500
TZOFFSETTO:-0400
TZNAME:EDT
DTSTART:20270314T070000
END:DAYLIGHT
BEGIN:STANDARD
TZOFFSETFROM:-0400
TZOFFSETTO:-0500
TZNAME:EST
DTSTART:20271107T060000
END:STANDARD
END:VTIMEZONE
BEGIN:VEVENT
DTSTART;TZID=America/New_York:20260123T180000
DTEND;TZID=America/New_York:20260123T190000
DTSTAMP:20260421T020318
CREATED:20251125T120542Z
LAST-MODIFIED:20251125T120542Z
UID:24617-1769191200-1769194800@www.listeso.com
SUMMARY:Candlelight: Tribute to Taylor Swift
DESCRIPTION:Overview\nCandlelight concerts bring the magic of a live\, multi-sensory musical experience to awe-inspiring locations like never seen before in Fort Myers. Get your tickets now to discover the music of Taylor Swift at Music & Arts Community Center – Gulf Coast Symphony under the gentle glow of candlelight. \nGeneral Info\n\n⏳ Duration: 65 minutes. Doors open 45 minutes before the show and close 5 minutes prior to the start. Late arrivals will not be permitted\n👤 Age requirement: 8 years old or older. Anyone under the age of 16 must be accompanied by an adult\n♿ Accessibility: The venue is ADA compliant but only Zone C has accessible seating\n🪑 Seating: Seating is assigned on a first come first served basis in each zone\n\nTentative Program\n\n“Lavender Haze”\n“Love Story”\n“Cardigan”\n“Blank Space”\n“Enchanted”\n“Anti-Hero”\n“Snow on the Beach (ft. Lana Del Rey)”\n“We Are Never Ever Getting Back Together”\n“Lover”\n“I Knew You Were Trouble”\n“You Belong With Me”\n“Shake It Off”\n\nPerformers\n🎻 Listeso String Quartet \nBook a Private Event\nLooking to create an unforgettable experience for your wedding\, or special occasion? We offer private event bookings with customized programs tailored to your needs. \nGet a quote
URL:https://www.listeso.com/concert/2026-01-23-music-arts-community-center-gulf-coast-symphony-candlelight-tribute-to-taylor-swift/
LOCATION:Music & Arts Community Center – Gulf Coast Symphony\, Fort Myers\, FL\, United States
CATEGORIES:Fort Myers, FL
ATTACH;FMTTYPE=image/jpeg:https://www.listeso.com/wp-content/uploads/2025/10/72fb8e18-69a3-11f0-8a85-7203fda2f6d8-VH6aSg.jpg
END:VEVENT
END:VCALENDAR