BEGIN:VCALENDAR
VERSION:2.0
PRODID:-//Listeso Music Group - A Boutique String Quartet Agency - ECPv6.15.20//NONSGML v1.0//EN
CALSCALE:GREGORIAN
METHOD:PUBLISH
X-WR-CALNAME:Listeso Music Group - A Boutique String Quartet Agency
X-ORIGINAL-URL:https://www.listeso.com
X-WR-CALDESC:Events for Listeso Music Group - A Boutique String Quartet Agency
REFRESH-INTERVAL;VALUE=DURATION:PT1H
X-Robots-Tag:noindex
X-PUBLISHED-TTL:PT1H
BEGIN:VTIMEZONE
TZID:America/New_York
BEGIN:DAYLIGHT
TZOFFSETFROM:-0500
TZOFFSETTO:-0400
TZNAME:EDT
DTSTART:20250309T070000
END:DAYLIGHT
BEGIN:STANDARD
TZOFFSETFROM:-0400
TZOFFSETTO:-0500
TZNAME:EST
DTSTART:20251102T060000
END:STANDARD
BEGIN:DAYLIGHT
TZOFFSETFROM:-0500
TZOFFSETTO:-0400
TZNAME:EDT
DTSTART:20260308T070000
END:DAYLIGHT
BEGIN:STANDARD
TZOFFSETFROM:-0400
TZOFFSETTO:-0500
TZNAME:EST
DTSTART:20261101T060000
END:STANDARD
BEGIN:DAYLIGHT
TZOFFSETFROM:-0500
TZOFFSETTO:-0400
TZNAME:EDT
DTSTART:20270314T070000
END:DAYLIGHT
BEGIN:STANDARD
TZOFFSETFROM:-0400
TZOFFSETTO:-0500
TZNAME:EST
DTSTART:20271107T060000
END:STANDARD
END:VTIMEZONE
BEGIN:VEVENT
DTSTART;TZID=America/New_York:20260123T204500
DTEND;TZID=America/New_York:20260123T214500
DTSTAMP:20260421T102406
CREATED:20251001T011038Z
LAST-MODIFIED:20251001T011038Z
UID:21413-1769201100-1769204700@www.listeso.com
SUMMARY:Candlelight: Tribute to Whitney Houston
DESCRIPTION:Overview\nCandlelight concerts bring the magic of a live\, multi-sensory musical experience to awe-inspiring locations like never seen before in Baltimore. Get your tickets now to discover the music of Whitney Houston at The Baltimore Museum of Art (Meyerhoff Auditorium) under the gentle glow of candlelight. \nGeneral Info\n\n📍 Venue: The Baltimore Museum of Art (Meyerhoff Auditorium)\n⏳ Duration: 60 minutes. Doors open 45 minutes before the show and close 5 minutes prior to the start. Late arrivals will not be permitted\n👤 Age requirement: 8 years old or older. Anyone under the age of 16 must be accompanied by an adult\n♿ Accessibility: This venue is ADA compliant\n🪑 Seating: Seating is assigned on a first come first served basis in each zone\n\nTentative Program\n\nI Will Always Love You\nI Wanna Dance With Somebody\nGreatest Love of All\nWhen You Believe (w/ Mariah Carey\, from Prince of Egypt)\nI Have Nothing\nHow Will I Know\nIt’s Not Right but It’s Okay\nOne Moment in Time\nSaving All My Love for You\nWhere Do Broken Hearts Go\nHigher Love (w/Kygo)\nSo Emotional\nYou Light Up My Life\n\nPerformers\n🎻 Kennedy String Quartet \nBook a Private Event\nLooking to create an unforgettable experience for your team\, clients\, or special occasion? We offer private event bookings with customized programs tailored to your needs. \nGet a Quote for Your Private Event
URL:https://www.listeso.com/concert/2026-01-23-the-baltimore-museum-of-art-meyerhoff-auditorium-candlelight-tribute-to-whitney-houston/
LOCATION:The Baltimore Museum of Art (Meyerhoff Auditorium)\, Baltimore\, MD\, United States
CATEGORIES:Baltimore, MD
ATTACH;FMTTYPE=image/jpeg:https://www.listeso.com/wp-content/uploads/2025/10/3b09df18-058b-11f0-bf55-16591a0085a5-PQrd0U.jpg
END:VEVENT
END:VCALENDAR