BEGIN:VCALENDAR
VERSION:2.0
PRODID:-//Listeso Music Group - A Boutique String Quartet Agency - ECPv6.15.20//NONSGML v1.0//EN
CALSCALE:GREGORIAN
METHOD:PUBLISH
X-WR-CALNAME:Listeso Music Group - A Boutique String Quartet Agency
X-ORIGINAL-URL:https://www.listeso.com
X-WR-CALDESC:Events for Listeso Music Group - A Boutique String Quartet Agency
REFRESH-INTERVAL;VALUE=DURATION:PT1H
X-Robots-Tag:noindex
X-PUBLISHED-TTL:PT1H
BEGIN:VTIMEZONE
TZID:America/Toronto
BEGIN:DAYLIGHT
TZOFFSETFROM:-0500
TZOFFSETTO:-0400
TZNAME:EDT
DTSTART:20250309T070000
END:DAYLIGHT
BEGIN:STANDARD
TZOFFSETFROM:-0400
TZOFFSETTO:-0500
TZNAME:EST
DTSTART:20251102T060000
END:STANDARD
BEGIN:DAYLIGHT
TZOFFSETFROM:-0500
TZOFFSETTO:-0400
TZNAME:EDT
DTSTART:20260308T070000
END:DAYLIGHT
BEGIN:STANDARD
TZOFFSETFROM:-0400
TZOFFSETTO:-0500
TZNAME:EST
DTSTART:20261101T060000
END:STANDARD
BEGIN:DAYLIGHT
TZOFFSETFROM:-0500
TZOFFSETTO:-0400
TZNAME:EDT
DTSTART:20270314T070000
END:DAYLIGHT
BEGIN:STANDARD
TZOFFSETFROM:-0400
TZOFFSETTO:-0500
TZNAME:EST
DTSTART:20271107T060000
END:STANDARD
END:VTIMEZONE
BEGIN:VEVENT
DTSTART;TZID=America/Toronto:20260124T204500
DTEND;TZID=America/Toronto:20260124T214500
DTSTAMP:20260426T040836
CREATED:20251126T120850Z
LAST-MODIFIED:20251126T120850Z
UID:24717-1769287500-1769291100@www.listeso.com
SUMMARY:Candlelight: Best of Metal
DESCRIPTION:Overview\nCandlelight concerts bring the magic of a live\, multi-sensory musical experience to awe-inspiring locations like never seen before in Hamilton. Get your tickets now to discover the music of Metal at The Westdale under the gentle glow of candlelight. \nGeneral Info\n\n📍 Venue: The Westdale\n⏳ Duration: 60 minutes. Doors open 45 minutes before the show and close 5 minutes prior to the start. Late arrivals will not be permitted\n👤 Age requirement: 8 years old or older. Anyone under the age of 16 must be accompanied by an adult\n♿ Accessibility: the venue is wheelchair accessible\, however only in zone D\n🪑 Seating: Seating is assigned on a first come first served basis in each zone\n\nTentative Program\n\nBack in Black – AC/DC\nMaster of Puppets – Metallica\nParanoid – Black Sabbath\nToxicity – System of a Down\nChop Suey! – System of a Down\nKashmir – Led Zeppelin\nFear of the Dark – Iron Maiden\nAngel – Judas Priest\nRock You Like a Hurricane – Scorpions\nSmoke on the Water – Deep Purple\nKilling in the Name – Rage Against the Machine\nStill Loving You – Scorpions\n\nPerformers\n🎻 String Quartet: 2 violins\, 1 viola\, 1 cello \nBook a Private Event\nLooking to create an unforgettable experience for your wedding\, or special occasion? We offer private event bookings with customized programs tailored to your needs. \nGet a quote
URL:https://www.listeso.com/concert/2026-01-24-the-westdale-candlelight-best-of-metal/
LOCATION:The Westdale\, Hamilton\, Canada
CATEGORIES:Hamilton, ON
ATTACH;FMTTYPE=image/jpeg:https://www.listeso.com/wp-content/uploads/2025/10/a7c76170-1463-11f0-8542-f6da0896c7aa-TxLOIB.jpg
END:VEVENT
END:VCALENDAR