BEGIN:VCALENDAR
VERSION:2.0
PRODID:-//Listeso Music Group - A Boutique String Quartet Agency - ECPv6.15.20//NONSGML v1.0//EN
CALSCALE:GREGORIAN
METHOD:PUBLISH
X-WR-CALNAME:Listeso Music Group - A Boutique String Quartet Agency
X-ORIGINAL-URL:https://www.listeso.com
X-WR-CALDESC:Events for Listeso Music Group - A Boutique String Quartet Agency
REFRESH-INTERVAL;VALUE=DURATION:PT1H
X-Robots-Tag:noindex
X-PUBLISHED-TTL:PT1H
BEGIN:VTIMEZONE
TZID:America/Phoenix
BEGIN:STANDARD
TZOFFSETFROM:-0700
TZOFFSETTO:-0700
TZNAME:MST
DTSTART:20250101T000000
END:STANDARD
END:VTIMEZONE
BEGIN:VEVENT
DTSTART;TZID=America/Phoenix:20260125T183000
DTEND;TZID=America/Phoenix:20260125T193000
DTSTAMP:20260421T033812
CREATED:20251127T120741Z
LAST-MODIFIED:20251127T120741Z
UID:24804-1769365800-1769369400@www.listeso.com
SUMMARY:Candlelight: Tribute to Taylor Swift
DESCRIPTION:Overview\nCandlelight concerts bring the magic of a live\, multi-sensory musical experience to awe-inspiring locations like never seen before in Phoenix. Get your tickets now to discover the music of Taylor Swift at The Madison Center for the Arts under the gentle glow of candlelight. \nGeneral Info\n\n📍 Venue: The Madison Center for the Arts\n⏳ Duration: 60 minutes. Doors open 45 minutes before the show and close 5 minutes prior to the start. Late arrivals will not be permitted\n👤 Age requirement: 8 years old or older. Anyone under the age of 16 must be accompanied by an adult\n♿ Accessibility: This venue is ADA compliant\n🪑 Seating: Seating is assigned on a first come first served basis in each zone\n\nTentative Program\n\nLove Story\nRed Medley\nAnti-Hero\nEnchanted\nReputation Medley\nCruel Summer\nfolklore Medley\nShake It Off\nYou Belong With Me\n1989 Medley\n\nPerformers\n🎻 String Quartet – Listeso – Phoenix \nBook a Private Event\nLooking to create an unforgettable experience for your wedding\, or special occasion? We offer private event bookings with customized programs tailored to your needs. \nGet a quote
URL:https://www.listeso.com/concert/2026-01-25-the-madison-center-for-the-arts-tribute-to-taylor-swift/
LOCATION:The Madison Center for the Arts\, Phoenix\, AZ\, United States
CATEGORIES:Phoenix, AZ
ATTACH;FMTTYPE=image/jpeg:https://www.listeso.com/wp-content/uploads/2025/10/be8df194-1aa8-11f0-996c-caa78636736f-kgBvpB.jpg
END:VEVENT
END:VCALENDAR