BEGIN:VCALENDAR
VERSION:2.0
PRODID:-//Listeso Music Group - A Boutique String Quartet Agency - ECPv6.15.20//NONSGML v1.0//EN
CALSCALE:GREGORIAN
METHOD:PUBLISH
X-WR-CALNAME:Listeso Music Group - A Boutique String Quartet Agency
X-ORIGINAL-URL:https://www.listeso.com
X-WR-CALDESC:Events for Listeso Music Group - A Boutique String Quartet Agency
REFRESH-INTERVAL;VALUE=DURATION:PT1H
X-Robots-Tag:noindex
X-PUBLISHED-TTL:PT1H
BEGIN:VTIMEZONE
TZID:America/Vancouver
BEGIN:DAYLIGHT
TZOFFSETFROM:-0800
TZOFFSETTO:-0700
TZNAME:PDT
DTSTART:20250309T100000
END:DAYLIGHT
BEGIN:STANDARD
TZOFFSETFROM:-0700
TZOFFSETTO:-0800
TZNAME:PST
DTSTART:20251102T090000
END:STANDARD
BEGIN:DAYLIGHT
TZOFFSETFROM:-0800
TZOFFSETTO:-0700
TZNAME:PDT
DTSTART:20260308T100000
END:DAYLIGHT
BEGIN:STANDARD
TZOFFSETFROM:-0700
TZOFFSETTO:-0800
TZNAME:PST
DTSTART:20261101T090000
END:STANDARD
BEGIN:DAYLIGHT
TZOFFSETFROM:-0800
TZOFFSETTO:-0700
TZNAME:PDT
DTSTART:20270314T100000
END:DAYLIGHT
BEGIN:STANDARD
TZOFFSETFROM:-0700
TZOFFSETTO:-0800
TZNAME:PST
DTSTART:20271107T090000
END:STANDARD
END:VTIMEZONE
BEGIN:VEVENT
DTSTART;TZID=America/Vancouver:20260130T203000
DTEND;TZID=America/Vancouver:20260130T213000
DTSTAMP:20260426T010842
CREATED:20251202T120851Z
LAST-MODIFIED:20251202T120851Z
UID:24897-1769805000-1769808600@www.listeso.com
SUMMARY:Candlelight: Featuring Vivaldi's Four Seasons & More
DESCRIPTION:Overview\nCandlelight concerts bring the magic of a live\, multi-sensory musical experience to awe-inspiring locations like never seen before in Nanaimo. Get your tickets now to discover Vivaldi and more at St Paul’s Anglican Church under the gentle glow of candlelight. \nGeneral Info\n\n⏳ Duration: 60 minutes. Doors open 30 minutes before the show. No entry once it starts.\n👤 Age requirement: 8 years old or older. Anyone under the age of 16 must be accompanied by an adult\n♿ Accessibility: the balcony is not accessible for those using a wheelchair or assistive walking device\n🪑 Seating: Seating is assigned on a first come first served basis in each zone\n\nTentative Program\n\nThe Four Seasons\, Violin Concerto in G Minor\, Op. 8 No. 1 RV 269: “Spring” – Vivaldi\nThe Four Seasons\, Violin Concerto in G Minor\, Op. 8 No. 2 RV 315: “Summer” – Vivaldi\nThaïs: Méditation – Jules Massenet\nThe Cuatro Estaciones Porteñas: Verano Porteño – Astor Piazzolla\nThe Four Seasons\, Violin Concerto in G Minor\, Op. 8 No. 3 RV 293: “Autumn” – Vivaldi\nThe Four Seasons\, Violin Concerto in G Minor\, Op. 8 No. 4 RV 297: “Winter” – Vivaldi\n\nPerformers\n🎻 String Quartet – to be revealed soon! \nBook a Private Event\nLooking to create an unforgettable experience for your wedding\, or special occasion? We offer private event bookings with customized programs tailored to your needs. \nGet a quote
URL:https://www.listeso.com/concert/2026-01-30-st-pauls-anglican-church-candlelight-featuring-vivaldis-four-seasons-and-more/
LOCATION:St Paul’s Anglican Church\, Nanaimo\, Canada
CATEGORIES:Nanaimo, BC
ATTACH;FMTTYPE=image/jpeg:https://www.listeso.com/wp-content/uploads/2025/10/9f8fa516-1ab3-11f0-acbb-460e748c3556-z1oZCe.jpg
END:VEVENT
END:VCALENDAR