BEGIN:VCALENDAR
VERSION:2.0
PRODID:-//Listeso Music Group - A Boutique String Quartet Agency - ECPv6.15.20//NONSGML v1.0//EN
CALSCALE:GREGORIAN
METHOD:PUBLISH
X-WR-CALNAME:Listeso Music Group - A Boutique String Quartet Agency
X-ORIGINAL-URL:https://www.listeso.com
X-WR-CALDESC:Events for Listeso Music Group - A Boutique String Quartet Agency
REFRESH-INTERVAL;VALUE=DURATION:PT1H
X-Robots-Tag:noindex
X-PUBLISHED-TTL:PT1H
BEGIN:VTIMEZONE
TZID:America/Winnipeg
BEGIN:DAYLIGHT
TZOFFSETFROM:-0600
TZOFFSETTO:-0500
TZNAME:CDT
DTSTART:20250309T080000
END:DAYLIGHT
BEGIN:STANDARD
TZOFFSETFROM:-0500
TZOFFSETTO:-0600
TZNAME:CST
DTSTART:20251102T070000
END:STANDARD
BEGIN:DAYLIGHT
TZOFFSETFROM:-0600
TZOFFSETTO:-0500
TZNAME:CDT
DTSTART:20260308T080000
END:DAYLIGHT
BEGIN:STANDARD
TZOFFSETFROM:-0500
TZOFFSETTO:-0600
TZNAME:CST
DTSTART:20261101T070000
END:STANDARD
BEGIN:DAYLIGHT
TZOFFSETFROM:-0600
TZOFFSETTO:-0500
TZNAME:CDT
DTSTART:20270314T080000
END:DAYLIGHT
BEGIN:STANDARD
TZOFFSETFROM:-0500
TZOFFSETTO:-0600
TZNAME:CST
DTSTART:20271107T070000
END:STANDARD
END:VTIMEZONE
BEGIN:VEVENT
DTSTART;TZID=America/Winnipeg:20260131T183000
DTEND;TZID=America/Winnipeg:20260131T193000
DTSTAMP:20260421T145002
CREATED:20251203T121828Z
LAST-MODIFIED:20251203T121828Z
UID:24992-1769884200-1769887800@www.listeso.com
SUMMARY:Candlelight: Best of Joe Hisaishi
DESCRIPTION:Overview\nCandlelight concerts bring the magic of a live\, multi-sensory musical experience to awe-inspiring locations like never seen before in Winnipeg. Get your tickets now to discover the best of Anime music at Crescent Arts Centre under the gentle glow of candlelight. \nGeneral Info\n\n⏳ Duration: 60 minutes. Doors open 45 minutes before the show. No entry once it starts.\n👤 Age requirement: 8 years old or older. Anyone under the age of 16 must be accompanied by an adult\n♿ Accessibility: This venue is accessible for people with reduced mobility\n🪑 Seating: Seating is assigned on a first come first served basis in each zone\n\nTentative Program\n\nNausicaa of the Valley of the Wind – “Opening Theme”\nLaputa: Castle in the Sky – “Kimi wo Nosete – Carrying You”\nMy Neighbour Totoro – “Kaze no Toori Michi – Path of the Wind”\nMy Neighbour Totoro – “Tonari no Totoro – Main Theme”\nKiki’s Delivery Service – “Umi no Mieru Machi – A Town with an Ocean View”\nKiki’s Delivery Service – “Tabidachi – Journey”\nPrincess Mononoke – “Main Theme”\nSpirited Away – “Inochi no Namae – Name of Life”\nSpirited Away – “Chihiro’s Waltz”\nPonyo – “Gake no Ue no Ponyo – Ponyo on the Cliff”\nThe Wind Rises – “A Journey (A Dream of Flight)”\nKikujiro – “Summer”\nThe Tale of Princess Kaguya – “When I Remember This Life”\nHowl’s Moving Castle – “Merry Go Round of Life”\n\nPerformers\n🎻 String Quartet: 2 violins\, 1 viola\, 1 cello \nBook a Private Event\nLooking to create an unforgettable experience for your wedding\, or special occasion? We offer private event bookings with customized programs tailored to your needs. \nGet a quote
URL:https://www.listeso.com/concert/2026-01-31-crescent-arts-centre-best-of-joe-hisaishi/
LOCATION:Crescent Arts Centre\, Winnipeg\, Canada
CATEGORIES:Winnipeg, MB
ATTACH;FMTTYPE=image/jpeg:https://www.listeso.com/wp-content/uploads/2025/12/353b7e7e-b164-11ee-8ac1-12cbc7b29b14-VRu1BQ.jpg
END:VEVENT
END:VCALENDAR