BEGIN:VCALENDAR
VERSION:2.0
PRODID:-//Listeso Music Group - A Boutique String Quartet Agency - ECPv6.15.20//NONSGML v1.0//EN
CALSCALE:GREGORIAN
METHOD:PUBLISH
X-WR-CALNAME:Listeso Music Group - A Boutique String Quartet Agency
X-ORIGINAL-URL:https://www.listeso.com
X-WR-CALDESC:Events for Listeso Music Group - A Boutique String Quartet Agency
REFRESH-INTERVAL;VALUE=DURATION:PT1H
X-Robots-Tag:noindex
X-PUBLISHED-TTL:PT1H
BEGIN:VTIMEZONE
TZID:America/Los_Angeles
BEGIN:DAYLIGHT
TZOFFSETFROM:-0800
TZOFFSETTO:-0700
TZNAME:PDT
DTSTART:20250309T100000
END:DAYLIGHT
BEGIN:STANDARD
TZOFFSETFROM:-0700
TZOFFSETTO:-0800
TZNAME:PST
DTSTART:20251102T090000
END:STANDARD
BEGIN:DAYLIGHT
TZOFFSETFROM:-0800
TZOFFSETTO:-0700
TZNAME:PDT
DTSTART:20260308T100000
END:DAYLIGHT
BEGIN:STANDARD
TZOFFSETFROM:-0700
TZOFFSETTO:-0800
TZNAME:PST
DTSTART:20261101T090000
END:STANDARD
BEGIN:DAYLIGHT
TZOFFSETFROM:-0800
TZOFFSETTO:-0700
TZNAME:PDT
DTSTART:20270314T100000
END:DAYLIGHT
BEGIN:STANDARD
TZOFFSETFROM:-0700
TZOFFSETTO:-0800
TZNAME:PST
DTSTART:20271107T090000
END:STANDARD
END:VTIMEZONE
BEGIN:VEVENT
DTSTART;TZID=America/Los_Angeles:20260131T183000
DTEND;TZID=America/Los_Angeles:20260131T193000
DTSTAMP:20260426T010802
CREATED:20251203T121304Z
LAST-MODIFIED:20251203T121304Z
UID:24970-1769884200-1769887800@www.listeso.com
SUMMARY:Candlelight: Jazz - The Best of Frank Sinatra & Nat King Cole
DESCRIPTION:Overview\nCandlelight concerts bring the magic of a live\, multi-sensory musical experience to awe-inspiring locations like never seen before in Portland. Get your tickets now to discover the music of Frank Sinatra and Nat King Cole at Miller Hall under the gentle glow of candlelight. \nGeneral Info\n\n📍 Venue: Miller Hall\n⏳ Duration: 60 minutes. Doors open 45 minutes before the show. No entry once it starts.\n👤 Age requirement: 8 years old or older. Anyone under the age of 16 must be accompanied by an adult\n♿ Accessibility: This venue is ADA compliant\n🪑 Seating: Seating is assigned on a first come first served basis in each zone\n\nTentative Program\n\nStardust – Nat King Cole\nThat’s Life – Frank Sinatra\nAutumn Leaves – Nat King Cole\nUnforgettable – Nat King Cole\nWhen I Fall in Love – Nat King Cole\nSmile – Nat King Cole\nCome Fly with Me – Frank Sinatra\nNew York\, New York – Frank Sinatra\nMy Way – Frank Sinatra\nStrangers in the Night – Frank Sinatra\nL-O-V-E – Nat King Cole\nFly Me to the Moon – Frank Sinatra\n\nPerformers\n🎵 Band Portland \nBook a Private Event\nLooking to create an unforgettable experience for your wedding\, or special occasion? We offer private event bookings with customized programs tailored to your needs. \nGet a quote
URL:https://www.listeso.com/concert/2026-01-31-miller-hall-jazz-the-best-of-frank-sinatra-nat-king-cole/
LOCATION:Miller Hall\, Portland\, OR\, United States
CATEGORIES:Portland, OR
ATTACH;FMTTYPE=image/jpeg:https://www.listeso.com/wp-content/uploads/2025/10/589af1c2-2019-11f0-8c71-b2931dc7a749-KqsZsB.jpg
END:VEVENT
END:VCALENDAR