BEGIN:VCALENDAR
VERSION:2.0
PRODID:-//Listeso Music Group - A Boutique String Quartet Agency - ECPv6.15.20//NONSGML v1.0//EN
CALSCALE:GREGORIAN
METHOD:PUBLISH
X-WR-CALNAME:Listeso Music Group - A Boutique String Quartet Agency
X-ORIGINAL-URL:https://www.listeso.com
X-WR-CALDESC:Events for Listeso Music Group - A Boutique String Quartet Agency
REFRESH-INTERVAL;VALUE=DURATION:PT1H
X-Robots-Tag:noindex
X-PUBLISHED-TTL:PT1H
BEGIN:VTIMEZONE
TZID:America/Chicago
BEGIN:DAYLIGHT
TZOFFSETFROM:-0600
TZOFFSETTO:-0500
TZNAME:CDT
DTSTART:20250309T080000
END:DAYLIGHT
BEGIN:STANDARD
TZOFFSETFROM:-0500
TZOFFSETTO:-0600
TZNAME:CST
DTSTART:20251102T070000
END:STANDARD
BEGIN:DAYLIGHT
TZOFFSETFROM:-0600
TZOFFSETTO:-0500
TZNAME:CDT
DTSTART:20260308T080000
END:DAYLIGHT
BEGIN:STANDARD
TZOFFSETFROM:-0500
TZOFFSETTO:-0600
TZNAME:CST
DTSTART:20261101T070000
END:STANDARD
BEGIN:DAYLIGHT
TZOFFSETFROM:-0600
TZOFFSETTO:-0500
TZNAME:CDT
DTSTART:20270314T080000
END:DAYLIGHT
BEGIN:STANDARD
TZOFFSETFROM:-0500
TZOFFSETTO:-0600
TZNAME:CST
DTSTART:20271107T070000
END:STANDARD
END:VTIMEZONE
BEGIN:VEVENT
DTSTART;TZID=America/Chicago:20260213T203000
DTEND;TZID=America/Chicago:20260213T213000
DTSTAMP:20260421T180000
CREATED:20251001T171016Z
LAST-MODIFIED:20251001T171016Z
UID:21569-1771014600-1771018200@www.listeso.com
SUMMARY:Candlelight: Valentine's Day Special
DESCRIPTION:Overview\nCandlelight concerts bring the magic of a live\, multi-sensory musical experience to awe-inspiring locations like never seen before in Beaumont. Get your tickets now to discover the music of Valentine’s Day Special at 434 Fannin under the gentle glow of candlelight. \nGeneral Info\n\n📍 Venue: 434 Fannin\n⏳ Duration: 60 minutes. Doors open 60 minutes before the show and close 5 minutes prior to the start. Late arrivals will not be permitted\n👤 Age requirement: 8 years old or older. Anyone under the age of 16 must be accompanied by an adult\n♿ Accessibility: This venue is ADA compliant\n🪑 Seating: Seating is assigned on a first come first served basis in each zone\n\nTentative Program\n\nUnchained Melody – The Righteous Brothers\nCan You Feel the Love Tonight? – Elton John\nA Whole New World – Alan Menken\nYour Song – Elton John\nTennessee – Hans Zimmer\nOut of Africa – John Barry\nLove Theme for Nata – Ennio Morricone\nPor Una Cabeza – Carlos Gardel\nLa Vie En Rose – Edith Piaf\nCan’t Help Falling in Love – Elvis Presley\nAll You Need Is Love – The Beatles\nA Thousand Years – Christina Perri\nShallow – Lady Gaga\nMy Heart Will Go On – Celine Dion\n\nPerformers\n🎻 String Quartet – Listeso – Houston \nBook a Private Event\nLooking to create an unforgettable experience for your team\, clients\, or special occasion? We offer private event bookings with customized programs tailored to your needs. \nGet a Quote for Your Private Event
URL:https://www.listeso.com/concert/2026-02-13-434-fannin-candlelight-valentines-day-special/
LOCATION:434 Fannin\, 434 Fannin\, Beaumont\, TX\, United States
CATEGORIES:Beaumont, TX
ATTACH;FMTTYPE=image/jpeg:https://www.listeso.com/wp-content/uploads/2025/10/a1694468-0af6-11f0-bdcd-ee32a89aa521-m95Djl.jpg
END:VEVENT
END:VCALENDAR