BEGIN:VCALENDAR
VERSION:2.0
PRODID:-//Listeso Music Group - A Boutique String Quartet Agency - ECPv6.15.20//NONSGML v1.0//EN
CALSCALE:GREGORIAN
METHOD:PUBLISH
X-WR-CALNAME:Listeso Music Group - A Boutique String Quartet Agency
X-ORIGINAL-URL:https://www.listeso.com
X-WR-CALDESC:Events for Listeso Music Group - A Boutique String Quartet Agency
REFRESH-INTERVAL;VALUE=DURATION:PT1H
X-Robots-Tag:noindex
X-PUBLISHED-TTL:PT1H
BEGIN:VTIMEZONE
TZID:America/Toronto
BEGIN:DAYLIGHT
TZOFFSETFROM:-0500
TZOFFSETTO:-0400
TZNAME:EDT
DTSTART:20250309T070000
END:DAYLIGHT
BEGIN:STANDARD
TZOFFSETFROM:-0400
TZOFFSETTO:-0500
TZNAME:EST
DTSTART:20251102T060000
END:STANDARD
BEGIN:DAYLIGHT
TZOFFSETFROM:-0500
TZOFFSETTO:-0400
TZNAME:EDT
DTSTART:20260308T070000
END:DAYLIGHT
BEGIN:STANDARD
TZOFFSETFROM:-0400
TZOFFSETTO:-0500
TZNAME:EST
DTSTART:20261101T060000
END:STANDARD
BEGIN:DAYLIGHT
TZOFFSETFROM:-0500
TZOFFSETTO:-0400
TZNAME:EDT
DTSTART:20270314T070000
END:DAYLIGHT
BEGIN:STANDARD
TZOFFSETFROM:-0400
TZOFFSETTO:-0500
TZNAME:EST
DTSTART:20271107T060000
END:STANDARD
END:VTIMEZONE
BEGIN:VEVENT
DTSTART;TZID=America/Toronto:20260226T203000
DTEND;TZID=America/Toronto:20260226T213000
DTSTAMP:20260426T010404
CREATED:20260225T123922Z
LAST-MODIFIED:20260225T123922Z
UID:25866-1772137800-1772141400@www.listeso.com
SUMMARY:Candlelight: Coldplay & Imagine Dragons
DESCRIPTION:Overview\nCandlelight t’offre des expériences musicales magiques dans de magnifiques lieux éclairés à la bougie. Profitez d’un concert unique mettant en vedette les plus grands succès de Coldplay et Imagine Dragons\, interprétés par un quatuor à cordes dans l’ambiance intime et chaleureuse des bougies. \nGeneral Info\n\n⏳ Duration: 60 minutes environ. Les portes ouvrent 60 minutes avant le début du concert. Les retards ne seront pas permis\n👤 Age requirement: L’accès à l’expérience est réservé aux personnes de 8 ans et plus. Les participants de moins de 16 ans doivent être accompagnés d’un adulte. Afin de garantir le bon déroulement de l’événement\, tout comportement perturbateur peut entraîner une demande de quitter la salle.\n♿ Accessibility: Cette salle est accessible aux fauteuils roulants en Zone C uniquement\n🪑 Seating: Les places sont assignées par ordre d’arrivée\, selon la catégorie réservée\n\nProgram\n\nColdplay – Clocks\nImagine Dragons – Radioactive\nColdplay – Adventure of a Lifetime\nColdplay – Fix You\nImagine Dragons – Eyes Closed\nImagine Dragons – Nice to Meet You\nColdplay – The Scientist\nColdplay – feelslikeimfallinginlove\nImagine Dragons – Follow You\nImagine Dragons – Bad Liar\nImagine Dragons – Believer\nColdplay – Sky Full of Stars\nColdplay – Viva la Vida\n\nPerformers\n🎻 String Quartet: 2 violins\, 1 viola\, 1 cello \nBook a Private Event\nLooking to create an unforgettable experience for your wedding\, or special occasion? We offer private event bookings with customized programs tailored to your needs. \nGet a quote
URL:https://www.listeso.com/concert/2026-02-26-le-memphis-cabaret-candlelight-coldplay-imagine-dragons/
LOCATION:Le Memphis Cabaret\, Trois-Rivières\, Canada
CATEGORIES:Trois-Rivières, QC
ATTACH;FMTTYPE=image/jpeg:https://www.listeso.com/wp-content/uploads/2025/10/7588d684-1158-11f0-b4c2-c22f5b3d6cc1-XMUcDp.jpg
END:VEVENT
END:VCALENDAR