BEGIN:VCALENDAR
VERSION:2.0
PRODID:-//Listeso Music Group - A Boutique String Quartet Agency - ECPv6.15.20//NONSGML v1.0//EN
CALSCALE:GREGORIAN
METHOD:PUBLISH
X-WR-CALNAME:Listeso Music Group - A Boutique String Quartet Agency
X-ORIGINAL-URL:https://www.listeso.com
X-WR-CALDESC:Events for Listeso Music Group - A Boutique String Quartet Agency
REFRESH-INTERVAL;VALUE=DURATION:PT1H
X-Robots-Tag:noindex
X-PUBLISHED-TTL:PT1H
BEGIN:VTIMEZONE
TZID:America/Vancouver
BEGIN:DAYLIGHT
TZOFFSETFROM:-0800
TZOFFSETTO:-0700
TZNAME:PDT
DTSTART:20250309T100000
END:DAYLIGHT
BEGIN:STANDARD
TZOFFSETFROM:-0700
TZOFFSETTO:-0800
TZNAME:PST
DTSTART:20251102T090000
END:STANDARD
BEGIN:DAYLIGHT
TZOFFSETFROM:-0800
TZOFFSETTO:-0700
TZNAME:PDT
DTSTART:20260308T100000
END:DAYLIGHT
BEGIN:STANDARD
TZOFFSETFROM:-0700
TZOFFSETTO:-0800
TZNAME:PST
DTSTART:20261101T090000
END:STANDARD
BEGIN:DAYLIGHT
TZOFFSETFROM:-0800
TZOFFSETTO:-0700
TZNAME:PDT
DTSTART:20270314T100000
END:DAYLIGHT
BEGIN:STANDARD
TZOFFSETFROM:-0700
TZOFFSETTO:-0800
TZNAME:PST
DTSTART:20271107T090000
END:STANDARD
END:VTIMEZONE
BEGIN:VEVENT
DTSTART;TZID=America/Vancouver:20260227T203000
DTEND;TZID=America/Vancouver:20260227T213000
DTSTAMP:20260426T010400
CREATED:20260224T135025Z
LAST-MODIFIED:20260224T135025Z
UID:25638-1772224200-1772227800@www.listeso.com
SUMMARY:Candlelight Valentine's Day: Classical Romance
DESCRIPTION:Overview\nCandlelight concerts bring the magic of a live\, multi-sensory musical experience to awe-inspiring locations like never seen before in Prince George. Get your tickets now to discover the music of Classical Romance at Knox Performance Centre under the gentle glow of candlelight. \nGeneral Info\n\n📍 Venue: Knox Performance Centre\n⏳ Duration: 60 minutes. Doors open 30 minutes before the show. No entry once it starts.\n👤 Age recommendation: The experience is recommended for those who are 8+. To preserve the experience\, disruptive behaviour may result in being asked to step outside. Anyone under the age of 16 must be accompanied by an adult.\n♿ Accessibility: This venue is accessible for people with reduced mobility\n🪑 Seating: Seating is assigned on a first come first served basis in each zone\n\nTentative Program\n\nFantasy Overture from Romeo and Juliet – Tchaikovsky\nClair de Lune\, L.32 – Debussy\nIntermezzo from Cavalleria Rusticana – Mascagni\nChe Gelida Manina from La Boheme – Puccini\nMéditation from Thaïs – Massenet\nSalut D’Amour – Elgar\nO Mio Babbino Caro from Gianni Schicchi – Puccini\nRhapsody on a Theme of Paganini 18th Variation – Rachmaninoff\nLiebestraume No. 3 in A-Flat Major – Liszt\nString Quartet No. 2 in D Major: III. Notturno: Andante – Borodin\nCrisantemi – Puccini\nSerenade for Strings in E Minor\, Op. 20: II. Larghetto – Elgar\n\nPerformers\n🎻 String Quartet: 2 violins\, 1 viola\, 1 cello \nBook a Private Event\nLooking to create an unforgettable experience for your wedding\, or special occasion? We offer private event bookings with customized programs tailored to your needs. \nGet a quote
URL:https://www.listeso.com/concert/2026-02-27-knox-performance-centre-candlelight-valentines-day-classical-romance/
LOCATION:Knox Performance Centre\, Prince George\, Canada
CATEGORIES:Prince George, BC
ATTACH;FMTTYPE=image/jpeg:https://www.listeso.com/wp-content/uploads/2026/02/fff6d56e-f14f-11f0-9e1d-2298f87c2f46-4vtQaU.jpg
END:VEVENT
END:VCALENDAR