BEGIN:VCALENDAR
VERSION:2.0
PRODID:-//Listeso Music Group - A Boutique String Quartet Agency - ECPv6.15.20//NONSGML v1.0//EN
CALSCALE:GREGORIAN
METHOD:PUBLISH
X-WR-CALNAME:Listeso Music Group - A Boutique String Quartet Agency
X-ORIGINAL-URL:https://www.listeso.com
X-WR-CALDESC:Events for Listeso Music Group - A Boutique String Quartet Agency
REFRESH-INTERVAL;VALUE=DURATION:PT1H
X-Robots-Tag:noindex
X-PUBLISHED-TTL:PT1H
BEGIN:VTIMEZONE
TZID:America/Los_Angeles
BEGIN:DAYLIGHT
TZOFFSETFROM:-0800
TZOFFSETTO:-0700
TZNAME:PDT
DTSTART:20250309T100000
END:DAYLIGHT
BEGIN:STANDARD
TZOFFSETFROM:-0700
TZOFFSETTO:-0800
TZNAME:PST
DTSTART:20251102T090000
END:STANDARD
BEGIN:DAYLIGHT
TZOFFSETFROM:-0800
TZOFFSETTO:-0700
TZNAME:PDT
DTSTART:20260308T100000
END:DAYLIGHT
BEGIN:STANDARD
TZOFFSETFROM:-0700
TZOFFSETTO:-0800
TZNAME:PST
DTSTART:20261101T090000
END:STANDARD
BEGIN:DAYLIGHT
TZOFFSETFROM:-0800
TZOFFSETTO:-0700
TZNAME:PDT
DTSTART:20270314T100000
END:DAYLIGHT
BEGIN:STANDARD
TZOFFSETFROM:-0700
TZOFFSETTO:-0800
TZNAME:PST
DTSTART:20271107T090000
END:STANDARD
END:VTIMEZONE
BEGIN:VEVENT
DTSTART;TZID=America/Los_Angeles:20260405T203000
DTEND;TZID=America/Los_Angeles:20260405T213000
DTSTAMP:20260425T214345
CREATED:20260225T121805Z
LAST-MODIFIED:20260225T121805Z
UID:25771-1775421000-1775424600@www.listeso.com
SUMMARY:Candlelight: A Tribute to Pink Floyd
DESCRIPTION:Overview\nCandlelight concerts bring the magic of a live\, multi-sensory musical experience to awe-inspiring locations like never seen before in Seattle. Get your tickets now to discover the music of Pink Floyd at Arctic Club Hotel under the gentle glow of candlelight. \nGeneral Info\n\n📍 Venue: Arctic Club Hotel\n⏳ Duration: 60 minutes. Doors open 60 minutes before the show and close 5 minutes prior to the start. Late arrivals will not be permitted\n👤 Age requirement: 8 years old or older. Anyone under the age of 16 must be accompanied by an adult\n♿ Accessibility: This venue is ADA compliant\n🪑 Seating: Seating is assigned on a first come first served basis in each zone\n\nTentative Program\n\nAnother Brick In The Wall\nShine On You Crazy Diamond\nHey You\nBreathe (In The Air)\nOn The Run\nTime\nThe Great Gig In The Sky\nMoney\nUs and Them\nComfortably Numb\nWish You Were Here\n\nPerformers\n🎻 Seattle Quartet: Emilie Choi\, Sol Im\, Alexander Grimes\, Christine Lee \nBook a Private Event\nLooking to create an unforgettable experience for your wedding\, or special occasion? We offer private event bookings with customized programs tailored to your needs. \nGet a quote
URL:https://www.listeso.com/concert/2026-04-05-arctic-club-hotel-candlelight-a-tribute-to-pink-floyd/
LOCATION:Arctic Club Hotel\, Seattle\, WA\, United States
CATEGORIES:Seattle, WA
ATTACH;FMTTYPE=image/jpeg:https://www.listeso.com/wp-content/uploads/2026/02/cfdbde42-84a4-11ef-8bc4-82ef6208969a-vKYMng.jpg
END:VEVENT
END:VCALENDAR