BEGIN:VCALENDAR
VERSION:2.0
PRODID:-//Listeso Music Group - A Boutique String Quartet Agency - ECPv6.15.20//NONSGML v1.0//EN
CALSCALE:GREGORIAN
METHOD:PUBLISH
X-WR-CALNAME:Listeso Music Group - A Boutique String Quartet Agency
X-ORIGINAL-URL:https://www.listeso.com
X-WR-CALDESC:Events for Listeso Music Group - A Boutique String Quartet Agency
REFRESH-INTERVAL;VALUE=DURATION:PT1H
X-Robots-Tag:noindex
X-PUBLISHED-TTL:PT1H
BEGIN:VTIMEZONE
TZID:America/Los_Angeles
BEGIN:DAYLIGHT
TZOFFSETFROM:-0800
TZOFFSETTO:-0700
TZNAME:PDT
DTSTART:20250309T100000
END:DAYLIGHT
BEGIN:STANDARD
TZOFFSETFROM:-0700
TZOFFSETTO:-0800
TZNAME:PST
DTSTART:20251102T090000
END:STANDARD
BEGIN:DAYLIGHT
TZOFFSETFROM:-0800
TZOFFSETTO:-0700
TZNAME:PDT
DTSTART:20260308T100000
END:DAYLIGHT
BEGIN:STANDARD
TZOFFSETFROM:-0700
TZOFFSETTO:-0800
TZNAME:PST
DTSTART:20261101T090000
END:STANDARD
BEGIN:DAYLIGHT
TZOFFSETFROM:-0800
TZOFFSETTO:-0700
TZNAME:PDT
DTSTART:20270314T100000
END:DAYLIGHT
BEGIN:STANDARD
TZOFFSETFROM:-0700
TZOFFSETTO:-0800
TZNAME:PST
DTSTART:20271107T090000
END:STANDARD
END:VTIMEZONE
BEGIN:VEVENT
DTSTART;TZID=America/Los_Angeles:20260418T204500
DTEND;TZID=America/Los_Angeles:20260418T214500
DTSTAMP:20260425T214354
CREATED:20260224T132404Z
LAST-MODIFIED:20260224T132404Z
UID:25543-1776545100-1776548700@www.listeso.com
SUMMARY:Candlelight: Neo-Soul Favorites ft. Songs by Prince\, Childish Gambino\, & More
DESCRIPTION:Overview\nCandlelight concerts bring the magic of a live\, multi-sensory musical experience to awe-inspiring locations like never seen before in Oakland. Get your tickets now to discover the music of Neo-Soul Favorites ft. Songs by Prince\, Childish Gambino\, & More at First Presbyterian Church of Oakland under the gentle glow of candlelight. \nGeneral Info\n\n📍 Venue: First Presbyterian Church of Oakland\n⏳ Duration: 60 minutes. Doors open 45 minutes before the show and close 5 minutes prior to the start. Late arrivals will not be permitted\n👤 Age requirement: 8 years old or older. Anyone under the age of 16 must be accompanied by an adult\n♿ Accessibility: this venue is ADA compliant\n🪑 Seating: Seating is assigned on a first come first served basis in each zone\n\nTentative Program\n\nPrince – Purple Rain\nLauryn Hill – Ex-Factor\nAlicia Keys – You Don’t Know My Name\nSade – Smooth Operator\nD’Angelo – Untitled (How Does It Feel)\nChildish Gambino – Redbone\nFrank Ocean – Thinkin Bout You\nBoyz II Men – The End of the Road\nMiguel – Adorn\nSZA – Good Days\nH.E.R. – The Best Part\nErykah Badu – Tyrone\nSolange – Don’t Touch My Hair\n\nPerformers\n🎻 Listeso String Quartet \nBook a Private Event\nLooking to create an unforgettable experience for your wedding\, or special occasion? We offer private event bookings with customized programs tailored to your needs. \nGet a quote
URL:https://www.listeso.com/concert/2026-04-18-first-presbyterian-church-of-oakland-neo-soul-favorites/
LOCATION:First Presbyterian Church of Oakland\, Oakland\, CA\, United States
CATEGORIES:Oakland, CA
ATTACH;FMTTYPE=image/jpeg:https://www.listeso.com/wp-content/uploads/2025/10/545c11c8-146a-11f0-849f-5e20d3b04074-w9BUXK.jpg
END:VEVENT
END:VCALENDAR