BEGIN:VCALENDAR
VERSION:2.0
PRODID:-//Listeso Music Group - A Boutique String Quartet Agency - ECPv6.15.20//NONSGML v1.0//EN
CALSCALE:GREGORIAN
METHOD:PUBLISH
X-WR-CALNAME:Listeso Music Group - A Boutique String Quartet Agency
X-ORIGINAL-URL:https://www.listeso.com
X-WR-CALDESC:Events for Listeso Music Group - A Boutique String Quartet Agency
REFRESH-INTERVAL;VALUE=DURATION:PT1H
X-Robots-Tag:noindex
X-PUBLISHED-TTL:PT1H
BEGIN:VTIMEZONE
TZID:America/Edmonton
BEGIN:DAYLIGHT
TZOFFSETFROM:-0700
TZOFFSETTO:-0600
TZNAME:MDT
DTSTART:20250309T090000
END:DAYLIGHT
BEGIN:STANDARD
TZOFFSETFROM:-0600
TZOFFSETTO:-0700
TZNAME:MST
DTSTART:20251102T080000
END:STANDARD
BEGIN:DAYLIGHT
TZOFFSETFROM:-0700
TZOFFSETTO:-0600
TZNAME:MDT
DTSTART:20260308T090000
END:DAYLIGHT
BEGIN:STANDARD
TZOFFSETFROM:-0600
TZOFFSETTO:-0700
TZNAME:MST
DTSTART:20261101T080000
END:STANDARD
BEGIN:DAYLIGHT
TZOFFSETFROM:-0700
TZOFFSETTO:-0600
TZNAME:MDT
DTSTART:20270314T090000
END:DAYLIGHT
BEGIN:STANDARD
TZOFFSETFROM:-0600
TZOFFSETTO:-0700
TZNAME:MST
DTSTART:20271107T080000
END:STANDARD
END:VTIMEZONE
BEGIN:VEVENT
DTSTART;TZID=America/Edmonton:20260424T203000
DTEND;TZID=America/Edmonton:20260424T213000
DTSTAMP:20260421T124016
CREATED:20260224T120230Z
LAST-MODIFIED:20260224T120230Z
UID:25377-1777062600-1777066200@www.listeso.com
SUMMARY:Candlelight: Tribute to Céline Dion
DESCRIPTION:Overview\nCandlelight concerts bring the magic of a live\, multi-sensory musical experience to awe-inspiring locations like never seen before in Edmonton. Get your tickets now to discover the music of Céline Dion at Betty Andrews Recital Hall under the gentle glow of candlelight. \nGeneral Info\n\n📍 Venue: Betty Andrews Recital Hall\n⏳ Duration: 60 minutes. Doors open 45 minutes before the show. No entry once it starts.\n👤 Age requirement: The experience is recommended for those who are 8+. To preserve the experience\, disruptive behaviour may result in being asked to step outside. Anyone under the age of 16 must be accompanied by an adult\n♿ Accessibility: Accessible seating in Zone B only.\n🪑 Seating: Seating is assigned on a first come first served basis in each zone\n\nTentative Program\n\nMy Heart Will Go On from Titanic\nBeauty and the Beast from Beauty and the Beast\nAll By Myself\nThat’s the Way It Is\nThe Power of Love\nBecause You Loved Me from Up Close and Personal\nIt’s All Coming Back to Me Now\nWhere Does My Heart Beat Now\nTo Love You More\nThe Prayer (ft. Andrea Bocelli)\nA New Day Has Come\nTell Him (ft. Barbra Streisand)\nI Drove All Night\n\nPerformers\n🎻 String Quartet: 2 violins\, 1 viola\, 1 cello \nBook a Private Event\nLooking to create an unforgettable experience for your wedding\, or special occasion? We offer private event bookings with customized programs tailored to your needs. \nGet a quote
URL:https://www.listeso.com/concert/2026-04-24-betty-andrews-recital-hall-tribute-to-celine-dion/
LOCATION:Betty Andrews Recital Hall\, Edmonton\, Canada
CATEGORIES:Edmonton, AB
ATTACH;FMTTYPE=image/jpeg:https://www.listeso.com/wp-content/uploads/2026/02/544cdeb6-0fa5-11f0-b2a8-7ed49a1e2f34-NYPhJ3.jpg
END:VEVENT
END:VCALENDAR