BEGIN:VCALENDAR
VERSION:2.0
PRODID:-//Listeso Music Group - A Boutique String Quartet Agency - ECPv6.15.20//NONSGML v1.0//EN
CALSCALE:GREGORIAN
METHOD:PUBLISH
X-WR-CALNAME:Listeso Music Group - A Boutique String Quartet Agency
X-ORIGINAL-URL:https://www.listeso.com
X-WR-CALDESC:Events for Listeso Music Group - A Boutique String Quartet Agency
REFRESH-INTERVAL;VALUE=DURATION:PT1H
X-Robots-Tag:noindex
X-PUBLISHED-TTL:PT1H
BEGIN:VTIMEZONE
TZID:America/New_York
BEGIN:DAYLIGHT
TZOFFSETFROM:-0500
TZOFFSETTO:-0400
TZNAME:EDT
DTSTART:20250309T070000
END:DAYLIGHT
BEGIN:STANDARD
TZOFFSETFROM:-0400
TZOFFSETTO:-0500
TZNAME:EST
DTSTART:20251102T060000
END:STANDARD
BEGIN:DAYLIGHT
TZOFFSETFROM:-0500
TZOFFSETTO:-0400
TZNAME:EDT
DTSTART:20260308T070000
END:DAYLIGHT
BEGIN:STANDARD
TZOFFSETFROM:-0400
TZOFFSETTO:-0500
TZNAME:EST
DTSTART:20261101T060000
END:STANDARD
BEGIN:DAYLIGHT
TZOFFSETFROM:-0500
TZOFFSETTO:-0400
TZNAME:EDT
DTSTART:20270314T070000
END:DAYLIGHT
BEGIN:STANDARD
TZOFFSETFROM:-0400
TZOFFSETTO:-0500
TZNAME:EST
DTSTART:20271107T060000
END:STANDARD
END:VTIMEZONE
BEGIN:VEVENT
DTSTART;TZID=America/New_York:20260426T174500
DTEND;TZID=America/New_York:20260426T184500
DTSTAMP:20260425T233330
CREATED:20260228T120340Z
LAST-MODIFIED:20260228T120340Z
UID:26026-1777225500-1777229100@www.listeso.com
SUMMARY:Candlelight: The Best of Joe Hisaishi
DESCRIPTION:Overview\nCandlelight concerts bring the magic of a live\, multi-sensory musical experience to awe-inspiring locations like never seen before in Orlando. Get your tickets now to discover the music of Joe Hisaishi at Orlando Museum of Art under the gentle glow of candlelight. \nGeneral Info\n\n📍 Venue: Orlando Museum of Art\n⏳ Duration: 60 minutes. Doors open 45 minutes before the show and close 5 minutes prior to the start. Late arrivals will not be permitted\n👤 Age requirement: 8 years old or older. Anyone under the age of 16 must be accompanied by an adult\n♿ Accessibility: This venue is ADA compliant\n🪑 Seating: Seating is assigned on a first come first served basis in each zone\n\nTentative Program\n\nNausicaa of the Valley of the Wind – Kaze no Tani\nLaputa: Castle in the Sky – Kimi wo Nosete\nMy Neighbour Totoro – Kaze no Toori Michi\nMy Neighbour Totoro – Main Theme\nKiki’s Delivery Service – Umi no Mieru Machi\nPrincess Mononoke – Main Theme\nSpirited Away – Inochi no Namae\nSpirited Away – Chihiro’s Waltz\nThe Tale of Princess Kaguya – When I Remember This Life\nPonyo – Gake no Ue no Ponyo\nThe Wind Rises – A Journey (A Dream of Flight)\nHowl’s Moving Castle – Merry Go Round of Life\n\nPerformers\n🎻 Listeso String Quartet \nBook a Private Event\nLooking to create an unforgettable experience for your wedding\, or special occasion? We offer private event bookings with customized programs tailored to your needs. \nGet a quote
URL:https://www.listeso.com/concert/2026-04-26-orlando-museum-of-art-candlelight-the-best-of-joe-hisaishi/
LOCATION:Orlando Museum of Art\, Orlando\, FL\, United States
CATEGORIES:Orlando, FL
ATTACH;FMTTYPE=image/jpeg:https://www.listeso.com/wp-content/uploads/2025/10/53c8cd2a-1517-11f0-a7de-a6b24187f688-pzfinJ.jpg
END:VEVENT
END:VCALENDAR