BEGIN:VCALENDAR
VERSION:2.0
PRODID:-//Listeso Music Group - A Boutique String Quartet Agency - ECPv6.15.20//NONSGML v1.0//EN
CALSCALE:GREGORIAN
METHOD:PUBLISH
X-WR-CALNAME:Listeso Music Group - A Boutique String Quartet Agency
X-ORIGINAL-URL:https://www.listeso.com
X-WR-CALDESC:Events for Listeso Music Group - A Boutique String Quartet Agency
REFRESH-INTERVAL;VALUE=DURATION:PT1H
X-Robots-Tag:noindex
X-PUBLISHED-TTL:PT1H
BEGIN:VTIMEZONE
TZID:America/New_York
BEGIN:DAYLIGHT
TZOFFSETFROM:-0500
TZOFFSETTO:-0400
TZNAME:EDT
DTSTART:20250309T070000
END:DAYLIGHT
BEGIN:STANDARD
TZOFFSETFROM:-0400
TZOFFSETTO:-0500
TZNAME:EST
DTSTART:20251102T060000
END:STANDARD
BEGIN:DAYLIGHT
TZOFFSETFROM:-0500
TZOFFSETTO:-0400
TZNAME:EDT
DTSTART:20260308T070000
END:DAYLIGHT
BEGIN:STANDARD
TZOFFSETFROM:-0400
TZOFFSETTO:-0500
TZNAME:EST
DTSTART:20261101T060000
END:STANDARD
BEGIN:DAYLIGHT
TZOFFSETFROM:-0500
TZOFFSETTO:-0400
TZNAME:EDT
DTSTART:20270314T070000
END:DAYLIGHT
BEGIN:STANDARD
TZOFFSETFROM:-0400
TZOFFSETTO:-0500
TZNAME:EST
DTSTART:20271107T060000
END:STANDARD
END:VTIMEZONE
BEGIN:VTIMEZONE
TZID:Europe/Berlin
BEGIN:DAYLIGHT
TZOFFSETFROM:+0100
TZOFFSETTO:+0200
TZNAME:CEST
DTSTART:20250330T010000
END:DAYLIGHT
BEGIN:STANDARD
TZOFFSETFROM:+0200
TZOFFSETTO:+0100
TZNAME:CET
DTSTART:20251026T010000
END:STANDARD
BEGIN:DAYLIGHT
TZOFFSETFROM:+0100
TZOFFSETTO:+0200
TZNAME:CEST
DTSTART:20260329T010000
END:DAYLIGHT
BEGIN:STANDARD
TZOFFSETFROM:+0200
TZOFFSETTO:+0100
TZNAME:CET
DTSTART:20261025T010000
END:STANDARD
BEGIN:DAYLIGHT
TZOFFSETFROM:+0100
TZOFFSETTO:+0200
TZNAME:CEST
DTSTART:20270328T010000
END:DAYLIGHT
BEGIN:STANDARD
TZOFFSETFROM:+0200
TZOFFSETTO:+0100
TZNAME:CET
DTSTART:20271031T010000
END:STANDARD
END:VTIMEZONE
BEGIN:VEVENT
DTSTART;TZID=America/New_York:20260324T180000
DTEND;TZID=America/New_York:20260324T190000
DTSTAMP:20260425T213706
CREATED:20260224T123458Z
LAST-MODIFIED:20260224T123458Z
UID:10008212-1774375200-1774378800@www.listeso.com
SUMMARY:Candlelight: Tribute to Fleetwood Mac
DESCRIPTION:Overview\nCandlelight concerts bring the magic of a live\, multi-sensory musical experience to awe-inspiring locations like never seen before in Naples. Get your tickets now to discover the music of Fleetwood Mac at The Naples Players – Kizzie Theater under the gentle glow of candlelight. \nGeneral Info\n\n📍 Venue: The Naples Players – Kizzie Theater\n⏳ Duration: 60 minutes. Doors open 60 minutes before the show. No entry once it starts.\n👤 Age requirement: 8 years old or older. Anyone under the age of 16 must be accompanied by an adult\n♿ Accessibility: ADA accessible\n🪑 Seating: Seating is assigned on a first come first served basis in each zone\n\nTentative Program\n\nEverywhere\nGypsy\nYou Make Loving Fun\nNever Going Back Again\nDon’t Stop\nGold Dust Woman\nGo Your Own Way\nLandslide\nLittle Lies\nSongbird\nRhiannon\nThe Chain\n\nPerformers\n🎻 Listeso String Quartet \nBook a Private Event\nLooking to create an unforgettable experience for your wedding\, or special occasion? We offer private event bookings with customized programs tailored to your needs. \nGet a quote
URL:https://www.listeso.com/concert/2026-03-24-the-naples-players-kizzie-theater-tribute-to-fleetwood-mac/
LOCATION:The Naples Players – Kizzie Theater\, Naples\, FL\, United States
CATEGORIES:Naples, FL
ATTACH;FMTTYPE=image/jpeg:https://www.listeso.com/wp-content/uploads/2025/10/5c2e82a6-1f77-11f0-9fc3-b6302f1836c4-3Gs8kb.jpg
END:VEVENT
BEGIN:VEVENT
DTSTART;TZID=Europe/Berlin:20260324T180000
DTEND;TZID=Europe/Berlin:20260324T190000
DTSTAMP:20260425T213706
CREATED:20260321T113145Z
LAST-MODIFIED:20260321T113145Z
UID:10009896-1774375200-1774378800@www.listeso.com
SUMMARY:Candlelight: Ed Sheeran meets Coldplay
DESCRIPTION:Overview\nDas einzigartige Live-Musikerlebnis Candlelight verwandelt die verschiedensten Orte in Münster in atemberaubende Konzertlocations. Sichere dir jetzt deine Tickets und erlebe die Musik von Ed Sheeran meets Coldplay im Schein tausender Kerzen! \nGeneral Info\n\n⏳ Duration: 60 Minuten. Es ist keine Pause vorgesehen. Einlass ist 30 Minuten vor Beginn des Konzerts. Ein verspäteter Einlass nach Konzertbeginn ist nicht möglich!\n👤 Age requirement: Kein Zutritt unter 8 Jahren. Zutritt unter 16 Jahren nur in Begleitung einer erwachsenen Person\n♿ Accessibility: rollstuhlgerecht\n🪑 Seating: Dir wird automatisch der bestmögliche Sitzplatz in deiner gewählten Preiszone zugewiesen. Bitte beachte: Um mit Freund:innen/Familie zusammensitzen zu können\, sollten alle jeweiligen Tickets während des selben Kaufs (zusammen) erworben werden. Einmal zugewiesene Sitzplätze können hinterher bzw. vor Ort nicht mehr geändert werden!\n\nProgram\n\nColdplay – Clocks\nColdplay – Something Just Like This\nEd Sheeran – Bad Habits\nColdplay – Adventure of a Lifetime\nColdplay – Fix You\nEd Sheeran – Photograph\nColdplay – The Scientist\nEd Sheeran – Shivers\nEd Sheeran – Perfect\nColdplay – Viva la Vida\nEd Sheeran – Give me love\nColdplay – Sky Full of Stars\n\nPerformers\n🎻 15.03: Es spielt das Lumus Quartet Streichquartett🎻 17.03: Es spielt das Luminor Quartet Streichquartett🎻 24.03: Es spielt das Joker Quartett Streichquartett🎻 25.03: Es spielt das Lumus Quartet Streichquartett🎻 26.03: Es spielt das Lumus Quartet Streichquartett \nBook a Private Event\nLooking to create an unforgettable experience for your wedding\, or special occasion? We offer private event bookings with customized programs tailored to your needs. \nGet a quote
URL:https://www.listeso.com/concert/2026-03-24-friedenskapelle-candlelight-ed-sheeran-meets-coldplay/
LOCATION:Friedenskapelle\, Münster\, Germany
CATEGORIES:Münster, Germany
ATTACH;FMTTYPE=image/jpeg:https://www.listeso.com/wp-content/uploads/2026/03/f978ce46-1f76-11f0-a117-a2b54bc7250d-p1LaZX.jpg
END:VEVENT
BEGIN:VEVENT
DTSTART;TZID=Europe/Berlin:20260324T183000
DTEND;TZID=Europe/Berlin:20260324T193000
DTSTAMP:20260425T213706
CREATED:20260314T113502Z
LAST-MODIFIED:20260314T113502Z
UID:10008975-1774377000-1774380600@www.listeso.com
SUMMARY:Candlelight: Tribut an ABBA und mehr
DESCRIPTION:Overview\nDas einzigartige Live-Musikerlebnis Candlelight verwandelt die verschiedensten Orte in Augsburg in atemberaubende Konzertlocations. Sichere dir jetzt deine Tickets und erlebe die Musik von Queen meets ABBA im Schein tausender Kerzen! \nHinweis: Wenn du in einer größeren Gruppe kommst\, plane bitte genügend Zeit ein\, um gemeinsam Plätze zu sichern. Wir können nicht garantieren\, dass Gruppen\, die erst kurz vor Konzertbeginn eintreffen\, zusammensitzen können. \nGeneral Info\n\n📍 Ort: Kleiner Goldener Saal\n⏳ Dauer: 60 Minuten. Es ist keine Pause vorgesehen. Einlass ist 30 Minuten vor Beginn des Konzerts. Ein verspäteter Einlass nach Konzertbeginn ist nicht möglich!\n👤 Altersbeschränkung: Kein Zutritt unter 8 Jahren. Zutritt unter 16 Jahren nur in Begleitung einer erwachsenen Person\n♿ Barrierefreiheit: rollstuhlgerecht\n🪑 Sitzplätze: Freie Platzwahl bei der Ankunft innerhalb der gebuchten Zone\n\nVorläufiges Programm\n\nABBA – Dancing Queen\nABBA – SOS\nABBA – Money\, Money\, Money\nABBA – Voulez Vouz\nQueen – Bohemian Rhapsody\nQueen – I Want To Break Free\nQueen – Killer Queen\nABBA – Waterloo\nABBA – Super Trouper\nABBA – Mamma Mia\nQueen – Don’t Stop Me Now\nQueen – We Will Rock You\nQueen – We Are The Champions\n\nKünstler:innen\n🎻 Es spielt das BPM Classic Streichquartett \nBook a Private Event\nLooking to create an unforgettable experience for your wedding\, or special occasion? We offer private event bookings with customized programs tailored to your needs. \nGet a quote
URL:https://www.listeso.com/concert/2026-03-24-kleiner-goldener-saal-candlelight-tribut-an-abba-und-mehr/
LOCATION:Kleiner Goldener Saal\, Augsburg\, Germany
CATEGORIES:Augsburg, BY
ATTACH;FMTTYPE=image/jpeg:https://www.listeso.com/wp-content/uploads/2025/10/ad60b410-1945-11f0-bf40-961efeb2b763-xrNulH.jpg
END:VEVENT
BEGIN:VEVENT
DTSTART;TZID=America/New_York:20260324T203000
DTEND;TZID=America/New_York:20260324T213000
DTSTAMP:20260425T213706
CREATED:20260309T110357Z
LAST-MODIFIED:20260309T110357Z
UID:10008785-1774384200-1774387800@www.listeso.com
SUMMARY:Candlelight: Coldplay vs. Imagine Dragons
DESCRIPTION:Overview\nCandlelight concerts bring the magic of a live\, multi-sensory musical experience to awe-inspiring locations like never seen before in Naples. Get your tickets now to discover the music of Coldplay vs. Imagine Dragons at The Naples Players – Kizzie Theater under the gentle glow of candlelight. \nGeneral Info\n\n📍 Venue: The Naples Players – Kizzie Theater\n⏳ Duration: 60 minutes. Doors open 60 minutes before the show. No entry once it starts.\n👤 Age requirement: 8 years old or older. Anyone under the age of 16 must be accompanied by an adult\n♿ Accessibility: This venue is ADA accessible\n🪑 Seating: Seating is assigned on a first come first served basis in each zone\n\nTentative Program\n\nColdplay – Clocks\nImagine Dragons – Radioactive\nColdplay – Adventure of a Lifetime\nColdplay – Fix You\nImagine Dragons – Eyes Closed\nImagine Dragons – Nice to Meet You\nColdplay – The Scientist\nColdplay – feelslikeimfallinginlove\nImagine Dragons – Follow You\nImagine Dragons – Bad Liar\nImagine Dragons – Believer\nColdplay – Sky Full of Stars\nColdplay – Viva la Vida\n\nPerformers\n🎻 Listeso String Quartet \nBook a Private Event\nLooking to create an unforgettable experience for your wedding\, or special occasion? We offer private event bookings with customized programs tailored to your needs. \nGet a quote
URL:https://www.listeso.com/concert/2026-03-24-the-naples-players-kizzie-theater-coldplay-vs-imagine-dragons/
LOCATION:The Naples Players – Kizzie Theater\, Naples\, FL\, United States
CATEGORIES:Naples, FL
ATTACH;FMTTYPE=image/jpeg:https://www.listeso.com/wp-content/uploads/2025/10/55ef9d82-1156-11f0-b5b0-0ee885ccc32f-OlscRd.jpg
END:VEVENT
END:VCALENDAR