BEGIN:VCALENDAR
VERSION:2.0
PRODID:-//Listeso Music Group - A Boutique String Quartet Agency - ECPv6.15.20//NONSGML v1.0//EN
CALSCALE:GREGORIAN
METHOD:PUBLISH
X-WR-CALNAME:Listeso Music Group - A Boutique String Quartet Agency
X-ORIGINAL-URL:https://www.listeso.com
X-WR-CALDESC:Events for Listeso Music Group - A Boutique String Quartet Agency
REFRESH-INTERVAL;VALUE=DURATION:PT1H
X-Robots-Tag:noindex
X-PUBLISHED-TTL:PT1H
BEGIN:VTIMEZONE
TZID:Europe/Berlin
BEGIN:DAYLIGHT
TZOFFSETFROM:+0100
TZOFFSETTO:+0200
TZNAME:CEST
DTSTART:20250330T010000
END:DAYLIGHT
BEGIN:STANDARD
TZOFFSETFROM:+0200
TZOFFSETTO:+0100
TZNAME:CET
DTSTART:20251026T010000
END:STANDARD
BEGIN:DAYLIGHT
TZOFFSETFROM:+0100
TZOFFSETTO:+0200
TZNAME:CEST
DTSTART:20260329T010000
END:DAYLIGHT
BEGIN:STANDARD
TZOFFSETFROM:+0200
TZOFFSETTO:+0100
TZNAME:CET
DTSTART:20261025T010000
END:STANDARD
BEGIN:DAYLIGHT
TZOFFSETFROM:+0100
TZOFFSETTO:+0200
TZNAME:CEST
DTSTART:20270328T010000
END:DAYLIGHT
BEGIN:STANDARD
TZOFFSETFROM:+0200
TZOFFSETTO:+0100
TZNAME:CET
DTSTART:20271031T010000
END:STANDARD
END:VTIMEZONE
BEGIN:VTIMEZONE
TZID:Europe/Brussels
BEGIN:DAYLIGHT
TZOFFSETFROM:+0100
TZOFFSETTO:+0200
TZNAME:CEST
DTSTART:20250330T010000
END:DAYLIGHT
BEGIN:STANDARD
TZOFFSETFROM:+0200
TZOFFSETTO:+0100
TZNAME:CET
DTSTART:20251026T010000
END:STANDARD
BEGIN:DAYLIGHT
TZOFFSETFROM:+0100
TZOFFSETTO:+0200
TZNAME:CEST
DTSTART:20260329T010000
END:DAYLIGHT
BEGIN:STANDARD
TZOFFSETFROM:+0200
TZOFFSETTO:+0100
TZNAME:CET
DTSTART:20261025T010000
END:STANDARD
BEGIN:DAYLIGHT
TZOFFSETFROM:+0100
TZOFFSETTO:+0200
TZNAME:CEST
DTSTART:20270328T010000
END:DAYLIGHT
BEGIN:STANDARD
TZOFFSETFROM:+0200
TZOFFSETTO:+0100
TZNAME:CET
DTSTART:20271031T010000
END:STANDARD
END:VTIMEZONE
BEGIN:VEVENT
DTSTART;TZID=Europe/Berlin:20260325T180000
DTEND;TZID=Europe/Berlin:20260325T190000
DTSTAMP:20260425T213706
CREATED:20260321T113209Z
LAST-MODIFIED:20260321T113209Z
UID:10009897-1774461600-1774465200@www.listeso.com
SUMMARY:Candlelight: Ed Sheeran meets Coldplay
DESCRIPTION:Overview\nDas einzigartige Live-Musikerlebnis Candlelight verwandelt die verschiedensten Orte in Münster in atemberaubende Konzertlocations. Sichere dir jetzt deine Tickets und erlebe die Musik von Ed Sheeran meets Coldplay im Schein tausender Kerzen! \nGeneral Info\n\n📍 Ort: Friedenskapelle\n⏳ Duration: 60 Minuten. Es ist keine Pause vorgesehen. Einlass ist 30 Minuten vor Beginn des Konzerts. Ein verspäteter Einlass nach Konzertbeginn ist nicht möglich!\n👤 Age requirement: Kein Zutritt unter 8 Jahren. Zutritt unter 16 Jahren nur in Begleitung einer erwachsenen Person\n♿ Accessibility: rollstuhlgerecht\n🪑 Seating: Dir wird automatisch der bestmögliche Sitzplatz in deiner gewählten Preiszone zugewiesen (Bitte beachte: Um mit Freund:innen/Familie zusammensitzen zu können\, sollten alle jeweiligen Tickets während des selben Kaufs (zusammen) erworben werden. Einmal zugewiesene Sitzplätze können hinterher bzw. vor Ort nicht mehr geändert werden!)\n\nProgram\n\nColdplay – Clocks\nColdplay – Something Just Like This\nEd Sheeran – Bad Habits\nColdplay – Adventure of a Lifetime\nColdplay – Fix You\nEd Sheeran – Photograph\nColdplay – The Scientist\nEd Sheeran – Shivers\nEd Sheeran – Perfect\nColdplay – Viva la Vida\nEd Sheeran – Give me love\nColdplay – Sky Full of Stars\n\nPerformers\n🎻 15.03: Lumus Quartet Streichquartett🎻 17.03: Luminor Quartet Streichquartett🎻 24.03: Joker Quartett Streichquartett🎻 25.03: Lumus Quartet Streichquartett🎻 26.03: Lumus Quartet Streichquartett \nBook a Private Event\nLooking to create an unforgettable experience for your wedding\, or special occasion? We offer private event bookings with customized programs tailored to your needs. \nGet a quote
URL:https://www.listeso.com/concert/2026-03-25-friedenskapelle-candlelight-ed-sheeran-meets-coldplay/
LOCATION:Friedenskapelle\, Münster\, Germany
CATEGORIES:Münster
ATTACH;FMTTYPE=image/jpeg:https://www.listeso.com/wp-content/uploads/2026/03/f978ce46-1f76-11f0-a117-a2b54bc7250d-p1LaZX.jpg
END:VEVENT
BEGIN:VEVENT
DTSTART;TZID=Europe/Berlin:20260325T183000
DTEND;TZID=Europe/Berlin:20260325T193000
DTSTAMP:20260425T213706
CREATED:20260314T113527Z
LAST-MODIFIED:20260314T113527Z
UID:10008976-1774463400-1774467000@www.listeso.com
SUMMARY:Candlelight: Ed Sheeran meets Coldplay
DESCRIPTION:Overview\nDas einzigartige Live-Musikerlebnis Candlelight verwandelt die verschiedensten Orte in Augsburg in atemberaubende Konzertlocations. Sichere dir jetzt deine Tickets und erlebe die Musik von Ed Sheeran meets Coldplay im Schein tausender Kerzen! \nHinweis: Wenn du in einer größeren Gruppe kommst\, plane bitte genügend Zeit ein\, um gemeinsam Plätze zu sichern. Wir können nicht garantieren\, dass Gruppen\, die erst kurz vor Konzertbeginn eintreffen\, zusammensitzen können. \nGeneral Info\n\n📍 Ort: Kleiner Goldener Saal\n⏳ Dauer: 60 Minuten. Es ist keine Pause vorgesehen. Einlass ist 30 Minuten vor Beginn des Konzerts. Ein verspäteter Einlass nach Konzertbeginn ist nicht möglich!\n👤 Altersbeschränkung: Kein Zutritt unter 8 Jahren. Zutritt unter 16 Jahren nur in Begleitung einer erwachsenen Person\n♿ Barrierefreiheit: rollstuhlgerecht\n🪑 Sitzplatz: Freie Platzwahl bei der Ankunft innerhalb der gebuchten Zone\n\nVorläufiges Programm\n\nColdplay – Clocks\nColdplay – Something Just Like This\nEd Sheeran – Bad Habits\nColdplay – Adventure of a Lifetime\nColdplay – Fix You\nEd Sheeran – Photograph\nColdplay – The Scientist\nEd Sheeran – Shivers\nEd Sheeran – Perfect\nColdplay – Viva la Vida\nEd Sheeran – Give Me Love\nColdplay – A Sky Full of Stars\n\nPerformers\n🎻 BPM Classic Streichquartett \nBook a Private Event\nLooking to create an unforgettable experience for your wedding\, or special occasion? We offer private event bookings with customized programs tailored to your needs. \nGet a quote
URL:https://www.listeso.com/concert/2026-03-25-kleiner-goldener-saal-candlelight-ed-sheeran-meets-coldplay/
LOCATION:Kleiner Goldener Saal\, Augsburg\, Germany
CATEGORIES:Augsburg, BY
ATTACH;FMTTYPE=image/jpeg:https://www.listeso.com/wp-content/uploads/2026/03/f978ce46-1f76-11f0-a117-a2b54bc7250d-p1LaZX.jpg
END:VEVENT
BEGIN:VEVENT
DTSTART;TZID=Europe/Brussels:20260325T190000
DTEND;TZID=Europe/Brussels:20260325T200000
DTSTAMP:20260425T213706
CREATED:20260314T112208Z
LAST-MODIFIED:20260314T112208Z
UID:10008945-1774465200-1774468800@www.listeso.com
SUMMARY:Candlelight: Een tribute aan Hans Zimmer
DESCRIPTION:Overview\nCandlelight Concerts brengt de magie van livemuziek bij kaarslicht naar wonderbaarlijke locaties in Antwerpen. Koop nu je tickets voor Candlelight: Een tribute aan Hans Zimmer! \nGeneral Info\n\n📍 Locatie: AthenA Zaal\n⏳ Duur: 60 minuten. De deuren openen 60 minuten voor aanvang. Na de start van het concert is toegang niet meer mogelijk\n👤 Minimumleeftijd: 8 jaar en ouder. Alle kinderen jonger dan 16 moeten begeleid worden door een volwassene\n♿ Toegankelijkheid: de zaal is rolstoeltoegankelijk\n🪑 Zitplaatsen: Zitplaatsen worden per zone toegewezen volgens de volgorde van binnenkomst\n\nProgram\n\nPirates of the Caribbean – He’s a Pirate\nPirates of the Caribbean – Suite\nGladiator – Now We Are Free\nThe Last Samurai – Red Warrior\nDune – Medley\nTop Gun – Maverick\nSherlock Holmes – Discombobulate\nThe Lion King – This Land\nBatman Medley\nWonder Woman\nDunkirk – Supermarine\nInception Medley – Dream Is Collapsing\nInception Medley – Time\nInterstellar Medley – Cornfield Chase\nInterstellar Medley – Day One\n\nPerformers\n🎻 Stringkwartet – Audélia \nBook a Private Event\nLooking to create an unforgettable experience for your wedding\, or special occasion? We offer private event bookings with customized programs tailored to your needs. \nGet a quote
URL:https://www.listeso.com/concert/2026-03-25-zaal-athena-een-tribute-aan-hans-zimmer/
LOCATION:Zaal AthenA\, Antwerpen\, Belgium
CATEGORIES:Antwerpen, BE
ATTACH;FMTTYPE=image/jpeg:https://www.listeso.com/wp-content/uploads/2025/10/2cdbbc5e-1396-11f0-ad7f-b60b2ede6686-RTK1XD.jpg
END:VEVENT
END:VCALENDAR