BEGIN:VCALENDAR
VERSION:2.0
PRODID:-//Listeso Music Group - A Boutique String Quartet Agency - ECPv6.15.20//NONSGML v1.0//EN
CALSCALE:GREGORIAN
METHOD:PUBLISH
X-WR-CALNAME:Listeso Music Group - A Boutique String Quartet Agency
X-ORIGINAL-URL:https://www.listeso.com
X-WR-CALDESC:Events for Listeso Music Group - A Boutique String Quartet Agency
REFRESH-INTERVAL;VALUE=DURATION:PT1H
X-Robots-Tag:noindex
X-PUBLISHED-TTL:PT1H
BEGIN:VTIMEZONE
TZID:Europe/Vienna
BEGIN:DAYLIGHT
TZOFFSETFROM:+0100
TZOFFSETTO:+0200
TZNAME:CEST
DTSTART:20250330T010000
END:DAYLIGHT
BEGIN:STANDARD
TZOFFSETFROM:+0200
TZOFFSETTO:+0100
TZNAME:CET
DTSTART:20251026T010000
END:STANDARD
BEGIN:DAYLIGHT
TZOFFSETFROM:+0100
TZOFFSETTO:+0200
TZNAME:CEST
DTSTART:20260329T010000
END:DAYLIGHT
BEGIN:STANDARD
TZOFFSETFROM:+0200
TZOFFSETTO:+0100
TZNAME:CET
DTSTART:20261025T010000
END:STANDARD
BEGIN:DAYLIGHT
TZOFFSETFROM:+0100
TZOFFSETTO:+0200
TZNAME:CEST
DTSTART:20270328T010000
END:DAYLIGHT
BEGIN:STANDARD
TZOFFSETFROM:+0200
TZOFFSETTO:+0100
TZNAME:CET
DTSTART:20271031T010000
END:STANDARD
END:VTIMEZONE
BEGIN:VEVENT
DTSTART;TZID=Europe/Vienna:20260413T180000
DTEND;TZID=Europe/Vienna:20260413T190500
DTSTAMP:20260425T182805
CREATED:20260327T111157Z
LAST-MODIFIED:20260327T111157Z
UID:10010593-1776103200-1776107100@www.listeso.com
SUMMARY:Candlelight: Queen meets ABBA
DESCRIPTION:Overview\nDas einzigartige Live-Musikerlebnis Candlelight verwandelt die verschiedensten Orte in Wien in atemberaubende Konzertlocations. Sichere dir jetzt deine Tickets und erlebe die Musik von Queen meets ABBA im Schein tausender Kerzen! \nGeneral Info\n\n⏳ Duration: 65 Minuten. Es ist keine Pause vorgesehen. Einlass ist 30 Minuten vor Beginn des Konzerts. Ein verspäteter Einlass nach Konzertbeginn ist nicht möglich!\n👤 Age requirement: Kein Zutritt unter 8 Jahren. Zutritt unter 16 Jahren nur in Begleitung einer erwachsenen Person\n♿ Accessibility: rollstuhlgerecht\n🪑 Seating: Freie Platzwahl bei der Ankunft innerhalb der gebuchten Zone\n\nProgram\n\nDancing Queen\nSOS\nMoney\, Money\, Money\nVoulez Vous\nBohemian Rhapsody\nI Want To Break Free\nKiller Queen\nWaterloo\nSuper Trouper\nMamma Mia\nDon’t Stop Me Now\nWe Will Rock You\nWe Are The Champions\n\nPerformers\n🎻 FOS Streichquartett \nBook a Private Event\nLooking to create an unforgettable experience for your wedding\, or special occasion? We offer private event bookings with customized programs tailored to your needs. \nGet a quote
URL:https://www.listeso.com/concert/2026-04-13-hohe-kasematte-im-palais-coburg-queen-meets-abba/
LOCATION:Hohe Kasematte im Palais Coburg\, Wien\, Austria
CATEGORIES:Wien, Austria
ATTACH;FMTTYPE=image/jpeg:https://www.listeso.com/wp-content/uploads/2025/10/898fe864-0a25-11f0-bbae-0a233031e956-cKa8yF.jpg
END:VEVENT
END:VCALENDAR