BEGIN:VCALENDAR
VERSION:2.0
PRODID:-//Listeso Music Group - A Boutique String Quartet Agency - ECPv6.15.20//NONSGML v1.0//EN
CALSCALE:GREGORIAN
METHOD:PUBLISH
X-WR-CALNAME:Listeso Music Group - A Boutique String Quartet Agency
X-ORIGINAL-URL:https://www.listeso.com
X-WR-CALDESC:Events for Listeso Music Group - A Boutique String Quartet Agency
REFRESH-INTERVAL;VALUE=DURATION:PT1H
X-Robots-Tag:noindex
X-PUBLISHED-TTL:PT1H
BEGIN:VTIMEZONE
TZID:Australia/Melbourne
BEGIN:STANDARD
TZOFFSETFROM:+1100
TZOFFSETTO:+1000
TZNAME:AEST
DTSTART:20250405T160000
END:STANDARD
BEGIN:DAYLIGHT
TZOFFSETFROM:+1000
TZOFFSETTO:+1100
TZNAME:AEDT
DTSTART:20251004T160000
END:DAYLIGHT
BEGIN:STANDARD
TZOFFSETFROM:+1100
TZOFFSETTO:+1000
TZNAME:AEST
DTSTART:20260404T160000
END:STANDARD
BEGIN:DAYLIGHT
TZOFFSETFROM:+1000
TZOFFSETTO:+1100
TZNAME:AEDT
DTSTART:20261003T160000
END:DAYLIGHT
BEGIN:STANDARD
TZOFFSETFROM:+1100
TZOFFSETTO:+1000
TZNAME:AEST
DTSTART:20270403T160000
END:STANDARD
BEGIN:DAYLIGHT
TZOFFSETFROM:+1000
TZOFFSETTO:+1100
TZNAME:AEDT
DTSTART:20271002T160000
END:DAYLIGHT
END:VTIMEZONE
BEGIN:VTIMEZONE
TZID:Asia/Singapore
BEGIN:STANDARD
TZOFFSETFROM:+0800
TZOFFSETTO:+0800
TZNAME:+08
DTSTART:20250101T000000
END:STANDARD
END:VTIMEZONE
BEGIN:VEVENT
DTSTART;TZID=Australia/Melbourne:20260422T184500
DTEND;TZID=Australia/Melbourne:20260422T194500
DTSTAMP:20260422T014635
CREATED:20260320T113103Z
LAST-MODIFIED:20260320T113103Z
UID:10009800-1776883500-1776887100@www.listeso.com
SUMMARY:Candlelight: 90s Unplugged
DESCRIPTION:Overview\nCandlelight concerts bring the magic of a live\, multi-sensory musical experience to awe-inspiring locations like never seen before in Melbourne. Get your tickets now to discover the music of 90s Unplugged at Sea Life Melbourne Aquarium under the gentle glow of candlelight. \nGeneral Info\n\n📍 Venue: Sea Life Melbourne Aquarium\n⏳ Duration: 60 minutes. Doors open 30 minutes before the show. No entry once it starts.\n👤 Age requirement: 8 years old or older. Anyone under the age of 16 must be accompanied by an adult\n♿ Accessibility: This venue is wheelchair accessible\n🪑 Seating: Seating is assigned on a first come first served basis in each zone\n\nProgramme\n\nEverlong – Foo Fighters\nDon’t Speak – No Doubt\nZombie – The Cranberries\nIronic – Alanis Morrissette\nWonderwall – Oasis\nHigh and Dry – Radiohead\nEnter Sandman – Metallica\nUnder the Bridge – Red Hot Chili Peppers\nFly Away – Lenny Kravitz\nHallelujah – Jeff Buckley\nTears in Heaven – Eric Clapton\nSmells Like Teen Spirit – Nirvana\n\nPerformers\n🎻 String QuartetEclective Strings – April 22Invictus Quartet – May 13 \nBook a Private Event\nLooking to create an unforgettable experience for your wedding\, or special occasion? We offer private event bookings with customized programs tailored to your needs. \nGet a quote
URL:https://www.listeso.com/concert/2026-04-22-sea-life-melbourne-aquarium-candlelight-90s-unplugged/
LOCATION:Sea Life Melbourne Aquarium\, Melbourne\, Australia
CATEGORIES:Melbourne, VIC
ATTACH;FMTTYPE=image/jpeg:https://www.listeso.com/wp-content/uploads/2025/10/3f0b6124-0f93-11f0-b149-6a3ffe809068-RVcTKs.jpg
END:VEVENT
BEGIN:VEVENT
DTSTART;TZID=Asia/Singapore:20260422T190000
DTEND;TZID=Asia/Singapore:20260422T200500
DTSTAMP:20260422T014635
CREATED:20260324T114437Z
LAST-MODIFIED:20260324T114437Z
UID:10010309-1776884400-1776888300@www.listeso.com
SUMMARY:Candlelight: Tribute to Coldplay on Strings
DESCRIPTION:Overview\nCandlelight concerts bring the magic of a live\, multi-sensory musical experience to awe-inspiring locations like never seen before in Singapore. Get your tickets now to discover the music of Coldplay on Strings at CHIJMES Hall under the gentle glow of candlelight. \nGeneral Info\n\n📍 Venue: CHIJMES Hall\n⏳ Duration: 65 minutes. Doors open 30 minutes before the show and close 5 minutes prior to the start. Late arrivals will not be permitted\n👤 Age requirement: 8 years old or older. Anyone under the age of 16 must be accompanied by an adult\n♿ Accessibility: This venue is wheelchair-accessible\n🪑 Seating: Seating is assigned on a first come first served basis in each zone\n\nProgramme\n\n“Clocks”\n“My Universe”\n“Speed of Sound”\n“Trouble”\n“Fix You”\n“Paradise”\n“Shiver”\n“Yellow”\n“Something Just Like This”\n“The Scientist”\n“A Sky Full of Stars”\n\nPerformers\n🎻 String quartet (2 violins\, 1 viola\, 1 cello) – VOX \nBook a Private Event\nLooking to create an unforgettable experience for your wedding\, or special occasion? We offer private event bookings with customized programs tailored to your needs. \nGet a quote
URL:https://www.listeso.com/concert/2026-04-22-chijmes-hall-candlelight-tribute-to-coldplay-on-strings/
LOCATION:CHIJMES Hall\, Singapore\, Singapore
CATEGORIES:Singapore
ATTACH;FMTTYPE=image/jpeg:https://www.listeso.com/wp-content/uploads/2025/10/2226d752-139c-11f0-a13b-a290fe7a90ab-2Nh73K.jpg
END:VEVENT
END:VCALENDAR