BEGIN:VCALENDAR
VERSION:2.0
PRODID:-//Listeso Music Group - A Boutique String Quartet Agency - ECPv6.15.20//NONSGML v1.0//EN
CALSCALE:GREGORIAN
METHOD:PUBLISH
X-WR-CALNAME:Listeso Music Group - A Boutique String Quartet Agency
X-ORIGINAL-URL:https://www.listeso.com
X-WR-CALDESC:Events for Listeso Music Group - A Boutique String Quartet Agency
REFRESH-INTERVAL;VALUE=DURATION:PT1H
X-Robots-Tag:noindex
X-PUBLISHED-TTL:PT1H
BEGIN:VTIMEZONE
TZID:Europe/Berlin
BEGIN:DAYLIGHT
TZOFFSETFROM:+0100
TZOFFSETTO:+0200
TZNAME:CEST
DTSTART:20250330T010000
END:DAYLIGHT
BEGIN:STANDARD
TZOFFSETFROM:+0200
TZOFFSETTO:+0100
TZNAME:CET
DTSTART:20251026T010000
END:STANDARD
BEGIN:DAYLIGHT
TZOFFSETFROM:+0100
TZOFFSETTO:+0200
TZNAME:CEST
DTSTART:20260329T010000
END:DAYLIGHT
BEGIN:STANDARD
TZOFFSETFROM:+0200
TZOFFSETTO:+0100
TZNAME:CET
DTSTART:20261025T010000
END:STANDARD
BEGIN:DAYLIGHT
TZOFFSETFROM:+0100
TZOFFSETTO:+0200
TZNAME:CEST
DTSTART:20270328T010000
END:DAYLIGHT
BEGIN:STANDARD
TZOFFSETFROM:+0200
TZOFFSETTO:+0100
TZNAME:CET
DTSTART:20271031T010000
END:STANDARD
END:VTIMEZONE
BEGIN:VTIMEZONE
TZID:Australia/Melbourne
BEGIN:STANDARD
TZOFFSETFROM:+1100
TZOFFSETTO:+1000
TZNAME:AEST
DTSTART:20250405T160000
END:STANDARD
BEGIN:DAYLIGHT
TZOFFSETFROM:+1000
TZOFFSETTO:+1100
TZNAME:AEDT
DTSTART:20251004T160000
END:DAYLIGHT
BEGIN:STANDARD
TZOFFSETFROM:+1100
TZOFFSETTO:+1000
TZNAME:AEST
DTSTART:20260404T160000
END:STANDARD
BEGIN:DAYLIGHT
TZOFFSETFROM:+1000
TZOFFSETTO:+1100
TZNAME:AEDT
DTSTART:20261003T160000
END:DAYLIGHT
BEGIN:STANDARD
TZOFFSETFROM:+1100
TZOFFSETTO:+1000
TZNAME:AEST
DTSTART:20270403T160000
END:STANDARD
BEGIN:DAYLIGHT
TZOFFSETFROM:+1000
TZOFFSETTO:+1100
TZNAME:AEDT
DTSTART:20271002T160000
END:DAYLIGHT
END:VTIMEZONE
BEGIN:VEVENT
DTSTART;TZID=Europe/Berlin:20260513T180000
DTEND;TZID=Europe/Berlin:20260513T190500
DTSTAMP:20260425T215310
CREATED:20260316T111609Z
LAST-MODIFIED:20260316T111609Z
UID:10009263-1778695200-1778699100@www.listeso.com
SUMMARY:Candlelight Rock: AC/DC\, Pink Floyd\, Red Hot Chili Peppers & mehr
DESCRIPTION:Overview\nDas einzigartige Live-Musikerlebnis Candlelight verwandelt die verschiedensten Orte in Köln in atemberaubende Konzertlocations. Sichere dir jetzt deine Tickets und erlebe die größten Rock Klassiker im Schein tausender Kerzen! \nGeneral Info\n\n📍 Ort: Residenz Kino\n⏳ Dauer: 65 Minuten. Es ist keine Pause vorgesehen. Einlass ist 30 Minuten vor Beginn des Konzerts. Ein verspäteter Einlass nach Konzertbeginn ist nicht möglich!\n👤 Altersbeschränkung: Kein Zutritt unter 8 Jahren. Zutritt unter 16 Jahren nur in Begleitung einer erwachsenen Person\n♿ Barrierefreiheit: rollstuhlgerecht\n🪑 Sitzplätze: Dir wird automatisch der bestmögliche Sitzplatz in deiner gewählten Preiszone zugewiesen. Um mit Freund:innen/Familie zusammensitzen zu können\, sollten alle jeweiligen Tickets während des selben Kaufs (zusammen) erworben werden. Einmal zugewiesene Sitzplätze können hinterher bzw. vor Ort nicht mehr geändert werden!\n\nProgramm\n\nNothing Else Matters – Metallica\nSpace Oddity – David Bowie\nCryin’ – Aerosmith\nSmoke on the Water – Deep Purple\nCome As You Are – Nirvana\nPaint It Black – The Rolling Stones\nEverlong – Foo Fighters\nUnder the Bridge – Red Hot Chili Peppers\nKashmir – Led Zeppelin\nWith or Without You – U2\nWish You Were Here – Pink Floyd\nThunderstruck – AC/DC\n\nKünstler:innen\n🎻 9. Januar: Es spielt das Azurro Streichquartett🎻 29. Januar: Es spielt das Chyl Streichquartett🎻 31. Januar: Es spielt das Azurro Streichquartett \nBook a Private Event\nLooking to create an unforgettable experience for your wedding\, or special occasion? We offer private event bookings with customized programs tailored to your needs. \nGet a quote
URL:https://www.listeso.com/concert/2026-05-13-residenz-kino-candlelight-rock-ac-dc-pink-floyd-red-hot-chili-peppers-mehr/
LOCATION:Residenz Kino\, Köln\, Germany
CATEGORIES:Köln, NRW
ATTACH;FMTTYPE=image/jpeg:https://www.listeso.com/wp-content/uploads/2025/10/50cea074-1aa1-11f0-99f6-2e70bd7ed5db-EVCdb9.jpg
END:VEVENT
BEGIN:VEVENT
DTSTART;TZID=Australia/Melbourne:20260513T184500
DTEND;TZID=Australia/Melbourne:20260513T194500
DTSTAMP:20260425T215310
CREATED:20260320T113348Z
LAST-MODIFIED:20260320T113348Z
UID:10009807-1778697900-1778701500@www.listeso.com
SUMMARY:Candlelight: 90s Unplugged
DESCRIPTION:Overview\nCandlelight concerts bring the magic of a live\, multi-sensory musical experience to awe-inspiring locations like never seen before in Melbourne. Get your tickets now to discover the music of 90s Unplugged at Sea Life Melbourne Aquarium under the gentle glow of candlelight. \nGeneral Info\n\n📍 Venue: Sea Life Melbourne Aquarium\n⏳ Duration: 60 minutes. Doors open 30 minutes before the show. No entry once it starts.\n👤 Age requirement: 8 years old or older. Anyone under the age of 16 must be accompanied by an adult\n♿ Accessibility: This venue is wheelchair accessible\n🪑 Seating: Seating is assigned on a first come first served basis in each zone\n\nProgramme\n\nEverlong – Foo Fighters\nDon’t Speak – No Doubt\nZombie – The Cranberries\nIronic – Alanis Morrissette\nWonderwall – Oasis\nHigh and Dry – Radiohead\nEnter Sandman – Metallica\nUnder the Bridge – Red Hot Chili Peppers\nFly Away – Lenny Kravitz\nHallelujah – Jeff Buckley\nTears in Heaven – Eric Clapton\nSmells Like Teen Spirit – Nirvana\n\nPerformers\n🎻 Invictus Quartet \nBook a Private Event\nLooking to create an unforgettable experience for your wedding\, or special occasion? We offer private event bookings with customized programs tailored to your needs. \nGet a quote
URL:https://www.listeso.com/concert/2026-05-13-sea-life-melbourne-aquarium-90s-unplugged/
LOCATION:Sea Life Melbourne Aquarium\, Melbourne\, Australia
CATEGORIES:Melbourne, VIC
ATTACH;FMTTYPE=image/jpeg:https://www.listeso.com/wp-content/uploads/2025/10/3f0b6124-0f93-11f0-b149-6a3ffe809068-RVcTKs.jpg
END:VEVENT
END:VCALENDAR