BEGIN:VCALENDAR
VERSION:2.0
PRODID:-//Listeso Music Group - A Boutique String Quartet Agency - ECPv6.15.20//NONSGML v1.0//EN
CALSCALE:GREGORIAN
METHOD:PUBLISH
X-WR-CALNAME:Listeso Music Group - A Boutique String Quartet Agency
X-ORIGINAL-URL:https://www.listeso.com
X-WR-CALDESC:Events for Listeso Music Group - A Boutique String Quartet Agency
REFRESH-INTERVAL;VALUE=DURATION:PT1H
X-Robots-Tag:noindex
X-PUBLISHED-TTL:PT1H
BEGIN:VTIMEZONE
TZID:America/Anchorage
BEGIN:DAYLIGHT
TZOFFSETFROM:-0900
TZOFFSETTO:-0800
TZNAME:AKDT
DTSTART:20250309T110000
END:DAYLIGHT
BEGIN:STANDARD
TZOFFSETFROM:-0800
TZOFFSETTO:-0900
TZNAME:AKST
DTSTART:20251102T100000
END:STANDARD
BEGIN:DAYLIGHT
TZOFFSETFROM:-0900
TZOFFSETTO:-0800
TZNAME:AKDT
DTSTART:20260308T110000
END:DAYLIGHT
BEGIN:STANDARD
TZOFFSETFROM:-0800
TZOFFSETTO:-0900
TZNAME:AKST
DTSTART:20261101T100000
END:STANDARD
BEGIN:DAYLIGHT
TZOFFSETFROM:-0900
TZOFFSETTO:-0800
TZNAME:AKDT
DTSTART:20270314T110000
END:DAYLIGHT
BEGIN:STANDARD
TZOFFSETFROM:-0800
TZOFFSETTO:-0900
TZNAME:AKST
DTSTART:20271107T100000
END:STANDARD
END:VTIMEZONE
BEGIN:VEVENT
DTSTART;TZID=America/Anchorage:20260412T160000
DTEND;TZID=America/Anchorage:20260412T170000
DTSTAMP:20260421T050348
CREATED:20260223T155218Z
LAST-MODIFIED:20260223T155218Z
UID:10007756-1776009600-1776013200@www.listeso.com
SUMMARY:Candlelight: Coldplay & Imagine Dragons
DESCRIPTION:Overview\nCandlelight concerts bring the magic of a live\, multi-sensory musical experience to awe-inspiring locations like never seen before in Anchorage. Get your tickets now to discover the music of Coldplay & Imagine Dragons at 49th State Brewing – Anchorage under the gentle glow of candlelight. \nGeneral Info\n\n📍 Venue: 49th State Brewing – Anchorage\n⏳ Duration: 60 minutes. Doors open 60 minutes before the show. No entry once it starts.\n👤 Age requirement: 8 years old or older. Anyone under the age of 16 must be accompanied by an adult\n♿ Accessibility: The venue is fully accessible.\n🪑 Seating: Seating is assigned on a first come first served basis in each zone\n\nTentative Program\n\nColdplay – Clocks\nColdplay – Something Just Like This\nImagine Dragons – Radioactive\nColdplay – Adventure of a Lifetime\nColdplay – Fix You\nImagine Dragons – Eyes Closed\nImagine Dragons – Nice to Meet You\nColdplay – The Scientist\nImagine Dragons – Follow You\nImagine Dragons – Bad Liar\nColdplay – Viva la Vida\nImagine Dragons – Believer\nColdplay – Sky Full of Stars\n\nPerformers\n🎻 Listeso String Quartet \nBook a Private Event\nLooking to create an unforgettable experience for your wedding\, or special occasion? We offer private event bookings with customized programs tailored to your needs. \nGet a quote
URL:https://www.listeso.com/concert/2026-04-12-49th-state-brewing-anchorage-coldplay-imagine-dragons/
LOCATION:49th State Brewing – Anchorage\, Anchorage\, AK\, United States
CATEGORIES:Anchorage, AK
ATTACH;FMTTYPE=image/jpeg:https://www.listeso.com/wp-content/uploads/2025/10/53777c04-1157-11f0-bc63-0ee885ccc32f-5sEo1f.jpg
END:VEVENT
BEGIN:VEVENT
DTSTART;TZID=America/Anchorage:20260412T183000
DTEND;TZID=America/Anchorage:20260412T193000
DTSTAMP:20260421T050348
CREATED:20260223T155205Z
LAST-MODIFIED:20260223T155205Z
UID:10007755-1776018600-1776022200@www.listeso.com
SUMMARY:Candlelight: Tribute to Queen vs. ABBA
DESCRIPTION:Overview\nCandlelight concerts bring the magic of a live\, multi-sensory musical experience to awe-inspiring locations like never seen before in Anchorage. Get your tickets now to discover the music of Queen vs. ABBA at 49th State Brewing – Anchorage under the gentle glow of candlelight. \nGeneral Info\n\n⏳ Duration: 60 minutes. Doors open 60 minutes before the show. No entry once it starts.\n👤 Age requirement: 8 years old or older. Anyone under the age of 16 must be accompanied by an adult\n♿ Accessibility: the venue is ADA-compliant\n🪑 Seating: Seating is assigned on a first come first served basis in each zone\n\nTentative Program\n\nDancing Queen\nSOS\nMoney\, Money\, Money\nVoulez Vous\nBohemian Rhapsody\nI Want to Break Free\nKiller Queen\nWaterloo\nSuper Trouper\nMamma Mia\nDon’t Stop Me Now\nWe Will Rock You\nWe Are the Champions\nGimme Gimme Gimme\n\nPerformers\n🎻 Listeso String Quartet \nBook a Private Event\nLooking to create an unforgettable experience for your wedding\, or special occasion? We offer private event bookings with customized programs tailored to your needs. \nGet a quote
URL:https://www.listeso.com/concert/2026-04-12-49th-state-brewing-anchorage-candlelight-tribute-to-queen-vs-abba/
LOCATION:49th State Brewing – Anchorage\, Anchorage\, AK\, United States
CATEGORIES:Anchorage, AK
ATTACH;FMTTYPE=image/jpeg:https://www.listeso.com/wp-content/uploads/2025/10/ad60b410-1945-11f0-bf40-961efeb2b763-xrNulH.jpg
END:VEVENT
END:VCALENDAR